BEGIN:VCALENDAR
VERSION:2.0
PRODID:-//Center for Global Law and Justice | Resource Hub - ECPv6.15.17.1//NONSGML v1.0//EN
CALSCALE:GREGORIAN
METHOD:PUBLISH
X-ORIGINAL-URL:https://cglj.org
X-WR-CALDESC:Events for Center for Global Law and Justice | Resource Hub
REFRESH-INTERVAL;VALUE=DURATION:PT1H
X-Robots-Tag:noindex
X-PUBLISHED-TTL:PT1H
BEGIN:VTIMEZONE
TZID:America/Denver
BEGIN:DAYLIGHT
TZOFFSETFROM:-0700
TZOFFSETTO:-0600
TZNAME:MDT
DTSTART:20240310T090000
END:DAYLIGHT
BEGIN:STANDARD
TZOFFSETFROM:-0600
TZOFFSETTO:-0700
TZNAME:MST
DTSTART:20241103T080000
END:STANDARD
BEGIN:DAYLIGHT
TZOFFSETFROM:-0700
TZOFFSETTO:-0600
TZNAME:MDT
DTSTART:20250309T090000
END:DAYLIGHT
BEGIN:STANDARD
TZOFFSETFROM:-0600
TZOFFSETTO:-0700
TZNAME:MST
DTSTART:20251102T080000
END:STANDARD
BEGIN:DAYLIGHT
TZOFFSETFROM:-0700
TZOFFSETTO:-0600
TZNAME:MDT
DTSTART:20260308T090000
END:DAYLIGHT
BEGIN:STANDARD
TZOFFSETFROM:-0600
TZOFFSETTO:-0700
TZNAME:MST
DTSTART:20261101T080000
END:STANDARD
BEGIN:DAYLIGHT
TZOFFSETFROM:-0700
TZOFFSETTO:-0600
TZNAME:MDT
DTSTART:20270314T090000
END:DAYLIGHT
BEGIN:STANDARD
TZOFFSETFROM:-0600
TZOFFSETTO:-0700
TZNAME:MST
DTSTART:20271107T080000
END:STANDARD
END:VTIMEZONE
BEGIN:VEVENT
DTSTART;VALUE=DATE:20260316
DTEND;VALUE=DATE:20260328
DTSTAMP:20260424T015914
CREATED:20260302T143810Z
LAST-MODIFIED:20260302T144012Z
UID:10002450-1773619200-1774655999@cglj.org
SUMMARY:Visit to Brazil\, UN WG on Migrants
DESCRIPTION:The UN Special Rapporteur on Migrants is scheduled to visit Brazil March 16 to 27. \n.
URL:https://cglj.org/event/visit-to-colombia-un-wg-on-migrants/
LOCATION:Colombia\, Colombia
CATEGORIES:Country Visits
END:VEVENT
BEGIN:VEVENT
DTSTART;VALUE=DATE:20260316
DTEND;VALUE=DATE:20260328
DTSTAMP:20260424T015914
CREATED:20250924T133340Z
LAST-MODIFIED:20250924T133340Z
UID:10002257-1773619200-1774655999@cglj.org
SUMMARY:Visit to Colombia\, UN WG on the use of mercenaries
DESCRIPTION:The UN Working Group on the use of mercenaries will visit Colombia.
URL:https://cglj.org/event/visit-to-colombia-un-wg-on-the-use-of-mercenaries/
LOCATION:Colombia\, Colombia
CATEGORIES:Country Visits
END:VEVENT
BEGIN:VEVENT
DTSTART;VALUE=DATE:20251107
DTEND;VALUE=DATE:20251108
DTSTAMP:20260424T015914
CREATED:20251014T181329Z
LAST-MODIFIED:20251014T181329Z
UID:10002276-1762473600-1762559999@cglj.org
SUMMARY:Call for Input\, UN SR on the situation of human rights in the Democratic People’s Republic of Korea (DPRK)
DESCRIPTION:The UN Special Rapporteur on the situation of human rights in the Democratic People’s Republic of Korea (DPRK) has issued a call for input to inform her upcoming report on the progress in implementation of recommendations made to the Democratic People’s Republic of Korea during the third and fourth cycle of the universal periodic review of the Human Rights Council. She will present this report to the UN Human Rights Council in March 2026.
URL:https://cglj.org/event/call-for-input-un-sr-on-the-situation-of-human-rights-in-the-democratic-peoples-republic-of-korea-dprk/
LOCATION:Colombia\, Colombia
CATEGORIES:Deadline
END:VEVENT
BEGIN:VEVENT
DTSTART;VALUE=DATE:20251031
DTEND;VALUE=DATE:20251101
DTSTAMP:20260424T015914
CREATED:20251014T180653Z
LAST-MODIFIED:20251014T180653Z
UID:10002275-1761868800-1761955199@cglj.org
SUMMARY:Call for Input\, UN SR on the sale and sexual exploitation of children
DESCRIPTION:The UN Special Rapporteur on the sale and sexual exploitation of children has issued a call for input to inform her final report to the UN Human Rights Council in February-March 2026. “The report will focus on an overview of the main developments relating to the mandate and new patterns of sale\, sexual exploitation and sexual abuse of children with a view to developing ideas and recommendations for taking the mandate forward and effectively combatting the phenomenon.” While the Special Rapporteur welcomes all submissions\, she has outlined in the call for input some specific questions she’s looking to receive information on.
URL:https://cglj.org/event/call-for-input-un-sr-on-the-sale-and-sexual-exploitation-of-children/
LOCATION:Colombia\, Colombia
CATEGORIES:Deadline
END:VEVENT
BEGIN:VEVENT
DTSTART;VALUE=DATE:20251031
DTEND;VALUE=DATE:20251101
DTSTAMP:20260424T015914
CREATED:20251014T175613Z
LAST-MODIFIED:20251014T175727Z
UID:10002274-1761868800-1761955199@cglj.org
SUMMARY:Call for Input\, UN SR on the rights of persons with disabilities
DESCRIPTION:The UN Special Rapporteur on the rights of persons with disabilities has issued a call for input to inform a report on equal participation of persons with disabilities in political life. The Special Rapporteur will present this report to the UN Human Rights Council in March 2026.
URL:https://cglj.org/event/call-for-input-un-sr-on-the-rights-of-persons-with-disabilities/
LOCATION:Colombia\, Colombia
CATEGORIES:Deadline
END:VEVENT
BEGIN:VEVENT
DTSTART;VALUE=DATE:20250714
DTEND;VALUE=DATE:20250726
DTSTAMP:20260424T015914
CREATED:20250812T172259Z
LAST-MODIFIED:20250812T172259Z
UID:10002157-1752451200-1753487999@cglj.org
SUMMARY:Visit to Colombia\, UN SR on the rights of persons with disabilities
DESCRIPTION:The UN Special Rapporteur on the rights of persons with disabilities will visit Colombia.  She will present her full report to the UN Human Rights Council in March 2026.
URL:https://cglj.org/event/visit-to-colombia-un-sr-on-the-rights-of-persons-with-disabilities/
LOCATION:Colombia\, Colombia
CATEGORIES:Country Visits
END:VEVENT
BEGIN:VEVENT
DTSTART;VALUE=DATE:20250519
DTEND;VALUE=DATE:20250531
DTSTAMP:20260424T015914
CREATED:20250814T204815Z
LAST-MODIFIED:20250814T204815Z
UID:10002185-1747612800-1748649599@cglj.org
SUMMARY:Visit to Colombia\, UN IE on sexual orientation and gender identity
DESCRIPTION:The UN Independent Expert on protection against violence and discrimination based on sexual orientation and gender identity will visit Colombia.  He will present his full report to the UN Human Rights Council in June 2026.
URL:https://cglj.org/event/visit-to-colombia-un-ie-on-sexual-orientation-and-gender-identity/
LOCATION:Colombia\, Colombia
CATEGORIES:Country Visits
END:VEVENT
END:VCALENDAR