BEGIN:VCALENDAR
VERSION:2.0
PRODID:-//Center for Global Law and Justice | Resource Hub - ECPv6.15.17.1//NONSGML v1.0//EN
CALSCALE:GREGORIAN
METHOD:PUBLISH
X-ORIGINAL-URL:https://cglj.org
X-WR-CALDESC:Events for Center for Global Law and Justice | Resource Hub
REFRESH-INTERVAL;VALUE=DURATION:PT1H
X-Robots-Tag:noindex
X-PUBLISHED-TTL:PT1H
BEGIN:VTIMEZONE
TZID:America/Denver
BEGIN:DAYLIGHT
TZOFFSETFROM:-0700
TZOFFSETTO:-0600
TZNAME:MDT
DTSTART:20240310T090000
END:DAYLIGHT
BEGIN:STANDARD
TZOFFSETFROM:-0600
TZOFFSETTO:-0700
TZNAME:MST
DTSTART:20241103T080000
END:STANDARD
BEGIN:DAYLIGHT
TZOFFSETFROM:-0700
TZOFFSETTO:-0600
TZNAME:MDT
DTSTART:20250309T090000
END:DAYLIGHT
BEGIN:STANDARD
TZOFFSETFROM:-0600
TZOFFSETTO:-0700
TZNAME:MST
DTSTART:20251102T080000
END:STANDARD
BEGIN:DAYLIGHT
TZOFFSETFROM:-0700
TZOFFSETTO:-0600
TZNAME:MDT
DTSTART:20260308T090000
END:DAYLIGHT
BEGIN:STANDARD
TZOFFSETFROM:-0600
TZOFFSETTO:-0700
TZNAME:MST
DTSTART:20261101T080000
END:STANDARD
END:VTIMEZONE
BEGIN:VEVENT
DTSTART;VALUE=DATE:20250616
DTEND;VALUE=DATE:20250709
DTSTAMP:20260422T213317
CREATED:20250605T151917Z
LAST-MODIFIED:20250711T205001Z
UID:10001169-1750032000-1752019199@cglj.org
SUMMARY:Human Rights Council 59
DESCRIPTION:The UN Human Rights Council is holding its 59th regular session from June 16 to July 8\, in Geneva\, Switzerland.
URL:https://cglj.org/event/human-rights-council-59/
CATEGORIES:Mechanism Session (Public)
END:VEVENT
BEGIN:VEVENT
DTSTART;VALUE=DATE:20250706
DTEND;VALUE=DATE:20250707
DTSTAMP:20260422T213317
CREATED:20250812T202905Z
LAST-MODIFIED:20250814T152217Z
UID:10002162-1751760000-1751846399@cglj.org
SUMMARY:Call for Input\, UN IE on international solidarity
DESCRIPTION:The UN Independent Expert on human rights and international solidarity has issued a call for input to inform the Independent Expert’s report on corporations and international solidarity to be presented to the 80th session of the UN General Assembly.
URL:https://cglj.org/event/call-for-input-un-ie-on-international-solidarity-2/
CATEGORIES:Deadline
END:VEVENT
BEGIN:VEVENT
DTSTART;VALUE=DATE:20250714
DTEND;VALUE=DATE:20250726
DTSTAMP:20260422T213317
CREATED:20250812T172259Z
LAST-MODIFIED:20250812T172259Z
UID:10002157-1752451200-1753487999@cglj.org
SUMMARY:Visit to Colombia\, UN SR on the rights of persons with disabilities
DESCRIPTION:The UN Special Rapporteur on the rights of persons with disabilities will visit Colombia.  She will present her full report to the UN Human Rights Council in March 2026.
URL:https://cglj.org/event/visit-to-colombia-un-sr-on-the-rights-of-persons-with-disabilities/
LOCATION:Colombia\, Colombia
CATEGORIES:Country Visits
END:VEVENT
BEGIN:VEVENT
DTSTART;VALUE=DATE:20250715
DTEND;VALUE=DATE:20250716
DTSTAMP:20260422T213317
CREATED:20250814T200027Z
LAST-MODIFIED:20250814T200243Z
UID:10002181-1752537600-1752623999@cglj.org
SUMMARY:Call for Input\, UN SR on racism
DESCRIPTION:The UN Special Rapporteur on contemporary forms of racism has issued a call for input to inform her thematic report on conflict and racial discrimination\, which will be presented to the 80th session of the UN General Assembly.
URL:https://cglj.org/event/call-for-input-un-sr-on-racism-2/
CATEGORIES:Deadline
END:VEVENT
BEGIN:VEVENT
DTSTART;VALUE=DATE:20250715
DTEND;VALUE=DATE:20250716
DTSTAMP:20260422T213317
CREATED:20250818T160751Z
LAST-MODIFIED:20250818T164444Z
UID:10002209-1752537600-1752623999@cglj.org
SUMMARY:Call for Input\, UN SR on Palestine
DESCRIPTION:The UN Special Rapporteur on on the situation of human rights in the Palestinian territories occupied since 1967 has issued a call for input to inform her thematic report following up on how States have responded to the July 2024 Advisory Opinion of the International Court of Justice (ICJ) on the Legal Consequences arising from the Policies and Practices of Israel in the Occupied Palestinian Territory and to the September 2024 UN General Assembly Resolution on Israel’s occupation of the Gaza Strip. This report will be presented to the 80th session of the UN General Assembly.
URL:https://cglj.org/event/call-for-input-un-sr-on-palestine/
CATEGORIES:Deadline
END:VEVENT
BEGIN:VEVENT
DTSTART;VALUE=DATE:20250715
DTEND;VALUE=DATE:20250726
DTSTAMP:20260422T213317
CREATED:20250815T201444Z
LAST-MODIFIED:20250815T201444Z
UID:10002194-1752537600-1753487999@cglj.org
SUMMARY:Visit to Democratic Republic of Congo\, UN SR on trafficking in persons
DESCRIPTION:The UN Special Rapporteur on trafficking in persons will visit the Democratic Republic of Congo. She will present her full report to the UN Human Rights Council in June 2026.
URL:https://cglj.org/event/visit-to-democratic-republic-of-congo-un-sr-on-trafficking-in-persons/
LOCATION:DRC\, Congo\, Democratic Republic of the
CATEGORIES:Country Visits
END:VEVENT
BEGIN:VEVENT
DTSTART;VALUE=DATE:20250718
DTEND;VALUE=DATE:20250719
DTSTAMP:20260422T213317
CREATED:20250527T155552Z
LAST-MODIFIED:20250723T013710Z
UID:10000380-1752796800-1752883199@cglj.org
SUMMARY:Nelson Mandela Day
DESCRIPTION:Nelson Mandela International Day is observed on July 18.
URL:https://cglj.org/event/nelson-mandela-day/2025-07-18/
CATEGORIES:Social & Cultural Events
END:VEVENT
BEGIN:VEVENT
DTSTART;VALUE=DATE:20250728
DTEND;VALUE=DATE:20250809
DTSTAMP:20260422T213317
CREATED:20250724T150817Z
LAST-MODIFIED:20250815T214148Z
UID:10001651-1753660800-1754697599@cglj.org
SUMMARY:Visit to Zimbabwe\, UN WG on discrimination against women and girls
DESCRIPTION:The UN Working Group on discrimination against women and girls will visit Zimbabwe. The Working Group will present a full report of its findings to the Human Rights Council in June 2026.
URL:https://cglj.org/event/visit-to-zimbabwe-un-wg-on-discrimination-against-women-and-girls/
LOCATION:Zimbabwe
CATEGORIES:Country Visits
END:VEVENT
BEGIN:VEVENT
DTSTART;VALUE=DATE:20250730
DTEND;VALUE=DATE:20250731
DTSTAMP:20260422T213317
CREATED:20250527T155605Z
LAST-MODIFIED:20250723T013655Z
UID:10000970-1753833600-1753919999@cglj.org
SUMMARY:World Day against Trafficking
DESCRIPTION:The United Nations World Day against Trafficking in Persons is commemorated annually on July 30th.
URL:https://cglj.org/event/world-day-against-trafficking/2025-07-30/
CATEGORIES:Social & Cultural Events
END:VEVENT
END:VCALENDAR