BEGIN:VCALENDAR
VERSION:2.0
PRODID:-//Center for Global Law and Justice | Resource Hub - ECPv6.15.17.1//NONSGML v1.0//EN
CALSCALE:GREGORIAN
METHOD:PUBLISH
X-ORIGINAL-URL:https://cglj.org
X-WR-CALDESC:Events for Center for Global Law and Justice | Resource Hub
REFRESH-INTERVAL;VALUE=DURATION:PT1H
X-Robots-Tag:noindex
X-PUBLISHED-TTL:PT1H
BEGIN:VTIMEZONE
TZID:America/Denver
BEGIN:DAYLIGHT
TZOFFSETFROM:-0700
TZOFFSETTO:-0600
TZNAME:MDT
DTSTART:20240310T090000
END:DAYLIGHT
BEGIN:STANDARD
TZOFFSETFROM:-0600
TZOFFSETTO:-0700
TZNAME:MST
DTSTART:20241103T080000
END:STANDARD
BEGIN:DAYLIGHT
TZOFFSETFROM:-0700
TZOFFSETTO:-0600
TZNAME:MDT
DTSTART:20250309T090000
END:DAYLIGHT
BEGIN:STANDARD
TZOFFSETFROM:-0600
TZOFFSETTO:-0700
TZNAME:MST
DTSTART:20251102T080000
END:STANDARD
BEGIN:DAYLIGHT
TZOFFSETFROM:-0700
TZOFFSETTO:-0600
TZNAME:MDT
DTSTART:20260308T090000
END:DAYLIGHT
BEGIN:STANDARD
TZOFFSETFROM:-0600
TZOFFSETTO:-0700
TZNAME:MST
DTSTART:20261101T080000
END:STANDARD
END:VTIMEZONE
BEGIN:VEVENT
DTSTART;VALUE=DATE:20250601
DTEND;VALUE=DATE:20250602
DTSTAMP:20260422T182209
CREATED:20250815T192636Z
LAST-MODIFIED:20250815T193118Z
UID:10002189-1748736000-1748822399@cglj.org
SUMMARY:Call for Input\, UN SR on counter-terrorism and human rights
DESCRIPTION:The UN Special Rapporteur on counter-terrorism and human rights has issued a call for input to inform a thematic report on the human rights impacts of “administrative measures” to counter terrorism and (violent) extremism.” This report will be presented to the 80th session of the UN General Assembly.
URL:https://cglj.org/event/call-for-input-un-sr-on-counter-terrorism-and-human-rights/
CATEGORIES:Deadline
END:VEVENT
BEGIN:VEVENT
DTSTART;VALUE=DATE:20250602
DTEND;VALUE=DATE:20250612
DTSTAMP:20260422T182209
CREATED:20250926T153133Z
LAST-MODIFIED:20250926T153133Z
UID:10002268-1748822400-1749686399@cglj.org
SUMMARY:**POSTPONED** Visit to Republic of Korea\, UN WG on enforced or involuntary disappearances
DESCRIPTION:The UN Working Group on enforced or involuntary disappearances was scheduled to visit the Republic of Korea from June 2 to 11\, but due to the current budget liquidity crisis at the UN\, this visit has been postponed.
URL:https://cglj.org/event/postponed-visit-to-republic-of-korea-un-wg-on-enforced-or-involuntary-disappearances/
LOCATION:Republic of Korea\, Korea\, Republic of
CATEGORIES:Country Visits
END:VEVENT
BEGIN:VEVENT
DTSTART;VALUE=DATE:20250603
DTEND;VALUE=DATE:20250604
DTSTAMP:20260422T182209
CREATED:20250814T203146Z
LAST-MODIFIED:20250814T203146Z
UID:10002183-1748908800-1748995199@cglj.org
SUMMARY:Call for Input\, UN SR on the sale\, and sexual exploitation and abuse of children
DESCRIPTION:The UN Special Rapporteur on the sale\, sexual exploitation and sexual abuse of children has issued a call for input to inform the Special Rapporteur’s thematic report focused on responding to the issue of sexual exploitation of children in street situations\, to be presented to the 80th session of the UN General Assembly.
URL:https://cglj.org/event/call-for-input-un-sr-on-the-sale-and-sexual-exploitation-and-abuse-of-children/
CATEGORIES:Deadline
END:VEVENT
BEGIN:VEVENT
DTSTART;VALUE=DATE:20250608
DTEND;VALUE=DATE:20250609
DTSTAMP:20260422T182209
CREATED:20250527T155549Z
LAST-MODIFIED:20250723T013930Z
UID:10000300-1749340800-1749427199@cglj.org
SUMMARY:World Oceans Day
DESCRIPTION:World Oceans Day is observed on June 8.
URL:https://cglj.org/event/world-oceans-day/2025-06-08/
CATEGORIES:Social & Cultural Events
END:VEVENT
BEGIN:VEVENT
DTSTART;VALUE=DATE:20250610
DTEND;VALUE=DATE:20250611
DTSTAMP:20260422T182209
CREATED:20250814T143154Z
LAST-MODIFIED:20250814T143635Z
UID:10002166-1749513600-1749599999@cglj.org
SUMMARY:Call for Input\, UN SR on the rights of migrants
DESCRIPTION:The UN Special Rapporteur on the human rights of migrants has issued a call for input to inform the Special Rapporteur’s thematic report on efforts to externalize migration (i.e.\, efforts to prevent migration by carrying out administrative processes outside national borders\, and facilitate return of migrants through the involvement of third countries)\, which will be presented to the 80th session of the UN General Assembly.
URL:https://cglj.org/event/call-for-input-un-sr-on-the-rights-of-migrants/
CATEGORIES:Deadline
END:VEVENT
BEGIN:VEVENT
DTSTART;VALUE=DATE:20250612
DTEND;VALUE=DATE:20250613
DTSTAMP:20260422T182209
CREATED:20250527T155552Z
LAST-MODIFIED:20250723T013928Z
UID:10000252-1749686400-1749772799@cglj.org
SUMMARY:Day Against Child Labour
DESCRIPTION:World Day Against Child Labour is observed on June 12.
URL:https://cglj.org/event/day-against-child-labour/2025-06-12/
CATEGORIES:Social & Cultural Events
END:VEVENT
BEGIN:VEVENT
DTSTART;VALUE=DATE:20250616
DTEND;VALUE=DATE:20250627
DTSTAMP:20260422T182209
CREATED:20250924T145404Z
LAST-MODIFIED:20250924T145404Z
UID:10002263-1750032000-1750982399@cglj.org
SUMMARY:**POSTPONED** Visit to Sweden\, UN SR on toxics and human rights
DESCRIPTION:The UN Special Rapporteur on toxics and human rights was scheduled to visit Sweden from June 16 to 26\, but due to the current budget liquidity crisis at the UN\, this visit has been postponed until further notice.
URL:https://cglj.org/event/postponed-visit-to-sweden-un-sr-on-toxics-and-human-rights/
LOCATION:Sweden\, Sweden
CATEGORIES:Country Visits
END:VEVENT
BEGIN:VEVENT
DTSTART;VALUE=DATE:20250616
DTEND;VALUE=DATE:20250709
DTSTAMP:20260422T182209
CREATED:20250605T151917Z
LAST-MODIFIED:20250711T205001Z
UID:10001169-1750032000-1752019199@cglj.org
SUMMARY:Human Rights Council 59
DESCRIPTION:The UN Human Rights Council is holding its 59th regular session from June 16 to July 8\, in Geneva\, Switzerland.
URL:https://cglj.org/event/human-rights-council-59/
CATEGORIES:Mechanism Session (Public)
END:VEVENT
BEGIN:VEVENT
DTSTART;VALUE=DATE:20250617
DTEND;VALUE=DATE:20250618
DTSTAMP:20260422T182209
CREATED:20250527T155552Z
LAST-MODIFIED:20250723T013926Z
UID:10000268-1750118400-1750204799@cglj.org
SUMMARY:Desertification and Drought
DESCRIPTION:World Day to Combat Desertification and Drought is observed on June 17.
URL:https://cglj.org/event/desertification-and-drought/2025-06-17/
CATEGORIES:Social & Cultural Events
END:VEVENT
BEGIN:VEVENT
DTSTART;VALUE=DATE:20250620
DTEND;VALUE=DATE:20250621
DTSTAMP:20260422T182209
CREATED:20250527T155552Z
LAST-MODIFIED:20250723T013828Z
UID:10000284-1750377600-1750463999@cglj.org
SUMMARY:World Refugee Day
DESCRIPTION:World Refugee Day is observed on June 20.
URL:https://cglj.org/event/world-refugee-day/2025-06-20/
CATEGORIES:Social & Cultural Events
END:VEVENT
BEGIN:VEVENT
DTSTART;VALUE=DATE:20250623
DTEND;VALUE=DATE:20250624
DTSTAMP:20260422T182209
CREATED:20250527T155552Z
LAST-MODIFIED:20250723T013816Z
UID:10000316-1750636800-1750723199@cglj.org
SUMMARY:International Widow's Day
DESCRIPTION:International Widow’s Day is observed on June 23.
URL:https://cglj.org/event/international-widows-day/2025-06-23/
CATEGORIES:Social & Cultural Events
END:VEVENT
BEGIN:VEVENT
DTSTART;VALUE=DATE:20250623
DTEND;VALUE=DATE:20250624
DTSTAMP:20260422T182209
CREATED:20250527T155552Z
LAST-MODIFIED:20250723T013820Z
UID:10000332-1750636800-1750723199@cglj.org
SUMMARY:UN Public Service Day
DESCRIPTION:United Nations Public Service Day is observed on June 23.
URL:https://cglj.org/event/un-public-service-day/2025-06-23/
CATEGORIES:Social & Cultural Events
END:VEVENT
BEGIN:VEVENT
DTSTART;VALUE=DATE:20250626
DTEND;VALUE=DATE:20250627
DTSTAMP:20260422T182209
CREATED:20250527T155552Z
LAST-MODIFIED:20250723T013805Z
UID:10000348-1750896000-1750982399@cglj.org
SUMMARY:Torture Victim Support Day
DESCRIPTION:United Nations International Day in Support of Victims of Torture is observed on June 26.
URL:https://cglj.org/event/torture-victim-support-day/2025-06-26/
CATEGORIES:Social & Cultural Events
END:VEVENT
BEGIN:VEVENT
DTSTART;VALUE=DATE:20250626
DTEND;VALUE=DATE:20250627
DTSTAMP:20260422T182209
CREATED:20250527T155552Z
LAST-MODIFIED:20250723T013811Z
UID:10000364-1750896000-1750982399@cglj.org
SUMMARY:Anti Drug Trafficking Day
DESCRIPTION:International Day against Drug Abuse and Illicit Trafficking is observed on June 26.
URL:https://cglj.org/event/anti-drug-trafficking-day/2025-06-26/
CATEGORIES:Social & Cultural Events
END:VEVENT
BEGIN:VEVENT
DTSTART;VALUE=DATE:20250630
DTEND;VALUE=DATE:20250701
DTSTAMP:20260422T182209
CREATED:20250818T152925Z
LAST-MODIFIED:20250818T152925Z
UID:10002207-1751241600-1751327999@cglj.org
SUMMARY:Call for Input\, UN SR on Burundi
DESCRIPTION:The UN Special Rapporteur on Burundi has issued a call for contributions to inform his upcoming report on the human rights situation in Burundi\, to be presented at the 60th session of the UN Human Rights Council in September 2025 and at the 80th session of the UN General Assembly in October 2025.
URL:https://cglj.org/event/call-for-input-un-sr-on-burundi/
CATEGORIES:Deadline
END:VEVENT
END:VCALENDAR