BEGIN:VCALENDAR
VERSION:2.0
PRODID:-//Center for Global Law and Justice | Resource Hub - ECPv6.15.17.1//NONSGML v1.0//EN
CALSCALE:GREGORIAN
METHOD:PUBLISH
X-ORIGINAL-URL:https://cglj.org
X-WR-CALDESC:Events for Center for Global Law and Justice | Resource Hub
REFRESH-INTERVAL;VALUE=DURATION:PT1H
X-Robots-Tag:noindex
X-PUBLISHED-TTL:PT1H
BEGIN:VTIMEZONE
TZID:America/Denver
BEGIN:DAYLIGHT
TZOFFSETFROM:-0700
TZOFFSETTO:-0600
TZNAME:MDT
DTSTART:20190310T090000
END:DAYLIGHT
BEGIN:STANDARD
TZOFFSETFROM:-0600
TZOFFSETTO:-0700
TZNAME:MST
DTSTART:20191103T080000
END:STANDARD
BEGIN:DAYLIGHT
TZOFFSETFROM:-0700
TZOFFSETTO:-0600
TZNAME:MDT
DTSTART:20200308T090000
END:DAYLIGHT
BEGIN:STANDARD
TZOFFSETFROM:-0600
TZOFFSETTO:-0700
TZNAME:MST
DTSTART:20201101T080000
END:STANDARD
BEGIN:DAYLIGHT
TZOFFSETFROM:-0700
TZOFFSETTO:-0600
TZNAME:MDT
DTSTART:20210314T090000
END:DAYLIGHT
BEGIN:STANDARD
TZOFFSETFROM:-0600
TZOFFSETTO:-0700
TZNAME:MST
DTSTART:20211107T080000
END:STANDARD
END:VTIMEZONE
BEGIN:VEVENT
DTSTART;VALUE=DATE:20200323
DTEND;VALUE=DATE:20200404
DTSTAMP:20260422T052336
CREATED:20250527T155742Z
LAST-MODIFIED:20250619T201542Z
UID:10001195-1584921600-1585958399@cglj.org
SUMMARY:Postponed: UN SR health
DESCRIPTION:The UN Special Rapporteur on the right of everyone to the enjoyment of the highest attainable standard of physical and mental health agreed to visit New Zealand from March 23 to April 3\, 2020.
URL:https://cglj.org/event/postponed-un-sr-health/
CATEGORIES:Country Visits
END:VEVENT
BEGIN:VEVENT
DTSTART;VALUE=DATE:20200330
DTEND;VALUE=DATE:20200404
DTSTAMP:20260422T052336
CREATED:20250527T155742Z
LAST-MODIFIED:20250619T201530Z
UID:10001192-1585526400-1585958399@cglj.org
SUMMARY:Postponed:CRPD 13th Pre-SessWG
DESCRIPTION:Committee on the Rights of Persons with Disabilities will hold its 13th Pre-sessional Working Group from March 30 to April 3\, 2020\, in Geneva\, Switzerland.
URL:https://cglj.org/event/postponedcrpd-13th-pre-sesswg/
CATEGORIES:Deliberative Sessions
END:VEVENT
BEGIN:VEVENT
DTSTART;VALUE=DATE:20200330
DTEND;VALUE=DATE:20200404
DTSTAMP:20260422T052336
CREATED:20250527T155742Z
LAST-MODIFIED:20250619T201534Z
UID:10001193-1585526400-1585958399@cglj.org
SUMMARY:Canceled: CMW 32nd
DESCRIPTION:The Committee on the Protection of the Rights of Migrant Workers and Members of Their Families (CMW) will hold its 32nd Session from March 30 to April 3\, 2020\, in Geneva\, Switzerland.
URL:https://cglj.org/event/canceled-cmw-32nd/
CATEGORIES:Deliberative Sessions
END:VEVENT
BEGIN:VEVENT
DTSTART;VALUE=DATE:20200330
DTEND;VALUE=DATE:20200404
DTSTAMP:20260422T052336
CREATED:20250527T155742Z
LAST-MODIFIED:20250619T201537Z
UID:10001194-1585526400-1585958399@cglj.org
SUMMARY:Rescheduled WG African descent
DESCRIPTION:The UN Working Group of experts on people of African descent will hold its 26th Session from March 30 to April 3\, 2020\, in Geneva\, Switzerland. (Rescheduled to November 30 ‚Äì December 4\, 2020)
URL:https://cglj.org/event/rescheduled-wg-african-descent/
CATEGORIES:Deliberative Sessions
END:VEVENT
BEGIN:VEVENT
DTSTART;VALUE=DATE:20200404
DTEND;VALUE=DATE:20200405
DTSTAMP:20260422T052336
CREATED:20250527T155547Z
LAST-MODIFIED:20250723T014245Z
UID:10000077-1585958400-1586044799@cglj.org
SUMMARY:Mine Awareness Day
DESCRIPTION:International Day for Mine Awareness and Assistance in Mine Action is observed on April 4.
URL:https://cglj.org/event/mine-awareness-day/2020-04-04/
CATEGORIES:Social & Cultural Events
END:VEVENT
BEGIN:VEVENT
DTSTART;VALUE=DATE:20200407
DTEND;VALUE=DATE:20200408
DTSTAMP:20260422T052336
CREATED:20250527T155547Z
LAST-MODIFIED:20250723T014232Z
UID:10000094-1586217600-1586303999@cglj.org
SUMMARY:World Health Day
DESCRIPTION:The World Health Organization’s World Health Day is observed on April 7.
URL:https://cglj.org/event/world-health-day/2020-04-07/
CATEGORIES:Social & Cultural Events
END:VEVENT
BEGIN:VEVENT
DTSTART;VALUE=DATE:20200407
DTEND;VALUE=DATE:20200408
DTSTAMP:20260422T052336
CREATED:20250527T155547Z
LAST-MODIFIED:20250723T014240Z
UID:10000111-1586217600-1586303999@cglj.org
SUMMARY:Rwandan Genocide Remembrance
DESCRIPTION:Day of Remembrance of the Victims of the Rwanda Genocide is observed on April 7.
URL:https://cglj.org/event/rwandan-genocide-remembrance/2020-04-07/
CATEGORIES:Social & Cultural Events
END:VEVENT
BEGIN:VEVENT
DTSTART;VALUE=DATE:20200413
DTEND;VALUE=DATE:20200425
DTSTAMP:20260422T052336
CREATED:20250527T155738Z
LAST-MODIFIED:20250619T201526Z
UID:10001191-1586736000-1587772799@cglj.org
SUMMARY:Postponed:IACtHR 135th Session
DESCRIPTION:The Inter-American Court of Human Rights (IACtHR) will hold its 135th Regular Session from April 13 to 24\, 2020\, in San Jos√©\, Costa Rica.
URL:https://cglj.org/event/postponediacthr-135th-session/
CATEGORIES:Hearings
END:VEVENT
BEGIN:VEVENT
DTSTART;VALUE=DATE:20200422
DTEND;VALUE=DATE:20200513
DTSTAMP:20260422T052336
CREATED:20250527T155738Z
LAST-MODIFIED:20250619T201519Z
UID:10001190-1587513600-1589327999@cglj.org
SUMMARY:Postponed: ACHPR 66th Session
DESCRIPTION:The African Commission on Human and Peoples’ Rights will hold its 66th Ordinary Session from April 22 to May 12\, 2020 in Banjul\, The Gambia. (tentatively postponed to May/June 2020)
URL:https://cglj.org/event/postponed-achpr-66th-session/
CATEGORIES:Deliberative Sessions
END:VEVENT
BEGIN:VEVENT
DTSTART;VALUE=DATE:20200422
DTEND;VALUE=DATE:20200423
DTSTAMP:20260422T052336
CREATED:20250527T155549Z
LAST-MODIFIED:20250723T014219Z
UID:10000128-1587513600-1587599999@cglj.org
SUMMARY:International Mother Earth Day
DESCRIPTION:International Mother Earth Day is observed on April 22.
URL:https://cglj.org/event/international-mother-earth-day/2020-04-22/
CATEGORIES:Social & Cultural Events
END:VEVENT
BEGIN:VEVENT
DTSTART;VALUE=DATE:20200428
DTEND;VALUE=DATE:20200429
DTSTAMP:20260422T052336
CREATED:20250527T155549Z
LAST-MODIFIED:20250723T014020Z
UID:10000145-1588032000-1588118399@cglj.org
SUMMARY:World Day for Work Safety
DESCRIPTION:World Day for Safety and Health at Work is observed on April 28.
URL:https://cglj.org/event/world-day-for-work-safety/2020-04-28/
CATEGORIES:Social & Cultural Events
END:VEVENT
BEGIN:VEVENT
DTSTART;VALUE=DATE:20200429
DTEND;VALUE=DATE:20200430
DTSTAMP:20260422T052336
CREATED:20250527T155549Z
LAST-MODIFIED:20250723T014015Z
UID:10000162-1588118400-1588204799@cglj.org
SUMMARY:Chemical Warfare Victims' Day
DESCRIPTION:Day of Remembrance for all Victims of Chemical Warfare is observed on April 29.
URL:https://cglj.org/event/chemical-warfare-victims-day/2020-04-29/
CATEGORIES:Social & Cultural Events
END:VEVENT
END:VCALENDAR