BEGIN:VCALENDAR
VERSION:2.0
PRODID:-//Center for Global Law and Justice | Resource Hub - ECPv6.15.17.1//NONSGML v1.0//EN
CALSCALE:GREGORIAN
METHOD:PUBLISH
X-ORIGINAL-URL:https://cglj.org
X-WR-CALDESC:Events for Center for Global Law and Justice | Resource Hub
REFRESH-INTERVAL;VALUE=DURATION:PT1H
X-Robots-Tag:noindex
X-PUBLISHED-TTL:PT1H
BEGIN:VTIMEZONE
TZID:America/Denver
BEGIN:DAYLIGHT
TZOFFSETFROM:-0700
TZOFFSETTO:-0600
TZNAME:MDT
DTSTART:20250309T090000
END:DAYLIGHT
BEGIN:STANDARD
TZOFFSETFROM:-0600
TZOFFSETTO:-0700
TZNAME:MST
DTSTART:20251102T080000
END:STANDARD
BEGIN:DAYLIGHT
TZOFFSETFROM:-0700
TZOFFSETTO:-0600
TZNAME:MDT
DTSTART:20260308T090000
END:DAYLIGHT
BEGIN:STANDARD
TZOFFSETFROM:-0600
TZOFFSETTO:-0700
TZNAME:MST
DTSTART:20261101T080000
END:STANDARD
BEGIN:DAYLIGHT
TZOFFSETFROM:-0700
TZOFFSETTO:-0600
TZNAME:MDT
DTSTART:20270314T090000
END:DAYLIGHT
BEGIN:STANDARD
TZOFFSETFROM:-0600
TZOFFSETTO:-0700
TZNAME:MST
DTSTART:20271107T080000
END:STANDARD
END:VTIMEZONE
BEGIN:VEVENT
DTSTART;VALUE=DATE:20260413
DTEND;VALUE=DATE:20260502
DTSTAMP:20260420T095938
CREATED:20260401T025002Z
LAST-MODIFIED:20260401T025002Z
UID:10002498-1776038400-1777679999@cglj.org
SUMMARY:Committee on the Elimination of Racial Discrimination (CERD) 117
DESCRIPTION:The Committee on the Elimination of Racial Discrimination (CERD) is scheduled to hold its 117th session from April 13 to May 1. During this session\, the CERD will consider State reports from Burkina Faso\, Cuba\, Cyprus\, Serbia\, Slovenia\, Uzbekistan\, and Tonga; and follow-up reports from Albania\, Argentina\, Brazil\, Italy\, Qatar\, and Turkmenistan. A provisional agenda and a program of work are available on the session page. Guidance for civil society\, NGOs\, and NHRIs is available on the Committee’s webpage. Registration is open for all in-person attendees. All public meetings of the Committee are also generally webcast live on UN WebTV.
URL:https://cglj.org/event/committee-on-the-elimination-of-racial-discrimination-cerd-117/
LOCATION:Palais Wilson\, Geneva\, Switzerland
CATEGORIES:Mechanism Session (Public),Review of State Reports
END:VEVENT
BEGIN:VEVENT
DTSTART;VALUE=DATE:20260413
DTEND;VALUE=DATE:20260502
DTSTAMP:20260420T095938
CREATED:20260401T025225Z
LAST-MODIFIED:20260401T025225Z
UID:10002499-1776038400-1777679999@cglj.org
SUMMARY:Committee Against Torture (CAT) 84
DESCRIPTION:The Committee Against Torture (CAT) is scheduled to hold its 84th session from April 13 to May 1. During this session the CAT will consider State reports from Gabon\, Italy\, Pakistan\, and Tajikistan; and lists of issues prior to reporting for Brazil\, Colombia\, Kazakhstan\, Luxembourg\, New Zealand\, Romania\, Slovakia\, Spain\, and Switzerland. A Program of Work and an information note for civil society actors are available on the session page. Registration for in-person attendance is open via the UN’s Indico platform. All public meetings of the Committee are also generally webcast live on UN WebTV.
URL:https://cglj.org/event/committee-against-torture-cat-84/
LOCATION:Palais Wilson\, Geneva\, Switzerland
CATEGORIES:Mechanism Session (Public),Review of State Reports
END:VEVENT
BEGIN:VEVENT
DTSTART;VALUE=DATE:20260420
DTEND;VALUE=DATE:20260502
DTSTAMP:20260420T095938
CREATED:20251217T201254Z
LAST-MODIFIED:20251217T201506Z
UID:10002367-1776643200-1777679999@cglj.org
SUMMARY:United Nations Permanent Forum on Indigenous Issues (UNPFII) 25
DESCRIPTION:The 25th annual session of the UN Permanent Forum on Indigenous Issues (UNPFII) will take place at UN Headquarters in New York. This year’s theme will be “Ensuring Indigenous Peoples’ health\, including in the context of conflict.” A proposed agenda is available on the session webpage. Participation in the UNPFII is open to Member States\, the UN and other intergovernmental organizations\, Indigenous Peoples’ Organizations (IPOs)\, accredited academia\, and Non-governmental Organizations (NGOs) in consultative status with ECOSOC.  Indigenous parliamentarians and National Human Rights Institutions (NHRIs) may also be invited to attend. \nAll who wish to participate in the forum must obtain accreditation and register by the following deadlines: \n\nAccreditation must be requested via the UN’s iCSO system by January 30\, 2026.\nAccredited participants must register via the UN’s Indico system by February 27\, 2026.
URL:https://cglj.org/event/united-nations-permanent-forum-on-indigenous-issues-unpfii-25/
CATEGORIES:Conferences & Trainings
END:VEVENT
BEGIN:VEVENT
DTSTART;VALUE=DATE:20260424
DTEND;VALUE=DATE:20260521
DTSTAMP:20260420T095938
CREATED:20260401T031907Z
LAST-MODIFIED:20260410T174529Z
UID:10002505-1776988800-1779321599@cglj.org
SUMMARY:African Commission on Human and Peoples’ Rights (ACHPR) 87
DESCRIPTION:The African Commission on Human and Peoples’ Rights (ACHPR) will hold its 87th Ordinary Session from April 24 to May 20 in Banjul\, Gambia. The theme of this session is “2026 Year of Water Sustainability: Assuring Sustainable Water Availability & Safe Sanitation System to Achieve the Goals of Agenda 2063.” \nThe public portion of the session will be from May 11 to 20. A preliminary schedule is available on the session page. \nThose who wish to make a statement during the session must register to do so by April 11. Registration for panel interventions is also due April 11. \nStakeholders who wish to participate in the session must register by April 25. \nFor those unable to participate in person\, the session will be live streamed on the Commission’s YouTube channel.
URL:https://cglj.org/event/african-commission-on-human-and-peoples-rights-achpr-87/
LOCATION:Sir Dawda Kairaba Jawara International Conference Centre\, Banjul\, Gambia
CATEGORIES:Mechanism Session (Public),Regional Human Rights Mechanisms
END:VEVENT
BEGIN:VEVENT
DTSTART;VALUE=DATE:20260427
DTEND;VALUE=DATE:20260502
DTSTAMP:20260420T095938
CREATED:20260403T141704Z
LAST-MODIFIED:20260403T142924Z
UID:10002517-1777248000-1777679999@cglj.org
SUMMARY:Ad Hoc Committee on the Elaboration of Complementary Standards to ICERD 16
DESCRIPTION:The first part of the 16th session of the Ad Hoc Committee on the Elaboration of Complementary Standards to International Convention on the Elimination of Racial Discrimination will take place from 27 April to 1 May 2026\, in Palais des Nations\, Tempus Building.  It will open on Monday 27 April 2026 at 10.00 a.m. \nThe draft programme of work for part I of the 16th session of the Ad Hoc Committee will be circulated and posted in due course on the OHCHR – Ad Hoc Committee on the elaboration of complementary standards | OHCHR. \nNGOs with consultative status with the United Nations Economic and Social Council (ECOSOC) wishing to participate in the first part of the sixteenth session of the Ad Hoc Committee\, are invited to register at: https://indico.un.org/event/1015673\, before 24 April 2026.
URL:https://cglj.org/event/ad-hoc-committee-on-the-elaboration-of-complementary-standards-to-icerd-16/
LOCATION:Palais des Nations\, Geneva\, Switzerland
CATEGORIES:Mechanism Session (Public)
END:VEVENT
BEGIN:VEVENT
DTSTART;VALUE=DATE:20260504
DTEND;VALUE=DATE:20260509
DTSTAMP:20260420T095938
CREATED:20260304T184345Z
LAST-MODIFIED:20260304T185708Z
UID:10002483-1777852800-1778284799@cglj.org
SUMMARY:Session\, UN WG on Enforced or Involuntary Disappearances (WGEID) 139
DESCRIPTION:The 139th session of the UN Working Group on Enforced and Involuntary Disappearances (WGEID) is scheduled to take  place in Abidjan\, Côte d’Ivoire from 4 to 8 May 2026. \nTo request a meeting with the experts of the Working Group at the next session\, please contact the Secretariat at the United Nations Office of the High Commissioner for Human Rights in Geneva (e-mail: hrc-wg-eid@un.org) by 3 April 2026.
URL:https://cglj.org/event/session-un-wg-on-enforced-or-involuntary-disappearances-wgeid-139/
LOCATION:Abidjan\, Abidjan\, Côte d'Ivoire
CATEGORIES:Mechanism Session (Public)
END:VEVENT
BEGIN:VEVENT
DTSTART;VALUE=DATE:20260504
DTEND;VALUE=DATE:20260505
DTSTAMP:20260420T095938
CREATED:20260401T132647Z
LAST-MODIFIED:20260401T132647Z
UID:10002513-1777852800-1777939199@cglj.org
SUMMARY:Call for Input\, Human Rights Council Advisory Committee
DESCRIPTION:The UN Human Rights Council Advisory Committee has issued a call for input on human rights obligations of States in the context of preventing and combating corruption.
URL:https://cglj.org/event/call-for-input-human-rights-council-advisory-committee-4/
CATEGORIES:Deadline
END:VEVENT
BEGIN:VEVENT
DTSTART;VALUE=DATE:20260504
DTEND;VALUE=DATE:20260514
DTSTAMP:20260420T095938
CREATED:20260401T015833Z
LAST-MODIFIED:20260401T015833Z
UID:10002493-1777852800-1778716799@cglj.org
SUMMARY:Visit to Colombia\, UN International Independent Expert Mechanism to Advance Racial Justice and Equality in Law Enforcement (EMLER)
DESCRIPTION:The UN’s International Independent Expert Mechanism to Advance Racial Justice and Equality in Law Enforcement (EMLER) will visit Colombia.
URL:https://cglj.org/event/visit-to-colombia-un-international-independent-expert-mechanism-to-advance-racial-justice-and-equality-in-law-enforcement-emler/
LOCATION:Colombia\, Colombia
CATEGORIES:Country Visits
END:VEVENT
BEGIN:VEVENT
DTSTART;VALUE=DATE:20260506
DTEND;VALUE=DATE:20260507
DTSTAMP:20260420T095938
CREATED:20260323T135313Z
LAST-MODIFIED:20260323T135503Z
UID:10002486-1778025600-1778111999@cglj.org
SUMMARY:Call for Input\, Committee on the Elimination of Discrimination against Women (CEDAW Committee)
DESCRIPTION:The Committee on the Elimination of Discrimination against Women (CEDAW Committee) is currently elaborating a draft general recommendation on gender stereotypes\, and has issued a call for comments for all interested parties to submit written comments through the CEDAW online submission system.
URL:https://cglj.org/event/call-for-input-committee-on-the-elimination-of-discrimination-against-women-cedaw-committee/
CATEGORIES:Deadline
END:VEVENT
BEGIN:VEVENT
DTSTART;VALUE=DATE:20260508
DTEND;VALUE=DATE:20260510
DTSTAMP:20260420T095938
CREATED:20250527T155549Z
LAST-MODIFIED:20250723T014008Z
UID:10000185-1778198400-1778371199@cglj.org
SUMMARY:WWII Victim Remembrance
DESCRIPTION:Time of Remembrance and Reconciliation for Those Who Lost Their Lives during the Second World War is observed on May 8 and 9.
URL:https://cglj.org/event/wwii-victim-remembrance/2026-05-08/
CATEGORIES:Social & Cultural Events
END:VEVENT
BEGIN:VEVENT
DTSTART;VALUE=DATE:20260511
DTEND;VALUE=DATE:20260516
DTSTAMP:20260420T095938
CREATED:20260127T194504Z
LAST-MODIFIED:20260127T220833Z
UID:10002380-1778457600-1778889599@cglj.org
SUMMARY:Session\, UN WG Business & Human Rights 43
DESCRIPTION:The UN Working Group on Business and Human Rights is scheduled to hold its 43rd session in Geneva. \nThis session was originally scheduled to take place in February\, 2026.
URL:https://cglj.org/event/session-un-wg-business-human-rights-43/
LOCATION:Palais des Nations\, Geneva\, Switzerland
CATEGORIES:Mechanism Session (Public)
END:VEVENT
BEGIN:VEVENT
DTSTART;VALUE=DATE:20260511
DTEND;VALUE=DATE:20260521
DTSTAMP:20260420T095938
CREATED:20250924T133818Z
LAST-MODIFIED:20250924T133818Z
UID:10002258-1778457600-1779321599@cglj.org
SUMMARY:Visit to Republic of Korea\, UN SR on violence against women and girls
DESCRIPTION:The UN Special Rapporteur on violence against women and girls will visit the Republic of Korea.
URL:https://cglj.org/event/visit-to-republic-of-korea-un-sr-on-violence-against-women-and-girls/
LOCATION:Republic of Korea\, Korea\, Republic of
CATEGORIES:Country Visits
END:VEVENT
BEGIN:VEVENT
DTSTART;VALUE=DATE:20260511
DTEND;VALUE=DATE:20260521
DTSTAMP:20260420T095938
CREATED:20260401T013738Z
LAST-MODIFIED:20260401T013738Z
UID:10002490-1778457600-1779321599@cglj.org
SUMMARY:Visit to Mexico\, UN WG of Experts on People of African Descent
DESCRIPTION:The UN Working Group of Experts on People of African Descent will visit Mexico.
URL:https://cglj.org/event/visit-to-mexico-un-wg-of-experts-on-people-of-african-descent/
LOCATION:Mexico\, Mexico
CATEGORIES:Country Visits
END:VEVENT
BEGIN:VEVENT
DTSTART;VALUE=DATE:20260515
DTEND;VALUE=DATE:20260516
DTSTAMP:20260420T095938
CREATED:20250527T155549Z
LAST-MODIFIED:20250723T013955Z
UID:10000202-1778803200-1778889599@cglj.org
SUMMARY:International Day of Families
DESCRIPTION:International Day of Families is observed on May 15.
URL:https://cglj.org/event/international-day-of-families/2026-05-15/
CATEGORIES:Social & Cultural Events
END:VEVENT
BEGIN:VEVENT
DTSTART;VALUE=DATE:20260515
DTEND;VALUE=DATE:20260516
DTSTAMP:20260420T095938
CREATED:20260302T192923Z
LAST-MODIFIED:20260302T192923Z
UID:10002478-1778803200-1778889599@cglj.org
SUMMARY:Call for Input\, Committee on Economic\, Social and Cultural Rights (CESCR)
DESCRIPTION:The Committee on Economic\, Social and Cultural Rights (CESCR) invites inputs to inform its work on elaborating a draft general comment on the Application of the International Covenant on Economic\, Social and Cultural Rights in Situations of Armed Conflicts.
URL:https://cglj.org/event/call-for-input-committee-on-economic-social-and-cultural-rights-cescr/
CATEGORIES:Deadline
END:VEVENT
BEGIN:VEVENT
DTSTART;VALUE=DATE:20260515
DTEND;VALUE=DATE:20260516
DTSTAMP:20260420T095938
CREATED:20260401T132728Z
LAST-MODIFIED:20260401T132728Z
UID:10002514-1778803200-1778889599@cglj.org
SUMMARY:Call for Input\, Human Rights Council Advisory Committee
DESCRIPTION:The UN Human Rights Council Advisory Committee has issued a call for input on the implications of plastic pollution for the full enjoyment of human rights.
URL:https://cglj.org/event/call-for-input-human-rights-council-advisory-committee-5/
CATEGORIES:Deadline
END:VEVENT
BEGIN:VEVENT
DTSTART;VALUE=DATE:20260518
DTEND;VALUE=DATE:20260519
DTSTAMP:20260420T095938
CREATED:20260401T133323Z
LAST-MODIFIED:20260401T133323Z
UID:10002515-1779062400-1779148799@cglj.org
SUMMARY:Call for Input\, OHCHR (international cooperation for the advancement of human rights)
DESCRIPTION:The UN Office of the High Commissioner for Human Rights (OHCHR) has issued a call for input regarding good practices and examples of North-South\, South-South and triangular cooperation for the advancement of human rights\, including the right to development.
URL:https://cglj.org/event/call-for-input-ohchr-international-cooperation-for-the-advancement-of-human-rights/
CATEGORIES:Deadline
END:VEVENT
BEGIN:VEVENT
DTSTART;VALUE=DATE:20260518
DTEND;VALUE=DATE:20260530
DTSTAMP:20260420T095938
CREATED:20260130T212703Z
LAST-MODIFIED:20260130T212703Z
UID:10002427-1779062400-1780099199@cglj.org
SUMMARY:Visit to Mongolia\, UN IE on sexual orientation and gender identity (IE SOGI)
DESCRIPTION:The UN Independent Expert on protection against violence and discrimination based on sexual orientation and gender identity (IE SOGI) is scheduled to visit Mongolia.
URL:https://cglj.org/event/visit-to-mongolia-un-ie-on-sexual-orientation-and-gender-identity-ie-sogi/
LOCATION:Mongolia\, Mongolia
CATEGORIES:Country Visits
END:VEVENT
BEGIN:VEVENT
DTSTART;VALUE=DATE:20260518
DTEND;VALUE=DATE:20260530
DTSTAMP:20260420T095938
CREATED:20260401T014047Z
LAST-MODIFIED:20260401T014047Z
UID:10002489-1779062400-1780099199@cglj.org
SUMMARY:Visit to Poland\, UN SR on the independence of judges and lawyers
DESCRIPTION:The UN Special Rapporteur on the independence of judges and lawyers is scheduled to visit Poland.
URL:https://cglj.org/event/visit-to-poland-un-sr-on-the-independence-of-judges-and-lawyers/
LOCATION:Poland\, Poland
CATEGORIES:Country Visits
END:VEVENT
BEGIN:VEVENT
DTSTART;VALUE=DATE:20260519
DTEND;VALUE=DATE:20260529
DTSTAMP:20260420T095938
CREATED:20250924T134232Z
LAST-MODIFIED:20250924T134535Z
UID:10002259-1779148800-1780012799@cglj.org
SUMMARY:Visit to Honduras\, UN SR on racism
DESCRIPTION:The UN Special Rapporteur on contemporary forms of racism will visit Honduras.
URL:https://cglj.org/event/visit-to-honduras-un-sr-on-contemporary-forms-of-racism/
LOCATION:Honduras\, Honduras
CATEGORIES:Country Visits
END:VEVENT
BEGIN:VEVENT
DTSTART;VALUE=DATE:20260519
DTEND;VALUE=DATE:20260529
DTSTAMP:20260420T095938
CREATED:20251203T210440Z
LAST-MODIFIED:20251203T210440Z
UID:10002343-1779148800-1780012799@cglj.org
SUMMARY:Visit to Finland\, UN IE on international solidarity
DESCRIPTION:The UN Independent Expert on human rights and international solidarity will visit Finland.
URL:https://cglj.org/event/visit-to-finland-un-ie-on-international-solidarity-2/
LOCATION:Finland\, Finland
CATEGORIES:Country Visits
END:VEVENT
BEGIN:VEVENT
DTSTART;VALUE=DATE:20260521
DTEND;VALUE=DATE:20260522
DTSTAMP:20260420T095938
CREATED:20250527T155549Z
LAST-MODIFIED:20250723T013951Z
UID:10000219-1779321600-1779407999@cglj.org
SUMMARY:World Day Cultural Diversity
DESCRIPTION:World Day for Cultural Diversity for Dialogue and Development is observed on May 21.
URL:https://cglj.org/event/world-day-cultural-diversity/2026-05-21/
CATEGORIES:Social & Cultural Events
END:VEVENT
BEGIN:VEVENT
DTSTART;VALUE=DATE:20260522
DTEND;VALUE=DATE:20260523
DTSTAMP:20260420T095938
CREATED:20250527T155549Z
LAST-MODIFIED:20250723T013945Z
UID:10000236-1779408000-1779494399@cglj.org
SUMMARY:Biological Diversity Day
DESCRIPTION:International Day for Biological Diversity is observed on May 22.
URL:https://cglj.org/event/biological-diversity-day/2026-05-22/
CATEGORIES:Social & Cultural Events
END:VEVENT
BEGIN:VEVENT
DTSTART;VALUE=DATE:20260608
DTEND;VALUE=DATE:20260609
DTSTAMP:20260420T095938
CREATED:20250527T155549Z
LAST-MODIFIED:20250723T013930Z
UID:10000301-1780876800-1780963199@cglj.org
SUMMARY:World Oceans Day
DESCRIPTION:World Oceans Day is observed on June 8.
URL:https://cglj.org/event/world-oceans-day/2026-06-08/
CATEGORIES:Social & Cultural Events
END:VEVENT
BEGIN:VEVENT
DTSTART;VALUE=DATE:20260609
DTEND;VALUE=DATE:20260620
DTSTAMP:20260420T095938
CREATED:20260401T014437Z
LAST-MODIFIED:20260401T014437Z
UID:10002491-1780963200-1781913599@cglj.org
SUMMARY:Visit to Nepal\, UN SR on truth\, justice and reparation
DESCRIPTION:The UN Special Rapporteur on truth\, justice and reparation will visit Nepal to address the human rights violations committed during the 1996-2006 civil war.
URL:https://cglj.org/event/visit-to-nepal-un-sr-on-truth-justice-and-reparation/
LOCATION:Nepal\, Nepal
CATEGORIES:Country Visits
END:VEVENT
BEGIN:VEVENT
DTSTART;VALUE=DATE:20260612
DTEND;VALUE=DATE:20260613
DTSTAMP:20260420T095938
CREATED:20250527T155552Z
LAST-MODIFIED:20250723T013928Z
UID:10000253-1781222400-1781308799@cglj.org
SUMMARY:Day Against Child Labour
DESCRIPTION:World Day Against Child Labour is observed on June 12.
URL:https://cglj.org/event/day-against-child-labour/2026-06-12/
CATEGORIES:Social & Cultural Events
END:VEVENT
BEGIN:VEVENT
DTSTART;VALUE=DATE:20260612
DTEND;VALUE=DATE:20260613
DTSTAMP:20260420T095938
CREATED:20260403T141008Z
LAST-MODIFIED:20260403T141008Z
UID:10002516-1781222400-1781308799@cglj.org
SUMMARY:Call for Input\, OHCHR (trade agreements and their impact on women’s economic empowerment)
DESCRIPTION:The UN Office of the High Commissioner for Human Rights (OHCHR) has issued a call for inputs to inform the preparation of a report on trade agreements\, including their gender equality provisions\, and their impact on women’s economic empowerment.
URL:https://cglj.org/event/call-for-input-ohchr-trade-agreements-and-their-impact-on-womens-economic-empowerment/
CATEGORIES:Deadline
END:VEVENT
BEGIN:VEVENT
DTSTART;VALUE=DATE:20260617
DTEND;VALUE=DATE:20260618
DTSTAMP:20260420T095938
CREATED:20250527T155552Z
LAST-MODIFIED:20250723T013926Z
UID:10000269-1781654400-1781740799@cglj.org
SUMMARY:Desertification and Drought
DESCRIPTION:World Day to Combat Desertification and Drought is observed on June 17.
URL:https://cglj.org/event/desertification-and-drought/2026-06-17/
CATEGORIES:Social & Cultural Events
END:VEVENT
BEGIN:VEVENT
DTSTART;VALUE=DATE:20260620
DTEND;VALUE=DATE:20260621
DTSTAMP:20260420T095938
CREATED:20250527T155552Z
LAST-MODIFIED:20250723T013828Z
UID:10000285-1781913600-1781999999@cglj.org
SUMMARY:World Refugee Day
DESCRIPTION:World Refugee Day is observed on June 20.
URL:https://cglj.org/event/world-refugee-day/2026-06-20/
CATEGORIES:Social & Cultural Events
END:VEVENT
BEGIN:VEVENT
DTSTART;VALUE=DATE:20260623
DTEND;VALUE=DATE:20260624
DTSTAMP:20260420T095938
CREATED:20250527T155552Z
LAST-MODIFIED:20250723T013816Z
UID:10000317-1782172800-1782259199@cglj.org
SUMMARY:International Widow's Day
DESCRIPTION:International Widow’s Day is observed on June 23.
URL:https://cglj.org/event/international-widows-day/2026-06-23/
CATEGORIES:Social & Cultural Events
END:VEVENT
END:VCALENDAR