BEGIN:VCALENDAR
VERSION:2.0
PRODID:-//Center for Global Law and Justice | Resource Hub - ECPv6.15.17.1//NONSGML v1.0//EN
CALSCALE:GREGORIAN
METHOD:PUBLISH
X-ORIGINAL-URL:https://cglj.org
X-WR-CALDESC:Events for Center for Global Law and Justice | Resource Hub
REFRESH-INTERVAL;VALUE=DURATION:PT1H
X-Robots-Tag:noindex
X-PUBLISHED-TTL:PT1H
BEGIN:VTIMEZONE
TZID:America/Denver
BEGIN:DAYLIGHT
TZOFFSETFROM:-0700
TZOFFSETTO:-0600
TZNAME:MDT
DTSTART:20250309T090000
END:DAYLIGHT
BEGIN:STANDARD
TZOFFSETFROM:-0600
TZOFFSETTO:-0700
TZNAME:MST
DTSTART:20251102T080000
END:STANDARD
BEGIN:DAYLIGHT
TZOFFSETFROM:-0700
TZOFFSETTO:-0600
TZNAME:MDT
DTSTART:20260308T090000
END:DAYLIGHT
BEGIN:STANDARD
TZOFFSETFROM:-0600
TZOFFSETTO:-0700
TZNAME:MST
DTSTART:20261101T080000
END:STANDARD
BEGIN:DAYLIGHT
TZOFFSETFROM:-0700
TZOFFSETTO:-0600
TZNAME:MDT
DTSTART:20270314T090000
END:DAYLIGHT
BEGIN:STANDARD
TZOFFSETFROM:-0600
TZOFFSETTO:-0700
TZNAME:MST
DTSTART:20271107T080000
END:STANDARD
END:VTIMEZONE
BEGIN:VEVENT
DTSTART;VALUE=DATE:20260223
DTEND;VALUE=DATE:20260401
DTSTAMP:20260419T190036
CREATED:20260130T204739Z
LAST-MODIFIED:20260401T134329Z
UID:10002392-1771804800-1775001599@cglj.org
SUMMARY:Human Rights Council 61
DESCRIPTION:The UN Human Rights Council\, an intergovernmental deliberative body\, is scheduled to hold its 61st regular session in Geneva\, Switzerland. According to the session agenda\, the Human Rights Council will appoint 17 special procedure mandate holders and hear the presentation of reports by the Office of the UN High Commissioner for Human Rights (OHCHR)\, the UN Secretary-General\, special procedures\, and other mechanisms on specific countries and topics. \nThe Council is also scheduled to hold panel discussions on (a.) the role of new and emerging digital technologies in preventing and eliminating female genital mutilation \, (b.) the Durban Programme of Action (to combat racism)\, (c.) human rights and a culture of peace\, (d.) sustainable development and human rights\, (e.) the rights of persons with disabilities\, and (f.) the rights of the child. \nFinally\, the Council will consider and adopt the outcomes of the Universal Periodic Review for Andorra\, Belarus\, Bulgaria\, Croatia\, Honduras\, Jamaica\, Liberia\, Libya\, Malawi\, Maldives\, Marshall Islands\, Mongolia\, and Panama. \nFor information on accreditation and ways to participate in the Human Rights Council’s sessions\, visit the Council’s page on NGO participation.
URL:https://cglj.org/event/human-rights-council-61/
LOCATION:Palais des Nations\, Geneva\, Switzerland
CATEGORIES:Mechanism Session (Public)
END:VEVENT
BEGIN:VEVENT
DTSTART;VALUE=DATE:20260302
DTEND;VALUE=DATE:20260328
DTSTAMP:20260419T190036
CREATED:20260213T152835Z
LAST-MODIFIED:20260213T152835Z
UID:10002449-1772409600-1774655999@cglj.org
SUMMARY:African Court on Human & Peoples’ Rights (AfCHPR) 80
DESCRIPTION:The African Court on Human & Peoples’ Rights (AfCHPR) will convene for its 80th Ordinary Session at its Seat in Arusha\, United Republic of Tanzania.
URL:https://cglj.org/event/african-court-on-human-peoples-rights-afchpr-80/
LOCATION:Arusha\, Arusha\, Tanzania\, United Republic of
CATEGORIES:Mechanism Session (Public),Regional Human Rights Mechanisms
END:VEVENT
BEGIN:VEVENT
DTSTART;VALUE=DATE:20260309
DTEND;VALUE=DATE:20260328
DTSTAMP:20260419T190036
CREATED:20260211T165527Z
LAST-MODIFIED:20260211T165527Z
UID:10002441-1773014400-1774655999@cglj.org
SUMMARY:Committee on the Rights of Persons with Disabilities (CRPD) 34
DESCRIPTION:The Committee on the Rights of Persons with Disabilities (CRPD) is scheduled to hold its 34th session in Geneva\, Switzerland. During this session the CRPD will consider initial reports from Guinea-Bissau\, Lesotho\, Liberia\, Marshall Islands\, Pakistan\, Samoa; lists of issues for Colombia\, Iceland\, Ireland\, Panama\, and Trinidad and Tobago; and lists of issues prior to reporting for Cyprus\, and Luxembourg. Despite the UN’s liquidity situation\, these dates are confirmed. An information note for stakeholders\, and a Program of Work should soon be available on the session page. Registration for in-person attendance should open the week of February 16. All public meetings of the Committee are also generally webcast live at http://webtv.un.org/.
URL:https://cglj.org/event/committee-on-the-rights-of-persons-with-disabilities-crpd-34/
LOCATION:Palais Wilson\, Geneva\, Switzerland
CATEGORIES:Mechanism Session (Public),Review of State Reports
END:VEVENT
BEGIN:VEVENT
DTSTART;VALUE=DATE:20260316
DTEND;VALUE=DATE:20260328
DTSTAMP:20260419T190036
CREATED:20250924T133340Z
LAST-MODIFIED:20250924T133340Z
UID:10002257-1773619200-1774655999@cglj.org
SUMMARY:Visit to Colombia\, UN WG on the use of mercenaries
DESCRIPTION:The UN Working Group on the use of mercenaries will visit Colombia.
URL:https://cglj.org/event/visit-to-colombia-un-wg-on-the-use-of-mercenaries/
LOCATION:Colombia\, Colombia
CATEGORIES:Country Visits
END:VEVENT
BEGIN:VEVENT
DTSTART;VALUE=DATE:20260316
DTEND;VALUE=DATE:20260328
DTSTAMP:20260419T190036
CREATED:20260302T143810Z
LAST-MODIFIED:20260302T144012Z
UID:10002450-1773619200-1774655999@cglj.org
SUMMARY:Visit to Brazil\, UN WG on Migrants
DESCRIPTION:The UN Special Rapporteur on Migrants is scheduled to visit Brazil March 16 to 27. \n.
URL:https://cglj.org/event/visit-to-colombia-un-wg-on-migrants/
LOCATION:Colombia\, Colombia
CATEGORIES:Country Visits
END:VEVENT
BEGIN:VEVENT
DTSTART;VALUE=DATE:20260323
DTEND;VALUE=DATE:20260328
DTSTAMP:20260419T190036
CREATED:20260211T183128Z
LAST-MODIFIED:20260302T144627Z
UID:10002443-1774224000-1774655999@cglj.org
SUMMARY:Session\, UN EM to Advance Racial Justice & Equality in Law Enforcement (EMLER) 5
DESCRIPTION:The International Independent Expert Mechanism to Advance Racial Justice and Equality in Law Enforcement (EMLER) will hold its 5th session in Geneva\, Switzerland. Those interested in participating in person must register through the UN’s Indico system by March 18. Individuals who are unable to participate in person may submit their contributions in writing in response to the call for inputs and follow the consultations via UN Web TV.
URL:https://cglj.org/event/session-un-ie-to-advance-racial-justice-equality-in-law-enforcement/
LOCATION:Palais des Nations\, Geneva\, Switzerland
CATEGORIES:Mechanism Session (Public)
END:VEVENT
BEGIN:VEVENT
DTSTART;VALUE=DATE:20260323
DTEND;VALUE=DATE:20260402
DTSTAMP:20260419T190036
CREATED:20260302T144311Z
LAST-MODIFIED:20260302T144311Z
UID:10002451-1774224000-1775087999@cglj.org
SUMMARY:Session\, UN WG on arbitrary detentions 105
DESCRIPTION:The UN Working Group on Arbitrary Detentions is scheduled to hold its 105th session from March 23 to April 1 in Geneva\, Switzerland.
URL:https://cglj.org/event/session-un-wg-on-arbitrary-detentions-105/
LOCATION:Palais des Nations\, Geneva\, Switzerland
CATEGORIES:Mechanism Session (Public)
END:VEVENT
BEGIN:VEVENT
DTSTART;VALUE=DATE:20260323
DTEND;VALUE=DATE:20260403
DTSTAMP:20260419T190036
CREATED:20260320T202313Z
LAST-MODIFIED:20260320T203945Z
UID:10002485-1774224000-1775174399@cglj.org
SUMMARY:*POSTPONED* Visit to Morocco\, UN SR on torture
DESCRIPTION:The visit of the UN Special Rapporteur on torture to Morocco has been postponed to a later date at the request of the Government. New dates to be announced.
URL:https://cglj.org/event/postponed-visit-to-mexico-un-sr-on-torture/
LOCATION:Morocco\, Morocco
CATEGORIES:Country Visits
END:VEVENT
BEGIN:VEVENT
DTSTART;VALUE=DATE:20260327
DTEND;VALUE=DATE:20260328
DTSTAMP:20260419T190036
CREATED:20260302T194333Z
LAST-MODIFIED:20260302T194333Z
UID:10002480-1774569600-1774655999@cglj.org
SUMMARY:Call for Input\, OHCHR (elections)
DESCRIPTION:The UN Office of the High Commissioner for Human Rights (OHCHR) is seeking input to inform the drafting of a report on good practices and challenges that States face when using the guidelines on the effective implementation of the right to participate in public affairs\, with a particular focus on participation in elections.
URL:https://cglj.org/event/call-for-input-ohchr-elections/
CATEGORIES:Deadline
END:VEVENT
BEGIN:VEVENT
DTSTART;VALUE=DATE:20260330
DTEND;VALUE=DATE:20260331
DTSTAMP:20260419T190036
CREATED:20251210T184558Z
LAST-MODIFIED:20260302T191715Z
UID:10002351-1774828800-1774915199@cglj.org
SUMMARY:AfCHPR\, Observations on Advisory Opinion Request Due
DESCRIPTION:The African Court on Human & Peoples’ Rights (AfCHPR) is accepting submissions of written observations to inform its consideration of Advisory Opinion No. 001/2025 concerning the Obligations of States with respect to the Climate Change Crisis. The deadline for filing such observations has been extended to March 30\, 2026. Those interested in filing an amicus brief\, who have not specifically been invited by the Court to submit observations\, must first apply for leave to submit before filing their observations. For more detailed guidance on this process\, please view our Newsroom post on the topic.\n\nFurther information can be obtained from www.african-court.org Telephone: +255 272 510 510\nFor further inquiries: Acting Registrar\, Ms Grace Wakio Kakai – Grace.Wakio@african-court.org\nSenior Legal Officer: Dr. Mwiza Nkhata Mwiza.Nkhata@african-court.org
URL:https://cglj.org/event/afchpr-observations-on-advisory-opinion-request-due/
CATEGORIES:Deadline,Regional Human Rights Mechanisms
END:VEVENT
BEGIN:VEVENT
DTSTART;VALUE=DATE:20260330
DTEND;VALUE=DATE:20260331
DTSTAMP:20260419T190036
CREATED:20260201T220457Z
LAST-MODIFIED:20260201T220457Z
UID:10002432-1774828800-1774915199@cglj.org
SUMMARY:Call for Input\, UN SR on the human right to a healthy environment
DESCRIPTION:The UN Special Rapporteur on the human right to a healthy environment has issued a call for input to inform a thematic report on planning processes and tools for the advancement of the protection of the right to a healthy environment\, to be presented to the 81st session of the UN General Assembly.
URL:https://cglj.org/event/call-for-input-un-sr-on-the-human-right-to-a-healthy-environment-3/
CATEGORIES:Deadline
END:VEVENT
BEGIN:VEVENT
DTSTART;VALUE=DATE:20260331
DTEND;VALUE=DATE:20260401
DTSTAMP:20260419T190036
CREATED:20260302T184046Z
LAST-MODIFIED:20260302T184046Z
UID:10002462-1774915200-1775001599@cglj.org
SUMMARY:Call for Input\, UN SR on the right to development
DESCRIPTION:The UN Special Rapporteur on the right to development has issued a call for input in preparation for their country visit to Kazakhstan.
URL:https://cglj.org/event/call-for-input-un-sr-on-the-right-to-development-2/
CATEGORIES:Deadline
END:VEVENT
BEGIN:VEVENT
DTSTART;VALUE=DATE:20260331
DTEND;VALUE=DATE:20260401
DTSTAMP:20260419T190036
CREATED:20260302T191034Z
LAST-MODIFIED:20260302T191103Z
UID:10002473-1774915200-1775001599@cglj.org
SUMMARY:Call for Input\, OHCHR (impact of drugs on women and girls)
DESCRIPTION:The UN Office of the High Commissioner for Human Rights (OHCHR) has issued a call for input to inform the drafting process of a report on “the impact of drug policies on the rights of women and girls.”
URL:https://cglj.org/event/call-for-input-ohchr-impact-of-drugs-on-women-and-girls/
CATEGORIES:Deadline
END:VEVENT
BEGIN:VEVENT
DTSTART;VALUE=DATE:20260331
DTEND;VALUE=DATE:20260401
DTSTAMP:20260419T190036
CREATED:20260302T191643Z
LAST-MODIFIED:20260302T191643Z
UID:10002475-1774915200-1775001599@cglj.org
SUMMARY:ACHPR\, Call for information on prisons and conditions of detention
DESCRIPTION:The African Commission on Human and Peoples’ Rights (ACHPR) is gathering information to contribute to secondary data collection process under the Study on Prisons\, Conditions of detention in Africa. Through its Special Mechanism on Prisons\, Conditions of Detention and Police Action in Africa\, the Commission has officially commenced the process of secondary data collection for its continental study on prisons and conditions of detention. This study\, anchored on Resolution ACHPR/Res.557 (LXXV) 2023\, and Article 6 of the African Charter\, seeks to identify the root causes of human rights violations in prisons and places of detention\, and to provide practical recommendations for reform and paradigm shift across Africa. Email submissions to achpr.SMPrisons@africanunion.org.
URL:https://cglj.org/event/achpr-call-for-information-on-prisons-and-conditions-of-detention/
CATEGORIES:Deadline,Regional Human Rights Mechanisms
END:VEVENT
BEGIN:VEVENT
DTSTART;VALUE=DATE:20260331
DTEND;VALUE=DATE:20260401
DTSTAMP:20260419T190036
CREATED:20260323T142511Z
LAST-MODIFIED:20260323T142645Z
UID:10002488-1774915200-1775001599@cglj.org
SUMMARY:ACERWC\, Deadline for Side Event Applications\, 47th Ord. Session
DESCRIPTION:The African Committee of Experts on the Rights and Welfare of the Child (ACERWC) is scheduled to hold its 47th Ordinary Session from April 17 to 25\, 2026. The ACERWC invites those interested in organizing a side event to submit a concept note along with a proposed programme for their event via email to acerwc-secretariat@africanunion.org by March 31.
URL:https://cglj.org/event/acerwc-deadline-for-side-event-applications-47th-ord-session/
CATEGORIES:Deadline,Regional Human Rights Mechanisms
END:VEVENT
BEGIN:VEVENT
DTSTART;VALUE=DATE:20260403
DTEND;VALUE=DATE:20260404
DTSTAMP:20260419T190036
CREATED:20260304T185117Z
LAST-MODIFIED:20260304T190733Z
UID:10002484-1775174400-1775260799@cglj.org
SUMMARY:Deadline for Requesting to Attend WGEID Session
DESCRIPTION:The UN Working Group on Enforced and Involuntary Disappearances (WGEID) is scheduled to hold its 139th session in Abidjan\, Côte d’Ivoire in May 2026. Those interested in meeting with the experts of the Working Group during the session should notify the Secretariat at the UN OHCHR via e-mail: hrc-wg-eid@un.org. Deadline April 3.
URL:https://cglj.org/event/deadline-for-requesting-to-attend-wgeid-session/
LOCATION:Abidjan\, Abidjan\, Côte d'Ivoire
CATEGORIES:Deadline
END:VEVENT
BEGIN:VEVENT
DTSTART;VALUE=DATE:20260404
DTEND;VALUE=DATE:20260405
DTSTAMP:20260419T190036
CREATED:20250527T155547Z
LAST-MODIFIED:20250723T014245Z
UID:10000083-1775260800-1775347199@cglj.org
SUMMARY:Mine Awareness Day
DESCRIPTION:International Day for Mine Awareness and Assistance in Mine Action is observed on April 4.
URL:https://cglj.org/event/mine-awareness-day/2026-04-04/
CATEGORIES:Social & Cultural Events
END:VEVENT
BEGIN:VEVENT
DTSTART;VALUE=DATE:20260404
DTEND;VALUE=DATE:20260405
DTSTAMP:20260419T190036
CREATED:20260401T023525Z
LAST-MODIFIED:20260401T023525Z
UID:10002494-1775260800-1775347199@cglj.org
SUMMARY:Call for input\, UN SR on independence of judges and lawyers
DESCRIPTION:The UN Special Rapporteur on the independence of judges and lawyers has issued a call for input to prepare for her upcoming visit to Poland in May 2026.
URL:https://cglj.org/event/call-for-input-un-sr-on-independence-of-judges-and-lawyers/
CATEGORIES:Deadline
END:VEVENT
BEGIN:VEVENT
DTSTART;VALUE=DATE:20260406
DTEND;VALUE=DATE:20260407
DTSTAMP:20260419T190036
CREATED:20260302T193519Z
LAST-MODIFIED:20260302T193519Z
UID:10002479-1775433600-1775519999@cglj.org
SUMMARY:Call for Input\, UN IE to Advance Racial Justice and Equality in Law Enforcement (EMLER)
DESCRIPTION:The UN’s International Independent Expert Mechanism to Advance Racial Justice and Equality in Law Enforcement (EMLER) is calling for inputs to inform an upcoming visit to Colombia.
URL:https://cglj.org/event/call-for-input-un-ie-to-advance-racial-justice-and-equality-in-law-enforcement-emler/
CATEGORIES:Deadline
END:VEVENT
BEGIN:VEVENT
DTSTART;VALUE=DATE:20260407
DTEND;VALUE=DATE:20260408
DTSTAMP:20260419T190036
CREATED:20250527T155547Z
LAST-MODIFIED:20250723T014232Z
UID:10000100-1775520000-1775606399@cglj.org
SUMMARY:World Health Day
DESCRIPTION:The World Health Organization’s World Health Day is observed on April 7.
URL:https://cglj.org/event/world-health-day/2026-04-07/
CATEGORIES:Social & Cultural Events
END:VEVENT
BEGIN:VEVENT
DTSTART;VALUE=DATE:20260407
DTEND;VALUE=DATE:20260408
DTSTAMP:20260419T190036
CREATED:20250527T155547Z
LAST-MODIFIED:20250723T014240Z
UID:10000117-1775520000-1775606399@cglj.org
SUMMARY:Rwandan Genocide Remembrance
DESCRIPTION:Day of Remembrance of the Victims of the Rwanda Genocide is observed on April 7.
URL:https://cglj.org/event/rwandan-genocide-remembrance/2026-04-07/
CATEGORIES:Social & Cultural Events
END:VEVENT
BEGIN:VEVENT
DTSTART;VALUE=DATE:20260408
DTEND;VALUE=DATE:20260409
DTSTAMP:20260419T190036
CREATED:20260205T000955Z
LAST-MODIFIED:20260205T000955Z
UID:10002439-1775606400-1775692799@cglj.org
SUMMARY:Deadline to Register for PFPAD
DESCRIPTION:The 5th session of the UN Permanent Forum on People of African Descent (PFPAD) will take place in Geneva\, Switzerland starting April 14. All interested participants must register through the UN’s Indico system by 11:59PM (Central European Time) on Wednesday\, April 8.
URL:https://cglj.org/event/deadline-to-register-for-pfpad/
CATEGORIES:Deadline
END:VEVENT
BEGIN:VEVENT
DTSTART;VALUE=DATE:20260409
DTEND;VALUE=DATE:20260411
DTSTAMP:20260419T190036
CREATED:20260401T023948Z
LAST-MODIFIED:20260401T023948Z
UID:10002495-1775692800-1775865599@cglj.org
SUMMARY:UN Conference on Humanitarian Action\, Remedy\, and Responsibility in unilateral sanctions environment
DESCRIPTION:The UN will be holding a Conference on Humanitarian Action\, Remedy\, and Responsibility in unilateral sanctions environment on April 9 and 10 at the Palais des Nations in Geneva\, Switzerland. The purpose of this conference is to provide a forum to discuss the draft Guiding principles on humanitarian action in the face of unilateral sanctions\, Guiding principles on effective remedy and responsibility in unilateral sanctions environment and a Commentary thereto\, and to address the most important aspects of interaction of different categories of states\, private actors\, delivery of humanitarian assistance\, other types of humanitarian action\, from the perspective of international law. Registration is open via the UN’s Indico system.
URL:https://cglj.org/event/un-conference-on-humanitarian-action-remedy-and-responsibility-in-unilateral-sanctions-environment/
LOCATION:Palais des Nations\, Geneva\, Switzerland
CATEGORIES:Conferences & Trainings
END:VEVENT
BEGIN:VEVENT
DTSTART;VALUE=DATE:20260410
DTEND;VALUE=DATE:20260411
DTSTAMP:20260419T190036
CREATED:20260211T183957Z
LAST-MODIFIED:20260408T152117Z
UID:10002444-1775779200-1775865599@cglj.org
SUMMARY:Call for Input\, UN EM to Advance Racial Justice and Equality in Law Enforcement (EMLER)
DESCRIPTION:The UN’s International Independent Expert Mechanism to Advance Racial Justice and Equality in Law Enforcement (EMLER) is calling for inputs to inform an upcoming report on systemic racism against Africans and people of African descent in the enforcement of drug laws and policies.
URL:https://cglj.org/event/call-for-input-un-ie-to-advance-racial-justice-and-equality-in-law-enforcement/
CATEGORIES:Deadline
END:VEVENT
BEGIN:VEVENT
DTSTART;VALUE=DATE:20260410
DTEND;VALUE=DATE:20260411
DTSTAMP:20260419T190036
CREATED:20260211T191458Z
LAST-MODIFIED:20260211T191458Z
UID:10002447-1775779200-1775865599@cglj.org
SUMMARY:UPR\, Civil Society Submissions Due
DESCRIPTION:Written submissions from civil society due regarding the October 2026 Universal Periodic Review (UPR) of Suriname\, Greece\, Samoa\, Saint Vincent and the Grenadines\, Hungary\, Papua New Guinea\, Tajikistan\, United Republic of Tanzania\, Antigua and Barbuda\, Eswatini\, Trinidad and Tobago\, Thailand\, Ireland\, and United States of America.* \n*(from the civil society participation webpage) “IMPORTANT NOTICE: Regarding the review of the United States of America . . . only those organizations that contributed to the 2025 pre-session UPR reports of the USA will be invited to submit an update . . . .”
URL:https://cglj.org/event/upr-civil-society-submissions-due-2/
CATEGORIES:Deadline
END:VEVENT
BEGIN:VEVENT
DTSTART;VALUE=DATE:20260410
DTEND;VALUE=DATE:20260411
DTSTAMP:20260419T190036
CREATED:20260302T184258Z
LAST-MODIFIED:20260302T184258Z
UID:10002463-1775779200-1775865599@cglj.org
SUMMARY:Call for Input\, UN SR on violence against women and girls
DESCRIPTION:The UN Special Rapporteur on violence against women and girls has issued a call for input on violence against older women to inform their report and recommendations to the 81st session of the United Nations General Assembly.
URL:https://cglj.org/event/call-for-input-un-sr-on-violence-against-women-and-girls-3/
CATEGORIES:Deadline
END:VEVENT
BEGIN:VEVENT
DTSTART;VALUE=DATE:20260410
DTEND;VALUE=DATE:20260411
DTSTAMP:20260419T190036
CREATED:20260401T024430Z
LAST-MODIFIED:20260401T024430Z
UID:10002496-1775779200-1775865599@cglj.org
SUMMARY:Call for Input\, UN SR on contemporary forms of racism
DESCRIPTION:The UN Special Rapporteur on contemporary forms of racism has issued a call for input on contemporary forms of racism in sports.
URL:https://cglj.org/event/call-for-input-un-sr-on-contemporary-forms-of-racism-2/
CATEGORIES:Deadline
END:VEVENT
BEGIN:VEVENT
DTSTART;VALUE=DATE:20260410
DTEND;VALUE=DATE:20260411
DTSTAMP:20260419T190036
CREATED:20260401T024617Z
LAST-MODIFIED:20260401T024617Z
UID:10002497-1775779200-1775865599@cglj.org
SUMMARY:Call for Input\, UN SR on contemporary forms of racism
DESCRIPTION:The UN Special Rapporteur on contemporary forms of racism has issued a call for input on report on combating glorification of Nazism\, neo-Nazism and other practices that contribute to fueling contemporary forms of racism\, racial discrimination\, xenophobia and related intolerance.
URL:https://cglj.org/event/call-for-input-un-sr-on-contemporary-forms-of-racism-3/
CATEGORIES:Deadline
END:VEVENT
BEGIN:VEVENT
DTSTART;VALUE=DATE:20260411
DTEND;VALUE=DATE:20260412
DTSTAMP:20260419T190036
CREATED:20260410T173745Z
LAST-MODIFIED:20260410T174001Z
UID:10002524-1775865600-1775951999@cglj.org
SUMMARY:Deadline\, statements & panel requests - ACHPR 87
DESCRIPTION:The African Commission on Human and Peoples’ Rights (ACHPR) will hold its 87th Ordinary Session in May. \nThose who wish to make a statement during the session must register to do so by April 11. Registration for panel interventions is also due April 11. \nStakeholders who wish to participate in the session must register by April 25.
URL:https://cglj.org/event/deadline-statements-panel-requests-achpr-87/
LOCATION:Sir Dawda Kairaba Jawara International Conference Centre\, Banjul\, Gambia
CATEGORIES:Deadline,Regional Human Rights Mechanisms
END:VEVENT
BEGIN:VEVENT
DTSTART;VALUE=DATE:20260413
DTEND;VALUE=DATE:20260414
DTSTAMP:20260419T190036
CREATED:20260302T191300Z
LAST-MODIFIED:20260302T191300Z
UID:10002474-1776038400-1776124799@cglj.org
SUMMARY:Call for Input\, OHCHR (national or ethnic\, religious and linguistic minorities)
DESCRIPTION:The UN Office of the High Commissioner for Human Rights (OHCHR) has issued a call for input to inform the 2026 report of the Secretary-General on the Rights of Persons belonging to National or Ethnic\, Religious and Linguistic Minorities\, to be presented at the 81st session of the General Assembly. The High Commissioner is seeking relevant information to ensure the realization of the rights of persons belonging to national or ethnic\, religious and linguistic minorities.
URL:https://cglj.org/event/call-for-input-ohchr-national-or-ethnic-religious-and-linguistic-minorities/
CATEGORIES:Deadline
END:VEVENT
END:VCALENDAR