BEGIN:VCALENDAR
VERSION:2.0
PRODID:-//Center for Global Law and Justice | Resource Hub - ECPv6.15.17.1//NONSGML v1.0//EN
CALSCALE:GREGORIAN
METHOD:PUBLISH
X-WR-CALNAME:Center for Global Law and Justice | Resource Hub
X-ORIGINAL-URL:https://cglj.org
X-WR-CALDESC:Events for Center for Global Law and Justice | Resource Hub
REFRESH-INTERVAL;VALUE=DURATION:PT1H
X-Robots-Tag:noindex
X-PUBLISHED-TTL:PT1H
BEGIN:VTIMEZONE
TZID:America/Denver
BEGIN:DAYLIGHT
TZOFFSETFROM:-0700
TZOFFSETTO:-0600
TZNAME:MDT
DTSTART:20220313T090000
END:DAYLIGHT
BEGIN:STANDARD
TZOFFSETFROM:-0600
TZOFFSETTO:-0700
TZNAME:MST
DTSTART:20221106T080000
END:STANDARD
BEGIN:DAYLIGHT
TZOFFSETFROM:-0700
TZOFFSETTO:-0600
TZNAME:MDT
DTSTART:20230312T090000
END:DAYLIGHT
BEGIN:STANDARD
TZOFFSETFROM:-0600
TZOFFSETTO:-0700
TZNAME:MST
DTSTART:20231105T080000
END:STANDARD
BEGIN:DAYLIGHT
TZOFFSETFROM:-0700
TZOFFSETTO:-0600
TZNAME:MDT
DTSTART:20240310T090000
END:DAYLIGHT
BEGIN:STANDARD
TZOFFSETFROM:-0600
TZOFFSETTO:-0700
TZNAME:MST
DTSTART:20241103T080000
END:STANDARD
END:VTIMEZONE
BEGIN:VEVENT
DTSTART;VALUE=DATE:20231106
DTEND;VALUE=DATE:20231107
DTSTAMP:20260423T214852
CREATED:20250527T155556Z
LAST-MODIFIED:20250723T013104Z
UID:10000666-1699228800-1699315199@cglj.org
SUMMARY:Environment in Armed Conflict
DESCRIPTION:International Day for Preventing the Exploitation of the Environment in War and Armed Conflict is observed on November 6.
URL:https://cglj.org/event/environment-in-armed-conflict/2023-11-06/
CATEGORIES:Social & Cultural Events
END:VEVENT
BEGIN:VEVENT
DTSTART;VALUE=DATE:20231110
DTEND;VALUE=DATE:20231111
DTSTAMP:20260423T214852
CREATED:20250527T155556Z
LAST-MODIFIED:20250723T013050Z
UID:10000682-1699574400-1699660799@cglj.org
SUMMARY:World Science Day for Peace
DESCRIPTION:World Science Day for Peace and Development is observed on November 10.
URL:https://cglj.org/event/world-science-day-for-peace/2023-11-10/
CATEGORIES:Social & Cultural Events
END:VEVENT
BEGIN:VEVENT
DTSTART;VALUE=DATE:20231116
DTEND;VALUE=DATE:20231117
DTSTAMP:20260423T214852
CREATED:20250527T155556Z
LAST-MODIFIED:20250723T013044Z
UID:10000698-1700092800-1700179199@cglj.org
SUMMARY:International Tolerance Day
DESCRIPTION:International Tolerance Day is observed on November 16.
URL:https://cglj.org/event/international-tolerance-day/2023-11-16/
CATEGORIES:Social & Cultural Events
END:VEVENT
BEGIN:VEVENT
DTSTART;VALUE=DATE:20231120
DTEND;VALUE=DATE:20231121
DTSTAMP:20260423T214852
CREATED:20250527T155556Z
LAST-MODIFIED:20250723T013031Z
UID:10000714-1700438400-1700524799@cglj.org
SUMMARY:Universal Children's Day
DESCRIPTION:Universal Children’s Day is observed on November 20.
URL:https://cglj.org/event/universal-childrens-day/2023-11-20/
CATEGORIES:Social & Cultural Events
END:VEVENT
BEGIN:VEVENT
DTSTART;VALUE=DATE:20231125
DTEND;VALUE=DATE:20231126
DTSTAMP:20260423T214852
CREATED:20250527T155556Z
LAST-MODIFIED:20250723T013024Z
UID:10000730-1700870400-1700956799@cglj.org
SUMMARY:End Violence against Women
DESCRIPTION:International Day for the Elimination of Violence against Women is observed on November 25.
URL:https://cglj.org/event/end-violence-against-women/2023-11-25/
CATEGORIES:Social & Cultural Events
END:VEVENT
BEGIN:VEVENT
DTSTART;VALUE=DATE:20231129
DTEND;VALUE=DATE:20231130
DTSTAMP:20260423T214852
CREATED:20250527T155556Z
LAST-MODIFIED:20250723T012918Z
UID:10000746-1701216000-1701302399@cglj.org
SUMMARY:Solidarity with Palestinians
DESCRIPTION:International Day of Solidarity with the Palestinian People is observed on November 29.
URL:https://cglj.org/event/solidarity-with-palestinians/2023-11-29/
CATEGORIES:Social & Cultural Events
END:VEVENT
END:VCALENDAR