BEGIN:VCALENDAR
VERSION:2.0
PRODID:-//Center for Global Law and Justice | Resource Hub - ECPv6.15.17.1//NONSGML v1.0//EN
CALSCALE:GREGORIAN
METHOD:PUBLISH
X-WR-CALNAME:Center for Global Law and Justice | Resource Hub
X-ORIGINAL-URL:https://cglj.org
X-WR-CALDESC:Events for Center for Global Law and Justice | Resource Hub
REFRESH-INTERVAL;VALUE=DURATION:PT1H
X-Robots-Tag:noindex
X-PUBLISHED-TTL:PT1H
BEGIN:VTIMEZONE
TZID:America/Denver
BEGIN:DAYLIGHT
TZOFFSETFROM:-0700
TZOFFSETTO:-0600
TZNAME:MDT
DTSTART:20170312T090000
END:DAYLIGHT
BEGIN:STANDARD
TZOFFSETFROM:-0600
TZOFFSETTO:-0700
TZNAME:MST
DTSTART:20171105T080000
END:STANDARD
BEGIN:DAYLIGHT
TZOFFSETFROM:-0700
TZOFFSETTO:-0600
TZNAME:MDT
DTSTART:20180311T090000
END:DAYLIGHT
BEGIN:STANDARD
TZOFFSETFROM:-0600
TZOFFSETTO:-0700
TZNAME:MST
DTSTART:20181104T080000
END:STANDARD
BEGIN:DAYLIGHT
TZOFFSETFROM:-0700
TZOFFSETTO:-0600
TZNAME:MDT
DTSTART:20190310T090000
END:DAYLIGHT
BEGIN:STANDARD
TZOFFSETFROM:-0600
TZOFFSETTO:-0700
TZNAME:MST
DTSTART:20191103T080000
END:STANDARD
END:VTIMEZONE
BEGIN:VEVENT
DTSTART;VALUE=DATE:20180809
DTEND;VALUE=DATE:20180810
DTSTAMP:20260424T011203
CREATED:20250527T155552Z
LAST-MODIFIED:20250723T013600Z
UID:10000405-1533772800-1533859199@cglj.org
SUMMARY:Indigenous Peoples Day
DESCRIPTION:International Day of the World’s Indigenous Peoples is observed on August 9.
URL:https://cglj.org/event/indigenous-peoples-day/2018-08-09/
CATEGORIES:Social & Cultural Events
END:VEVENT
BEGIN:VEVENT
DTSTART;VALUE=DATE:20180812
DTEND;VALUE=DATE:20180813
DTSTAMP:20260424T011203
CREATED:20250527T155552Z
LAST-MODIFIED:20250723T013543Z
UID:10000389-1534032000-1534118399@cglj.org
SUMMARY:International Youth Day
DESCRIPTION:International Youth Day is observed on August 12.
URL:https://cglj.org/event/international-youth-day/2018-08-12/
CATEGORIES:Social & Cultural Events
END:VEVENT
BEGIN:VEVENT
DTSTART;VALUE=DATE:20180819
DTEND;VALUE=DATE:20180820
DTSTAMP:20260424T011203
CREATED:20250527T155552Z
LAST-MODIFIED:20250723T013516Z
UID:10000421-1534636800-1534723199@cglj.org
SUMMARY:World Humanitarian Day
DESCRIPTION:World Humanitarian Day is observed on August 19.
URL:https://cglj.org/event/world-humanitarian-day/2018-08-19/
CATEGORIES:Social & Cultural Events
END:VEVENT
BEGIN:VEVENT
DTSTART;VALUE=DATE:20180829
DTEND;VALUE=DATE:20180830
DTSTAMP:20260424T011203
CREATED:20250527T155552Z
LAST-MODIFIED:20250723T013509Z
UID:10000437-1535500800-1535587199@cglj.org
SUMMARY:Day against Nuclear Tests
DESCRIPTION:International Day against Nuclear Tests is observed on August 29.
URL:https://cglj.org/event/day-against-nuclear-tests/2018-08-29/
CATEGORIES:Social & Cultural Events
END:VEVENT
BEGIN:VEVENT
DTSTART;VALUE=DATE:20180830
DTEND;VALUE=DATE:20180831
DTSTAMP:20260424T011203
CREATED:20250527T155552Z
LAST-MODIFIED:20250723T013502Z
UID:10000453-1535587200-1535673599@cglj.org
SUMMARY:Enforced Disappearances Day
DESCRIPTION:International Day of the Victims of Enforced Disappearances is observed on August 30.
URL:https://cglj.org/event/enforced-disappearances-day/2018-08-30/
CATEGORIES:Social & Cultural Events
END:VEVENT
END:VCALENDAR