BEGIN:VCALENDAR
VERSION:2.0
PRODID:-//Center for Global Law and Justice | Resource Hub - ECPv6.15.17.1//NONSGML v1.0//EN
CALSCALE:GREGORIAN
METHOD:PUBLISH
X-ORIGINAL-URL:https://cglj.org
X-WR-CALDESC:Events for Center for Global Law and Justice | Resource Hub
REFRESH-INTERVAL;VALUE=DURATION:PT1H
X-Robots-Tag:noindex
X-PUBLISHED-TTL:PT1H
BEGIN:VTIMEZONE
TZID:America/Denver
BEGIN:DAYLIGHT
TZOFFSETFROM:-0700
TZOFFSETTO:-0600
TZNAME:MDT
DTSTART:20170312T090000
END:DAYLIGHT
BEGIN:STANDARD
TZOFFSETFROM:-0600
TZOFFSETTO:-0700
TZNAME:MST
DTSTART:20171105T080000
END:STANDARD
BEGIN:DAYLIGHT
TZOFFSETFROM:-0700
TZOFFSETTO:-0600
TZNAME:MDT
DTSTART:20180311T090000
END:DAYLIGHT
BEGIN:STANDARD
TZOFFSETFROM:-0600
TZOFFSETTO:-0700
TZNAME:MST
DTSTART:20181104T080000
END:STANDARD
BEGIN:DAYLIGHT
TZOFFSETFROM:-0700
TZOFFSETTO:-0600
TZNAME:MDT
DTSTART:20190310T090000
END:DAYLIGHT
BEGIN:STANDARD
TZOFFSETFROM:-0600
TZOFFSETTO:-0700
TZNAME:MST
DTSTART:20191103T080000
END:STANDARD
END:VTIMEZONE
BEGIN:VEVENT
DTSTART;VALUE=DATE:20180404
DTEND;VALUE=DATE:20180405
DTSTAMP:20260420T113409
CREATED:20250527T155547Z
LAST-MODIFIED:20250723T014245Z
UID:10000075-1522800000-1522886399@cglj.org
SUMMARY:Mine Awareness Day
DESCRIPTION:International Day for Mine Awareness and Assistance in Mine Action is observed on April 4.
URL:https://cglj.org/event/mine-awareness-day/2018-04-04/
CATEGORIES:Social & Cultural Events
END:VEVENT
BEGIN:VEVENT
DTSTART;VALUE=DATE:20180407
DTEND;VALUE=DATE:20180408
DTSTAMP:20260420T113409
CREATED:20250527T155547Z
LAST-MODIFIED:20250723T014240Z
UID:10000109-1523059200-1523145599@cglj.org
SUMMARY:Rwandan Genocide Remembrance
DESCRIPTION:Day of Remembrance of the Victims of the Rwanda Genocide is observed on April 7.
URL:https://cglj.org/event/rwandan-genocide-remembrance/2018-04-07/
CATEGORIES:Social & Cultural Events
END:VEVENT
BEGIN:VEVENT
DTSTART;VALUE=DATE:20180407
DTEND;VALUE=DATE:20180408
DTSTAMP:20260420T113409
CREATED:20250527T155547Z
LAST-MODIFIED:20250723T014232Z
UID:10000092-1523059200-1523145599@cglj.org
SUMMARY:World Health Day
DESCRIPTION:The World Health Organization’s World Health Day is observed on April 7.
URL:https://cglj.org/event/world-health-day/2018-04-07/
CATEGORIES:Social & Cultural Events
END:VEVENT
BEGIN:VEVENT
DTSTART;VALUE=DATE:20180422
DTEND;VALUE=DATE:20180423
DTSTAMP:20260420T113409
CREATED:20250527T155549Z
LAST-MODIFIED:20250723T014219Z
UID:10000126-1524355200-1524441599@cglj.org
SUMMARY:International Mother Earth Day
DESCRIPTION:International Mother Earth Day is observed on April 22.
URL:https://cglj.org/event/international-mother-earth-day/2018-04-22/
CATEGORIES:Social & Cultural Events
END:VEVENT
BEGIN:VEVENT
DTSTART;VALUE=DATE:20180428
DTEND;VALUE=DATE:20180429
DTSTAMP:20260420T113409
CREATED:20250527T155549Z
LAST-MODIFIED:20250723T014020Z
UID:10000143-1524873600-1524959999@cglj.org
SUMMARY:World Day for Work Safety
DESCRIPTION:World Day for Safety and Health at Work is observed on April 28.
URL:https://cglj.org/event/world-day-for-work-safety/2018-04-28/
CATEGORIES:Social & Cultural Events
END:VEVENT
BEGIN:VEVENT
DTSTART;VALUE=DATE:20180429
DTEND;VALUE=DATE:20180430
DTSTAMP:20260420T113409
CREATED:20250527T155549Z
LAST-MODIFIED:20250723T014015Z
UID:10000160-1524960000-1525046399@cglj.org
SUMMARY:Chemical Warfare Victims' Day
DESCRIPTION:Day of Remembrance for all Victims of Chemical Warfare is observed on April 29.
URL:https://cglj.org/event/chemical-warfare-victims-day/2018-04-29/
CATEGORIES:Social & Cultural Events
END:VEVENT
END:VCALENDAR