BEGIN:VCALENDAR
VERSION:2.0
PRODID:-//Center for Global Law and Justice | Resource Hub - ECPv6.15.17.1//NONSGML v1.0//EN
CALSCALE:GREGORIAN
METHOD:PUBLISH
X-ORIGINAL-URL:https://cglj.org
X-WR-CALDESC:Events for Center for Global Law and Justice | Resource Hub
REFRESH-INTERVAL;VALUE=DURATION:PT1H
X-Robots-Tag:noindex
X-PUBLISHED-TTL:PT1H
BEGIN:VTIMEZONE
TZID:America/Denver
BEGIN:DAYLIGHT
TZOFFSETFROM:-0700
TZOFFSETTO:-0600
TZNAME:MDT
DTSTART:20180311T090000
END:DAYLIGHT
BEGIN:STANDARD
TZOFFSETFROM:-0600
TZOFFSETTO:-0700
TZNAME:MST
DTSTART:20181104T080000
END:STANDARD
BEGIN:DAYLIGHT
TZOFFSETFROM:-0700
TZOFFSETTO:-0600
TZNAME:MDT
DTSTART:20190310T090000
END:DAYLIGHT
BEGIN:STANDARD
TZOFFSETFROM:-0600
TZOFFSETTO:-0700
TZNAME:MST
DTSTART:20191103T080000
END:STANDARD
BEGIN:DAYLIGHT
TZOFFSETFROM:-0700
TZOFFSETTO:-0600
TZNAME:MDT
DTSTART:20200308T090000
END:DAYLIGHT
BEGIN:STANDARD
TZOFFSETFROM:-0600
TZOFFSETTO:-0700
TZNAME:MST
DTSTART:20201101T080000
END:STANDARD
BEGIN:DAYLIGHT
TZOFFSETFROM:-0700
TZOFFSETTO:-0600
TZNAME:MDT
DTSTART:20210314T090000
END:DAYLIGHT
BEGIN:STANDARD
TZOFFSETFROM:-0600
TZOFFSETTO:-0700
TZNAME:MST
DTSTART:20211107T080000
END:STANDARD
BEGIN:DAYLIGHT
TZOFFSETFROM:-0700
TZOFFSETTO:-0600
TZNAME:MDT
DTSTART:20220313T090000
END:DAYLIGHT
BEGIN:STANDARD
TZOFFSETFROM:-0600
TZOFFSETTO:-0700
TZNAME:MST
DTSTART:20221106T080000
END:STANDARD
BEGIN:DAYLIGHT
TZOFFSETFROM:-0700
TZOFFSETTO:-0600
TZNAME:MDT
DTSTART:20230312T090000
END:DAYLIGHT
BEGIN:STANDARD
TZOFFSETFROM:-0600
TZOFFSETTO:-0700
TZNAME:MST
DTSTART:20231105T080000
END:STANDARD
END:VTIMEZONE
BEGIN:VEVENT
DTSTART;VALUE=DATE:20220214
DTEND;VALUE=DATE:20220305
DTSTAMP:20260420T030354
CREATED:20250527T155756Z
LAST-MODIFIED:20250528T005728Z
UID:10001074-1644796800-1646438399@cglj.org
SUMMARY:CESCR 71st Session
DESCRIPTION:The Committee on Economic\, Social and Cultural Rights will hold its 71st Session from February 14 to March 4. It will review Bahrain\, Belarus\, Czech Republic\, Democratic Republic of Congo\, Serbia\, and Uzbekistan.
URL:https://cglj.org/event/cescr-71st-session/
CATEGORIES:Review of State Reports
END:VEVENT
BEGIN:VEVENT
DTSTART;VALUE=DATE:20220207
DTEND;VALUE=DATE:20220226
DTSTAMP:20260420T030354
CREATED:20250527T155756Z
LAST-MODIFIED:20250528T005734Z
UID:10001075-1644192000-1645833599@cglj.org
SUMMARY:CEDAW Committee 81st Session
DESCRIPTION:The Committee on the Elimination of Discrimination against Women will hold its 81st Session from February 7 to 25. It will review Dominican Republic\, Gabon\, Lebanon\, Panama\, Peru\, Senegal\, Uganda\, and Uzbekistan.
URL:https://cglj.org/event/cedaw-committee-81st-session/
CATEGORIES:Review of State Reports
END:VEVENT
BEGIN:VEVENT
DTSTART;VALUE=DATE:20220131
DTEND;VALUE=DATE:20220212
DTSTAMP:20260420T030354
CREATED:20250527T155751Z
LAST-MODIFIED:20250528T005753Z
UID:10001079-1643587200-1644623999@cglj.org
SUMMARY:CRC 89th Session
DESCRIPTION:The UN Committee on the Rights of the Child will hold its 89th Session from January 31 to February 11\, 2022. The States under review are Madagascar and the Netherlands.
URL:https://cglj.org/event/crc-89th-session/
CATEGORIES:Review of State Reports
END:VEVENT
BEGIN:VEVENT
DTSTART;VALUE=DATE:20211115
DTEND;VALUE=DATE:20211204
DTSTAMP:20260420T030354
CREATED:20250527T155751Z
LAST-MODIFIED:20250528T102747Z
UID:10001090-1636934400-1638575999@cglj.org
SUMMARY:CERD 105th Session
DESCRIPTION:The UN Committee on the Elimination of Racial Discrimination will hold its 105th Session from November 15 to December 3\, 2021. The States under review are Afghanistan\, Chile\, Senegal\, Singapore\, and Thailand.
URL:https://cglj.org/event/cerd-105th-session/
CATEGORIES:Review of State Reports
END:VEVENT
BEGIN:VEVENT
DTSTART;VALUE=DATE:20211018
DTEND;VALUE=DATE:20211113
DTSTAMP:20260420T030354
CREATED:20250527T155751Z
LAST-MODIFIED:20250528T102838Z
UID:10001101-1634515200-1636761599@cglj.org
SUMMARY:CEDAW Committee 80th Session
DESCRIPTION:The UN Committee on the Elimination of Discrimination Against Women will hold its 80th Session from October 18 to November 12\, 2021. The States under review are: Maldives\, Nicaragua\, Sweden\, Egypt\, Yemen\, Indonesia\, Ecuador\, Kyrgyzstan\, Russia\, South Sudan\, and South Africa.
URL:https://cglj.org/event/cedaw-committee-80th-session/
CATEGORIES:Review of State Reports
END:VEVENT
BEGIN:VEVENT
DTSTART;VALUE=DATE:20211011
DTEND;VALUE=DATE:20211106
DTSTAMP:20260420T030354
CREATED:20250527T155751Z
LAST-MODIFIED:20250528T102855Z
UID:10001105-1633910400-1636156799@cglj.org
SUMMARY:Human Rights Committee 133rd
DESCRIPTION:The UN Human Rights Committee will hold its 133rd Session from October 11 to November 5\, 2021.
URL:https://cglj.org/event/human-rights-committee-133rd/
CATEGORIES:Review of State Reports
END:VEVENT
BEGIN:VEVENT
DTSTART;VALUE=DATE:20210927
DTEND;VALUE=DATE:20211016
DTSTAMP:20260420T030354
CREATED:20250527T155751Z
LAST-MODIFIED:20250528T102907Z
UID:10001108-1632700800-1634342399@cglj.org
SUMMARY:CESCR 70th Session (TBC)
DESCRIPTION:The UN Committee on Economic\, Social and Cultural Rights is tentatively scheduled to hold its 70th Session from September 27 to October 15\, 2021. The States under review are Azerbaijan\, Bahrain\, Bolivia\, Bosnia nad Herzegovina\, Kuwait\, and Nicaragua.
URL:https://cglj.org/event/cescr-70th-session-tbc/
CATEGORIES:Review of State Reports
END:VEVENT
BEGIN:VEVENT
DTSTART;VALUE=DATE:20210927
DTEND;VALUE=DATE:20211009
DTSTAMP:20260420T030354
CREATED:20250527T155751Z
LAST-MODIFIED:20250528T104915Z
UID:10001109-1632700800-1633737599@cglj.org
SUMMARY:CMW 33rd Session
DESCRIPTION:The UN Committee on Migrant Workers will convene its 33rd Session from September 27 to October 8\, 2021.
URL:https://cglj.org/event/cmw-33rd-session-2/
CATEGORIES:Review of State Reports
END:VEVENT
BEGIN:VEVENT
DTSTART;VALUE=DATE:20210913
DTEND;VALUE=DATE:20210914
DTSTAMP:20260420T030354
CREATED:20250527T155754Z
LAST-MODIFIED:20250528T104936Z
UID:10001113-1631491200-1631577599@cglj.org
SUMMARY:CED 21st Session
DESCRIPTION:The UN Committee on Enforced Disappearances will hold its 21st Session\, in Geneva\, from September 13 to 24\, 2021.
URL:https://cglj.org/event/ced-21st-session/
CATEGORIES:Review of State Reports
END:VEVENT
BEGIN:VEVENT
DTSTART;VALUE=DATE:20210906
DTEND;VALUE=DATE:20210925
DTSTAMP:20260420T030354
CREATED:20250527T155751Z
LAST-MODIFIED:20250528T104946Z
UID:10001115-1630886400-1632527999@cglj.org
SUMMARY:CRC 88th Session
DESCRIPTION:The UN Committee on the Rights of the Child will hold its 88th Session from September 6 to 24\, 2021.
URL:https://cglj.org/event/crc-88th-session/
CATEGORIES:Review of State Reports
END:VEVENT
BEGIN:VEVENT
DTSTART;VALUE=DATE:20210816
DTEND;VALUE=DATE:20210911
DTSTAMP:20260420T030354
CREATED:20250527T155751Z
LAST-MODIFIED:20250528T105005Z
UID:10001119-1629072000-1631318399@cglj.org
SUMMARY:CRPD 25th Session
DESCRIPTION:The UN Committee on the Rights of Persons with Disabilities will hold its 25th Session from August 16 to September 10\, 2021. The States under review are: Bangladesh\, Djibouti\, France\, Jamaica\, Japan\, Laos\, and Venezuela.
URL:https://cglj.org/event/crpd-25th-session/
CATEGORIES:Review of State Reports
END:VEVENT
BEGIN:VEVENT
DTSTART;VALUE=DATE:20210804
DTEND;VALUE=DATE:20210827
DTSTAMP:20260420T030354
CREATED:20250527T155751Z
LAST-MODIFIED:20250528T105011Z
UID:10001120-1628035200-1630022399@cglj.org
SUMMARY:CERD 104th Session
DESCRIPTION:The UN Committee on the Elimination of Racial Discrimination will hold its 104th Session from August 4 to 26\, 2021. It is scheduled to hold constructive dialogues with Afghanistan\, Chile\, Senegal\, Singapore\, and Thailand.
URL:https://cglj.org/event/cerd-104th-session/
CATEGORIES:Review of State Reports
END:VEVENT
BEGIN:VEVENT
DTSTART;VALUE=DATE:20210712
DTEND;VALUE=DATE:20210731
DTSTAMP:20260420T030354
CREATED:20250527T155751Z
LAST-MODIFIED:20250528T105019Z
UID:10001121-1626048000-1627689599@cglj.org
SUMMARY:CAT 71st Session
DESCRIPTION:The UN Committee Against Torture is tentatively scheduled to hold its 71st Session from July 12 to July 30\, 2021. It will review Belgium’s report.
URL:https://cglj.org/event/cat-71st-session/
CATEGORIES:Review of State Reports
END:VEVENT
BEGIN:VEVENT
DTSTART;VALUE=DATE:20210621
DTEND;VALUE=DATE:20210710
DTSTAMP:20260420T030354
CREATED:20250527T155751Z
LAST-MODIFIED:20250528T105044Z
UID:10001127-1624233600-1625875199@cglj.org
SUMMARY:CEDAW Committee 79th Session
DESCRIPTION:The UN Committee on the Elimination of Discrimination Against Women will hold its 79th Session from June 21 to July 9\, 2021. The States under review are: Bahrain\, Kyrgyzstan\, Maldives\, Nicaragua\, Russia\, South Sudan\, Spain\, and Yemen.
URL:https://cglj.org/event/cedaw-committee-79th-session/
CATEGORIES:Review of State Reports
END:VEVENT
BEGIN:VEVENT
DTSTART;VALUE=DATE:20210517
DTEND;VALUE=DATE:20210605
DTSTAMP:20260420T030354
CREATED:20250527T155751Z
LAST-MODIFIED:20250529T120841Z
UID:10001135-1621209600-1622851199@cglj.org
SUMMARY:CRC 87th Session
DESCRIPTION:The UN Committee on the Rights of the Child will hold its 87th Session from May 17 to June 4\, 2021. The States under review are: Luxembourg and Tunisia.
URL:https://cglj.org/event/crc-87th-session/
CATEGORIES:Review of State Reports
END:VEVENT
BEGIN:VEVENT
DTSTART;VALUE=DATE:20210419
DTEND;VALUE=DATE:20210501
DTSTAMP:20260420T030354
CREATED:20250527T155751Z
LAST-MODIFIED:20250529T120859Z
UID:10001139-1618790400-1619827199@cglj.org
SUMMARY:CERD 103rd Session
DESCRIPTION:The UN Committee on the Elimination of Racial Discrimination will hold its 103rd Session from April 19 to 30\, 2021.
URL:https://cglj.org/event/cerd-103rd-session/
CATEGORIES:Review of State Reports
END:VEVENT
BEGIN:VEVENT
DTSTART;VALUE=DATE:20210412
DTEND;VALUE=DATE:20210508
DTSTAMP:20260420T030354
CREATED:20250527T155751Z
LAST-MODIFIED:20250529T120907Z
UID:10001141-1618185600-1620431999@cglj.org
SUMMARY:CED 20th Session
DESCRIPTION:The UN Committee on Enforced Disappearances will hold its 20th Session from April 12 to May 7\, 2021. It will adopt the list of issues in absence of a report for Zambia\, and hold a dialogue with Colombia on the CED’s request for additional information. The CED will also hold dialogues with Mongolia and Switzerland concerning their reports.
URL:https://cglj.org/event/ced-20th-session/
CATEGORIES:Review of State Reports
END:VEVENT
BEGIN:VEVENT
DTSTART;VALUE=DATE:20200217
DTEND;VALUE=DATE:20200307
DTSTAMP:20260420T030354
CREATED:20250527T155740Z
LAST-MODIFIED:20250619T201837Z
UID:10001214-1581897600-1583539199@cglj.org
SUMMARY:CESCR 67th Session
DESCRIPTION:The Committee on Economic\, Social and Cultural Rights (CESCR) will hold its 67th Session from February 17 to March 6\, 2020.
URL:https://cglj.org/event/cescr-67th-session/
CATEGORIES:Review of State Reports
END:VEVENT
BEGIN:VEVENT
DTSTART;VALUE=DATE:20200210
DTEND;VALUE=DATE:20200229
DTSTAMP:20260420T030354
CREATED:20250527T155740Z
LAST-MODIFIED:20250619T201919Z
UID:10001218-1581292800-1582934399@cglj.org
SUMMARY:CEDAW Committee 75th Session
DESCRIPTION:The Committee on the Elimination of All Forms of Discrimination against Women (CEDAW Committee) will hold its 75th Session from February 10 to 28\, 2020\, in Geneva\, Switzerland.
URL:https://cglj.org/event/cedaw-committee-75th-session/
CATEGORIES:Review of State Reports
END:VEVENT
BEGIN:VEVENT
DTSTART;VALUE=DATE:20200210
DTEND;VALUE=DATE:20200215
DTSTAMP:20260420T030354
CREATED:20250527T155738Z
LAST-MODIFIED:20250619T201932Z
UID:10001222-1581292800-1581724799@cglj.org
SUMMARY:CRC Pre-Sess WG 85th Sess
DESCRIPTION:The Committee on the Rights of the Child Pre-Sessional Working Group will hold its 85th Session from February 10 to 14\, 2020\, in Geneva\, Switzerland.
URL:https://cglj.org/event/crc-pre-sess-wg-85th-sess/
CATEGORIES:Review of State Reports
END:VEVENT
BEGIN:VEVENT
DTSTART;VALUE=DATE:20200127
DTEND;VALUE=DATE:20200201
DTSTAMP:20260420T030354
CREATED:20250527T155738Z
LAST-MODIFIED:20250619T202424Z
UID:10001229-1580083200-1580515199@cglj.org
SUMMARY:ECSR 311th Session
DESCRIPTION:The European Committee of Social Rights (ECSR) of the Council of Europe will hold its 311th Session from January 27 to January 31\, 2020\, in Strasbourg\, France.
URL:https://cglj.org/event/ecsr-311th-session/
CATEGORIES:Review of State Reports
END:VEVENT
BEGIN:VEVENT
DTSTART;VALUE=DATE:20200120
DTEND;VALUE=DATE:20200208
DTSTAMP:20260420T030354
CREATED:20250527T155738Z
LAST-MODIFIED:20250619T202439Z
UID:10001232-1579478400-1581119999@cglj.org
SUMMARY:CRC 83rd Session
DESCRIPTION:The Committee on the Rights of the Child will hold its 83rd Session in Geneva\, Switzerland from January 20 to February 7\, 2020.
URL:https://cglj.org/event/crc-83rd-session/
CATEGORIES:Review of State Reports
END:VEVENT
BEGIN:VEVENT
DTSTART;VALUE=DATE:20200120
DTEND;VALUE=DATE:20200201
DTSTAMP:20260420T030354
CREATED:20250527T155735Z
LAST-MODIFIED:20250619T202447Z
UID:10001234-1579478400-1580515199@cglj.org
SUMMARY:UPR WG 35th Session
DESCRIPTION:The Human Rights Council‚Äôs UPR Working Group will hold its 35th Session from January 20 to January 31\, 2020\, in Geneva\, Switzerland.
URL:https://cglj.org/event/upr-wg-35th-session/
CATEGORIES:Review of State Reports
END:VEVENT
BEGIN:VEVENT
DTSTART;VALUE=DATE:20191125
DTEND;VALUE=DATE:20191214
DTSTAMP:20260420T030354
CREATED:20250527T155733Z
LAST-MODIFIED:20250619T202612Z
UID:10001251-1574640000-1576281599@cglj.org
SUMMARY:CERD Committee 100th Sess
DESCRIPTION:The Committee on the Elimination of Racial Discrimination will hold its 100th Session from November 25 to December 13\, 2019.
URL:https://cglj.org/event/cerd-committee-100th-sess/
CATEGORIES:Review of State Reports
END:VEVENT
BEGIN:VEVENT
DTSTART;VALUE=DATE:20191111
DTEND;VALUE=DATE:20191207
DTSTAMP:20260420T030354
CREATED:20250527T155733Z
LAST-MODIFIED:20250619T202648Z
UID:10001261-1573430400-1575676799@cglj.org
SUMMARY:CAT 68th Session
DESCRIPTION:The Committee against Torture will hold its 68th Session from November 11 to December 6\, 2019 in Geneva\, Switzerland.
URL:https://cglj.org/event/cat-68th-session/
CATEGORIES:Review of State Reports
END:VEVENT
BEGIN:VEVENT
DTSTART;VALUE=DATE:20191021
DTEND;VALUE=DATE:20191109
DTSTAMP:20260420T030354
CREATED:20250527T155731Z
LAST-MODIFIED:20250619T202723Z
UID:10001271-1571616000-1573257599@cglj.org
SUMMARY:CEDAW Committee 74th Session
DESCRIPTION:The Committee on the Elimination of Discrimination against Women will hold its 74th Session from October 21 to November 8\, 2019 in Geneva\, Switzerland to review Andorra\, Bosnia and Herzegovina\, Cambodia\, Iraq\, Kazakhstan\, Lithuania\, and Seychelles.
URL:https://cglj.org/event/cedaw-committee-74th-session/
CATEGORIES:Review of State Reports
END:VEVENT
BEGIN:VEVENT
DTSTART;VALUE=DATE:20191021
DTEND;VALUE=DATE:20191026
DTSTAMP:20260420T030354
CREATED:20250527T155731Z
LAST-MODIFIED:20250619T202740Z
UID:10001275-1571616000-1572047999@cglj.org
SUMMARY:CESCR Pre-Sess WG 65th Session
DESCRIPTION:The Committee on Economic\, Social and Cultural Rights Pre-sessional Working Group will hold its 65th Session from October 21 to October 25\, 2019 in Geneva\, Switzerland.
URL:https://cglj.org/event/cescr-pre-sess-wg-65th-session/
CATEGORIES:Review of State Reports
END:VEVENT
BEGIN:VEVENT
DTSTART;VALUE=DATE:20191014
DTEND;VALUE=DATE:20191019
DTSTAMP:20260420T030354
CREATED:20250527T155733Z
LAST-MODIFIED:20250619T202758Z
UID:10001279-1571011200-1571443199@cglj.org
SUMMARY:ECSR 309th Session
DESCRIPTION:The European Committee on Social Rights of the Council of Europe will hold its 309th Session from October 14 to 18\, 2019 in Strasbourg\, France.
URL:https://cglj.org/event/ecsr-309th-session/
CATEGORIES:Review of State Reports
END:VEVENT
BEGIN:VEVENT
DTSTART;VALUE=DATE:20191014
DTEND;VALUE=DATE:20191109
DTSTAMP:20260420T030354
CREATED:20250527T155731Z
LAST-MODIFIED:20250619T202747Z
UID:10001276-1571011200-1573257599@cglj.org
SUMMARY:Human Rights Committee
DESCRIPTION:The Human Rights Committee will hold its 127th Session from October 14 to November 8\, 2019 in Geneva\, Switzerland to review Belgium\, Cabo Verde\, Central African Republic\, Czech Republic\, Mexico\, Senegal\, Afghanistan\, Croatia\, and Spain.
URL:https://cglj.org/event/human-rights-committee/
CATEGORIES:Review of State Reports
END:VEVENT
BEGIN:VEVENT
DTSTART;VALUE=DATE:20190930
DTEND;VALUE=DATE:20191019
DTSTAMP:20260420T030354
CREATED:20250527T155728Z
LAST-MODIFIED:20250619T202824Z
UID:10001284-1569801600-1571443199@cglj.org
SUMMARY:CESCR 66th Session
DESCRIPTION:The Committee on Economic\, Social\, and Cultural Rights will hold its 66th Session from September 30 – October 18\, 2019 in Geneva\, Switzerland to review Denmark\, Ecuador\, Guinea\, Israel\, Senegal\, Slovakia\, and Switzerland.
URL:https://cglj.org/event/cescr-66th-session/
CATEGORIES:Review of State Reports
END:VEVENT
END:VCALENDAR