BEGIN:VCALENDAR
VERSION:2.0
PRODID:-//Center for Global Law and Justice | Resource Hub - ECPv6.15.17.1//NONSGML v1.0//EN
CALSCALE:GREGORIAN
METHOD:PUBLISH
X-ORIGINAL-URL:https://cglj.org
X-WR-CALDESC:Events for Center for Global Law and Justice | Resource Hub
REFRESH-INTERVAL;VALUE=DURATION:PT1H
X-Robots-Tag:noindex
X-PUBLISHED-TTL:PT1H
BEGIN:VTIMEZONE
TZID:America/Denver
BEGIN:DAYLIGHT
TZOFFSETFROM:-0700
TZOFFSETTO:-0600
TZNAME:MDT
DTSTART:20180311T090000
END:DAYLIGHT
BEGIN:STANDARD
TZOFFSETFROM:-0600
TZOFFSETTO:-0700
TZNAME:MST
DTSTART:20181104T080000
END:STANDARD
BEGIN:DAYLIGHT
TZOFFSETFROM:-0700
TZOFFSETTO:-0600
TZNAME:MDT
DTSTART:20190310T090000
END:DAYLIGHT
BEGIN:STANDARD
TZOFFSETFROM:-0600
TZOFFSETTO:-0700
TZNAME:MST
DTSTART:20191103T080000
END:STANDARD
BEGIN:DAYLIGHT
TZOFFSETFROM:-0700
TZOFFSETTO:-0600
TZNAME:MDT
DTSTART:20200308T090000
END:DAYLIGHT
BEGIN:STANDARD
TZOFFSETFROM:-0600
TZOFFSETTO:-0700
TZNAME:MST
DTSTART:20201101T080000
END:STANDARD
END:VTIMEZONE
BEGIN:VEVENT
DTSTART;VALUE=DATE:20190722
DTEND;VALUE=DATE:20190810
DTSTAMP:20260423T235127
CREATED:20250527T155726Z
LAST-MODIFIED:20250626T002742Z
UID:10001324-1563753600-1565395199@cglj.org
SUMMARY:CAT 67th Session
DESCRIPTION:The Committee Against Torture will hold its 67th Session from July 22 to August 9\, 2019 in Geneva Switzerland to review Bangladesh\, Greece\, Poland\, and Togo.
URL:https://cglj.org/event/cat-67th-session/
CATEGORIES:Review of State Reports
END:VEVENT
BEGIN:VEVENT
DTSTART;VALUE=DATE:20190805
DTEND;VALUE=DATE:20190830
DTSTAMP:20260423T235127
CREATED:20250527T155726Z
LAST-MODIFIED:20250626T002733Z
UID:10001322-1564963200-1567123199@cglj.org
SUMMARY:CERD 99th Session
DESCRIPTION:The Committee on the Elimination of Racial Discrimination will hold its 99th Session from August 5 to 29\, 2019 in Geneva\, Switzerland to review the Czech Republic\, El Salvador\, Iceland\, Mexico\, Mongolia\, Poland\, and Palestine.
URL:https://cglj.org/event/cerd-99th-session/
CATEGORIES:Review of State Reports
END:VEVENT
BEGIN:VEVENT
DTSTART;VALUE=DATE:20190820
DTEND;VALUE=DATE:20190912
DTSTAMP:20260423T235127
CREATED:20250527T155726Z
LAST-MODIFIED:20250626T002712Z
UID:10001315-1566259200-1568246399@cglj.org
SUMMARY:CRPD 22nd Session
DESCRIPTION:The Committee on the Rights of Persons with Disabilities will hold its 22nd Session from August 20 to September 11\, 2019 in Geneva\, Switzerland to review Albania\, Australia\, Ecuador\, El Salvador\, Greece\, India\, Iraq\, Kuwait\, Myanmar\, Canada\, and Ukraine.
URL:https://cglj.org/event/crpd-22nd-session/
CATEGORIES:Review of State Reports
END:VEVENT
END:VCALENDAR