BEGIN:VCALENDAR
VERSION:2.0
PRODID:-//Center for Global Law and Justice | Resource Hub - ECPv6.15.17.1//NONSGML v1.0//EN
CALSCALE:GREGORIAN
METHOD:PUBLISH
X-WR-CALNAME:Center for Global Law and Justice | Resource Hub
X-ORIGINAL-URL:https://cglj.org
X-WR-CALDESC:Events for Center for Global Law and Justice | Resource Hub
REFRESH-INTERVAL;VALUE=DURATION:PT1H
X-Robots-Tag:noindex
X-PUBLISHED-TTL:PT1H
BEGIN:VTIMEZONE
TZID:America/Denver
BEGIN:DAYLIGHT
TZOFFSETFROM:-0700
TZOFFSETTO:-0600
TZNAME:MDT
DTSTART:20250309T090000
END:DAYLIGHT
BEGIN:STANDARD
TZOFFSETFROM:-0600
TZOFFSETTO:-0700
TZNAME:MST
DTSTART:20251102T080000
END:STANDARD
BEGIN:DAYLIGHT
TZOFFSETFROM:-0700
TZOFFSETTO:-0600
TZNAME:MDT
DTSTART:20260308T090000
END:DAYLIGHT
BEGIN:STANDARD
TZOFFSETFROM:-0600
TZOFFSETTO:-0700
TZNAME:MST
DTSTART:20261101T080000
END:STANDARD
BEGIN:DAYLIGHT
TZOFFSETFROM:-0700
TZOFFSETTO:-0600
TZNAME:MDT
DTSTART:20270314T090000
END:DAYLIGHT
BEGIN:STANDARD
TZOFFSETFROM:-0600
TZOFFSETTO:-0700
TZNAME:MST
DTSTART:20271107T080000
END:STANDARD
END:VTIMEZONE
BEGIN:VEVENT
DTSTART;VALUE=DATE:20260413
DTEND;VALUE=DATE:20260418
DTSTAMP:20260420T020919
CREATED:20250827T185244Z
LAST-MODIFIED:20251031T170255Z
UID:10002142-1776038400-1776470399@cglj.org
SUMMARY:Session\, UN WG on the use of mercenaries
DESCRIPTION:The UN Working Group on the use of mercenaries as a means of violating human rights and impeding the exercise of the rights of peoples to self-determination is scheduled to hold its 56th session in Geneva\, Switzerland.
URL:https://cglj.org/event/session-un-wg-on-the-use-of-mercenaries/
LOCATION:Palais des Nations\, Geneva\, Switzerland
CATEGORIES:Mechanism Session (Public)
END:VEVENT
BEGIN:VEVENT
DTSTART;VALUE=DATE:20260413
DTEND;VALUE=DATE:20260425
DTSTAMP:20260420T020920
CREATED:20260401T030315Z
LAST-MODIFIED:20260401T030315Z
UID:10002501-1776038400-1777075199@cglj.org
SUMMARY:Inter-American Court of Human Rights (IACtHR) 188
DESCRIPTION:The Inter-American Court of Human Rights (IACtHR) is scheduled to hold its 188th session.
URL:https://cglj.org/event/inter-american-court-of-human-rights-iacthr-188/
CATEGORIES:Mechanism Session (Public),Regional Human Rights Mechanisms
END:VEVENT
BEGIN:VEVENT
DTSTART;VALUE=DATE:20260413
DTEND;VALUE=DATE:20260502
DTSTAMP:20260420T020920
CREATED:20260401T025002Z
LAST-MODIFIED:20260401T025002Z
UID:10002498-1776038400-1777679999@cglj.org
SUMMARY:Committee on the Elimination of Racial Discrimination (CERD) 117
DESCRIPTION:The Committee on the Elimination of Racial Discrimination (CERD) is scheduled to hold its 117th session from April 13 to May 1. During this session\, the CERD will consider State reports from Burkina Faso\, Cuba\, Cyprus\, Serbia\, Slovenia\, Uzbekistan\, and Tonga; and follow-up reports from Albania\, Argentina\, Brazil\, Italy\, Qatar\, and Turkmenistan. A provisional agenda and a program of work are available on the session page. Guidance for civil society\, NGOs\, and NHRIs is available on the Committee’s webpage. Registration is open for all in-person attendees. All public meetings of the Committee are also generally webcast live on UN WebTV.
URL:https://cglj.org/event/committee-on-the-elimination-of-racial-discrimination-cerd-117/
LOCATION:Palais Wilson\, Geneva\, Switzerland
CATEGORIES:Mechanism Session (Public),Review of State Reports
END:VEVENT
BEGIN:VEVENT
DTSTART;VALUE=DATE:20260413
DTEND;VALUE=DATE:20260502
DTSTAMP:20260420T020920
CREATED:20260401T025225Z
LAST-MODIFIED:20260401T025225Z
UID:10002499-1776038400-1777679999@cglj.org
SUMMARY:Committee Against Torture (CAT) 84
DESCRIPTION:The Committee Against Torture (CAT) is scheduled to hold its 84th session from April 13 to May 1. During this session the CAT will consider State reports from Gabon\, Italy\, Pakistan\, and Tajikistan; and lists of issues prior to reporting for Brazil\, Colombia\, Kazakhstan\, Luxembourg\, New Zealand\, Romania\, Slovakia\, Spain\, and Switzerland. A Program of Work and an information note for civil society actors are available on the session page. Registration for in-person attendance is open via the UN’s Indico platform. All public meetings of the Committee are also generally webcast live on UN WebTV.
URL:https://cglj.org/event/committee-against-torture-cat-84/
LOCATION:Palais Wilson\, Geneva\, Switzerland
CATEGORIES:Mechanism Session (Public),Review of State Reports
END:VEVENT
BEGIN:VEVENT
DTSTART;VALUE=DATE:20260414
DTEND;VALUE=DATE:20260418
DTSTAMP:20260420T020920
CREATED:20260129T212756Z
LAST-MODIFIED:20260205T001125Z
UID:10002386-1776124800-1776470399@cglj.org
SUMMARY:United Nations Permanent Forum on People of African Descent (PFPAD) 5
DESCRIPTION:The 5th session of the UN Permanent Forum on People of African Descent (PFPAD) will take place in Geneva\, Switzerland. \nApplications for financial support must be submitted by February 20\, 2026. \nAll interested participants must register through the UN’s Indico system by 11:59PM (Central European Time) on Wednesday\, April 8. \nThe session will also be broadcasted via UN Web TV to follow the discussions in real-time with interpretation. \nIf you have any questions\, please contact the PFPAD Secretariat at pfpad@un.org.
URL:https://cglj.org/event/united-nations-permanent-forum-on-people-of-african-descent-pfpad-5/
LOCATION:Palais des Nations\, Geneva\, Switzerland
CATEGORIES:Conferences & Trainings
END:VEVENT
BEGIN:VEVENT
DTSTART;VALUE=DATE:20260417
DTEND;VALUE=DATE:20260418
DTSTAMP:20260420T020920
CREATED:20260302T184505Z
LAST-MODIFIED:20260302T184505Z
UID:10002464-1776384000-1776470399@cglj.org
SUMMARY:Call for Input\, UN SR on the right to development
DESCRIPTION:The UN Special Rapporteur on the right to development has issued a call for input to inform the 2026 thematic report on the right to development in the following themes: to the Human Rights Council “Participation in development” and to the United Nations General Assembly “Peace for development.”
URL:https://cglj.org/event/call-for-input-un-sr-on-the-right-to-development-3/
CATEGORIES:Deadline
END:VEVENT
BEGIN:VEVENT
DTSTART;VALUE=DATE:20260417
DTEND;VALUE=DATE:20260418
DTSTAMP:20260420T020920
CREATED:20260401T030856Z
LAST-MODIFIED:20260401T030856Z
UID:10002503-1776384000-1776470399@cglj.org
SUMMARY:Call for Input\, OHCHR (Second International Decade for People of African Descent)
DESCRIPTION:The UN Office of the High Commissioner for Human Rights (OHCHR) has issued a call for input for the 2026 report of the United Nations Secretary-General on the implementation of the program of activities under the Second International Decade for People of African Descent.
URL:https://cglj.org/event/call-for-input-ohchr-second-international-decade-for-people-of-african-descent/
CATEGORIES:Deadline
END:VEVENT
BEGIN:VEVENT
DTSTART;VALUE=DATE:20260417
DTEND;VALUE=DATE:20260426
DTSTAMP:20260420T020920
CREATED:20251219T215404Z
LAST-MODIFIED:20260323T143056Z
UID:10002371-1776384000-1777161599@cglj.org
SUMMARY:African Committee of Experts on the Rights and Welfare of the Child (ACERWC) 47
DESCRIPTION:According to the Communiqué on its 46th Ordinary Session\, the African Committee of Experts on the Rights and Welfare of the Child (ACERWC) is scheduled to hold its 47th Ordinary Session from April 17 to 25\, 2026. The process for requesting accreditation to participate is now open on the Committee’s webpage. Alternatively\, participants may also register to attend the session via Zoom.
URL:https://cglj.org/event/african-committee-of-experts-on-the-rights-and-welfare-of-the-child-acerwc-47/
LOCATION:Maseru\, Maseru\, Lesotho
CATEGORIES:Mechanism Session (Public),Regional Human Rights Mechanisms
END:VEVENT
END:VCALENDAR