BEGIN:VCALENDAR
VERSION:2.0
PRODID:-//Center for Global Law and Justice | Resource Hub - ECPv6.15.17.1//NONSGML v1.0//EN
CALSCALE:GREGORIAN
METHOD:PUBLISH
X-ORIGINAL-URL:https://cglj.org
X-WR-CALDESC:Events for Center for Global Law and Justice | Resource Hub
REFRESH-INTERVAL;VALUE=DURATION:PT1H
X-Robots-Tag:noindex
X-PUBLISHED-TTL:PT1H
BEGIN:VTIMEZONE
TZID:America/Denver
BEGIN:DAYLIGHT
TZOFFSETFROM:-0700
TZOFFSETTO:-0600
TZNAME:MDT
DTSTART:20250309T090000
END:DAYLIGHT
BEGIN:STANDARD
TZOFFSETFROM:-0600
TZOFFSETTO:-0700
TZNAME:MST
DTSTART:20251102T080000
END:STANDARD
BEGIN:DAYLIGHT
TZOFFSETFROM:-0700
TZOFFSETTO:-0600
TZNAME:MDT
DTSTART:20260308T090000
END:DAYLIGHT
BEGIN:STANDARD
TZOFFSETFROM:-0600
TZOFFSETTO:-0700
TZNAME:MST
DTSTART:20261101T080000
END:STANDARD
BEGIN:DAYLIGHT
TZOFFSETFROM:-0700
TZOFFSETTO:-0600
TZNAME:MDT
DTSTART:20270314T090000
END:DAYLIGHT
BEGIN:STANDARD
TZOFFSETFROM:-0600
TZOFFSETTO:-0700
TZNAME:MST
DTSTART:20271107T080000
END:STANDARD
END:VTIMEZONE
BEGIN:VEVENT
DTSTART;VALUE=DATE:20260409
DTEND;VALUE=DATE:20260411
DTSTAMP:20260420T021111
CREATED:20260401T023948Z
LAST-MODIFIED:20260401T023948Z
UID:10002495-1775692800-1775865599@cglj.org
SUMMARY:UN Conference on Humanitarian Action\, Remedy\, and Responsibility in unilateral sanctions environment
DESCRIPTION:The UN will be holding a Conference on Humanitarian Action\, Remedy\, and Responsibility in unilateral sanctions environment on April 9 and 10 at the Palais des Nations in Geneva\, Switzerland. The purpose of this conference is to provide a forum to discuss the draft Guiding principles on humanitarian action in the face of unilateral sanctions\, Guiding principles on effective remedy and responsibility in unilateral sanctions environment and a Commentary thereto\, and to address the most important aspects of interaction of different categories of states\, private actors\, delivery of humanitarian assistance\, other types of humanitarian action\, from the perspective of international law. Registration is open via the UN’s Indico system.
URL:https://cglj.org/event/un-conference-on-humanitarian-action-remedy-and-responsibility-in-unilateral-sanctions-environment/
LOCATION:Palais des Nations\, Geneva\, Switzerland
CATEGORIES:Conferences & Trainings
END:VEVENT
BEGIN:VEVENT
DTSTART;VALUE=DATE:20260410
DTEND;VALUE=DATE:20260411
DTSTAMP:20260420T021111
CREATED:20260211T183957Z
LAST-MODIFIED:20260408T152117Z
UID:10002444-1775779200-1775865599@cglj.org
SUMMARY:Call for Input\, UN EM to Advance Racial Justice and Equality in Law Enforcement (EMLER)
DESCRIPTION:The UN’s International Independent Expert Mechanism to Advance Racial Justice and Equality in Law Enforcement (EMLER) is calling for inputs to inform an upcoming report on systemic racism against Africans and people of African descent in the enforcement of drug laws and policies.
URL:https://cglj.org/event/call-for-input-un-ie-to-advance-racial-justice-and-equality-in-law-enforcement/
CATEGORIES:Deadline
END:VEVENT
BEGIN:VEVENT
DTSTART;VALUE=DATE:20260410
DTEND;VALUE=DATE:20260411
DTSTAMP:20260420T021111
CREATED:20260211T191458Z
LAST-MODIFIED:20260211T191458Z
UID:10002447-1775779200-1775865599@cglj.org
SUMMARY:UPR\, Civil Society Submissions Due
DESCRIPTION:Written submissions from civil society due regarding the October 2026 Universal Periodic Review (UPR) of Suriname\, Greece\, Samoa\, Saint Vincent and the Grenadines\, Hungary\, Papua New Guinea\, Tajikistan\, United Republic of Tanzania\, Antigua and Barbuda\, Eswatini\, Trinidad and Tobago\, Thailand\, Ireland\, and United States of America.* \n*(from the civil society participation webpage) “IMPORTANT NOTICE: Regarding the review of the United States of America . . . only those organizations that contributed to the 2025 pre-session UPR reports of the USA will be invited to submit an update . . . .”
URL:https://cglj.org/event/upr-civil-society-submissions-due-2/
CATEGORIES:Deadline
END:VEVENT
BEGIN:VEVENT
DTSTART;VALUE=DATE:20260410
DTEND;VALUE=DATE:20260411
DTSTAMP:20260420T021111
CREATED:20260302T184258Z
LAST-MODIFIED:20260302T184258Z
UID:10002463-1775779200-1775865599@cglj.org
SUMMARY:Call for Input\, UN SR on violence against women and girls
DESCRIPTION:The UN Special Rapporteur on violence against women and girls has issued a call for input on violence against older women to inform their report and recommendations to the 81st session of the United Nations General Assembly.
URL:https://cglj.org/event/call-for-input-un-sr-on-violence-against-women-and-girls-3/
CATEGORIES:Deadline
END:VEVENT
BEGIN:VEVENT
DTSTART;VALUE=DATE:20260410
DTEND;VALUE=DATE:20260411
DTSTAMP:20260420T021111
CREATED:20260401T024430Z
LAST-MODIFIED:20260401T024430Z
UID:10002496-1775779200-1775865599@cglj.org
SUMMARY:Call for Input\, UN SR on contemporary forms of racism
DESCRIPTION:The UN Special Rapporteur on contemporary forms of racism has issued a call for input on contemporary forms of racism in sports.
URL:https://cglj.org/event/call-for-input-un-sr-on-contemporary-forms-of-racism-2/
CATEGORIES:Deadline
END:VEVENT
BEGIN:VEVENT
DTSTART;VALUE=DATE:20260410
DTEND;VALUE=DATE:20260411
DTSTAMP:20260420T021111
CREATED:20260401T024617Z
LAST-MODIFIED:20260401T024617Z
UID:10002497-1775779200-1775865599@cglj.org
SUMMARY:Call for Input\, UN SR on contemporary forms of racism
DESCRIPTION:The UN Special Rapporteur on contemporary forms of racism has issued a call for input on report on combating glorification of Nazism\, neo-Nazism and other practices that contribute to fueling contemporary forms of racism\, racial discrimination\, xenophobia and related intolerance.
URL:https://cglj.org/event/call-for-input-un-sr-on-contemporary-forms-of-racism-3/
CATEGORIES:Deadline
END:VEVENT
END:VCALENDAR