BEGIN:VCALENDAR
VERSION:2.0
PRODID:-//Center for Global Law and Justice | Resource Hub - ECPv6.15.17.1//NONSGML v1.0//EN
CALSCALE:GREGORIAN
METHOD:PUBLISH
X-ORIGINAL-URL:https://cglj.org
X-WR-CALDESC:Events for Center for Global Law and Justice | Resource Hub
REFRESH-INTERVAL;VALUE=DURATION:PT1H
X-Robots-Tag:noindex
X-PUBLISHED-TTL:PT1H
BEGIN:VTIMEZONE
TZID:America/Denver
BEGIN:DAYLIGHT
TZOFFSETFROM:-0700
TZOFFSETTO:-0600
TZNAME:MDT
DTSTART:20250309T090000
END:DAYLIGHT
BEGIN:STANDARD
TZOFFSETFROM:-0600
TZOFFSETTO:-0700
TZNAME:MST
DTSTART:20251102T080000
END:STANDARD
BEGIN:DAYLIGHT
TZOFFSETFROM:-0700
TZOFFSETTO:-0600
TZNAME:MDT
DTSTART:20260308T090000
END:DAYLIGHT
BEGIN:STANDARD
TZOFFSETFROM:-0600
TZOFFSETTO:-0700
TZNAME:MST
DTSTART:20261101T080000
END:STANDARD
BEGIN:DAYLIGHT
TZOFFSETFROM:-0700
TZOFFSETTO:-0600
TZNAME:MDT
DTSTART:20270314T090000
END:DAYLIGHT
BEGIN:STANDARD
TZOFFSETFROM:-0600
TZOFFSETTO:-0700
TZNAME:MST
DTSTART:20271107T080000
END:STANDARD
END:VTIMEZONE
BEGIN:VEVENT
DTSTART;VALUE=DATE:20260223
DTEND;VALUE=DATE:20260401
DTSTAMP:20260419T113215
CREATED:20260130T204739Z
LAST-MODIFIED:20260401T134329Z
UID:10002392-1771804800-1775001599@cglj.org
SUMMARY:Human Rights Council 61
DESCRIPTION:The UN Human Rights Council\, an intergovernmental deliberative body\, is scheduled to hold its 61st regular session in Geneva\, Switzerland. According to the session agenda\, the Human Rights Council will appoint 17 special procedure mandate holders and hear the presentation of reports by the Office of the UN High Commissioner for Human Rights (OHCHR)\, the UN Secretary-General\, special procedures\, and other mechanisms on specific countries and topics. \nThe Council is also scheduled to hold panel discussions on (a.) the role of new and emerging digital technologies in preventing and eliminating female genital mutilation \, (b.) the Durban Programme of Action (to combat racism)\, (c.) human rights and a culture of peace\, (d.) sustainable development and human rights\, (e.) the rights of persons with disabilities\, and (f.) the rights of the child. \nFinally\, the Council will consider and adopt the outcomes of the Universal Periodic Review for Andorra\, Belarus\, Bulgaria\, Croatia\, Honduras\, Jamaica\, Liberia\, Libya\, Malawi\, Maldives\, Marshall Islands\, Mongolia\, and Panama. \nFor information on accreditation and ways to participate in the Human Rights Council’s sessions\, visit the Council’s page on NGO participation.
URL:https://cglj.org/event/human-rights-council-61/
LOCATION:Palais des Nations\, Geneva\, Switzerland
CATEGORIES:Mechanism Session (Public)
END:VEVENT
BEGIN:VEVENT
DTSTART;VALUE=DATE:20260302
DTEND;VALUE=DATE:20260320
DTSTAMP:20260419T113215
CREATED:20260126T215801Z
LAST-MODIFIED:20260126T221324Z
UID:10002378-1772409600-1773964799@cglj.org
SUMMARY:Human Rights Committee (ICCPR) 145
DESCRIPTION:The Human Rights Committee is the body of independent experts that monitors implementation of the International Covenant on Civil and Political Rights (ICCPR) by its States parties. This Committee is tentatively scheduled to hold its 145th session in Geneva\, Switzerland (still to be confirmed). During this session the Committee will consider the reports of Andorra\, Canada\, Chad\, Republic of Moldova\, and Slovakia; follow-up reports of Botswana\, Cambodia\, and Ukraine; lists of issues prior to reporting for Belgium\, Bosnia and Herzegovina\, Czech Republic\, Democratic Republic of the Congo\, Hungary\, Mexico\, and Sengal; and a list of issues for Rwanda. \nPlease note that several of the treaty body webpages currently warn that “due to the United Nations Regular Budget Liquidity Situation\,” the agenda\, dates\, and modality for treaty body sessions may be subject to change. This session is marked on the Committee’s page as yet “to be confirmed.” Once the session is confirmed\, those interested in attending in person should be able to register through the UN’s Indico system. More information may also be available by contacting ohchr-tbs@un.org via email.
URL:https://cglj.org/event/human-rights-committee-iccpr-145/
LOCATION:Palais Wilson\, Geneva\, Switzerland
CATEGORIES:Mechanism Session (Public),Review of State Reports
END:VEVENT
BEGIN:VEVENT
DTSTART;VALUE=DATE:20260302
DTEND;VALUE=DATE:20260328
DTSTAMP:20260419T113215
CREATED:20260213T152835Z
LAST-MODIFIED:20260213T152835Z
UID:10002449-1772409600-1774655999@cglj.org
SUMMARY:African Court on Human & Peoples’ Rights (AfCHPR) 80
DESCRIPTION:The African Court on Human & Peoples’ Rights (AfCHPR) will convene for its 80th Ordinary Session at its Seat in Arusha\, United Republic of Tanzania.
URL:https://cglj.org/event/african-court-on-human-peoples-rights-afchpr-80/
LOCATION:Arusha\, Arusha\, Tanzania\, United Republic of
CATEGORIES:Mechanism Session (Public),Regional Human Rights Mechanisms
END:VEVENT
BEGIN:VEVENT
DTSTART;VALUE=DATE:20260309
DTEND;VALUE=DATE:20260310
DTSTAMP:20260419T113215
CREATED:20260129T210604Z
LAST-MODIFIED:20260211T190334Z
UID:10002385-1773014400-1773100799@cglj.org
SUMMARY:Annual Day on the Rights of the Child (UN Human Rights Council)
DESCRIPTION:The UN Human Rights Council’s Annual Day on the Rights of the Child will be celebrated in Geneva\, Switzerland with the theme “Rights of the child and the human rights violations of children in armed conflict.” Those who wish to attend this event in person must register through the UN’s Indico system. The UN will also broadcast this event on UN WebTV. A special flyer is available to provide children with information on this event and ways they can participate.
URL:https://cglj.org/event/annual-day-on-the-rights-of-the-child-un-human-rights-council/
LOCATION:Palais des Nations\, Geneva\, Switzerland
CATEGORIES:Social & Cultural Events
END:VEVENT
BEGIN:VEVENT
DTSTART;VALUE=DATE:20260309
DTEND;VALUE=DATE:20260310
DTSTAMP:20260419T113215
CREATED:20260130T213630Z
LAST-MODIFIED:20260201T230333Z
UID:10002430-1773014400-1773100799@cglj.org
SUMMARY:Call for Input\, OHCHR (neurotechnology in the administration of justice)
DESCRIPTION:The UN Office of the High Commissioner for Human Rights (OHCHR) has issued a call for input to inform the Secretary General’s upcoming report titled: “Human Rights in the Administration of Justice – Neurotechnology and other emerging technologies.” OHCHR is looking for submissions relating to how neurotechnology is being utilized in both civil and criminal justice administration.
URL:https://cglj.org/event/call-for-input-ohchr-neurotechnology-in-the-administration-of-justice/
CATEGORIES:Deadline
END:VEVENT
BEGIN:VEVENT
DTSTART;VALUE=DATE:20260309
DTEND;VALUE=DATE:20260310
DTSTAMP:20260419T113215
CREATED:20260201T224437Z
LAST-MODIFIED:20260201T224437Z
UID:10002435-1773014400-1773100799@cglj.org
SUMMARY:Call for Input\, OHCHR (preventing adolescent pregnancy)
DESCRIPTION:The UN Office of the High Commissioner for Human Rights (OHCHR) has issued a call for input to inform the preparation of a report on “accelerating progress towards preventing adolescent girls’ pregnancy.”
URL:https://cglj.org/event/call-for-input-ohchr-preventing-adolescent-pregnancy/
CATEGORIES:Deadline
END:VEVENT
BEGIN:VEVENT
DTSTART;VALUE=DATE:20260309
DTEND;VALUE=DATE:20260310
DTSTAMP:20260419T113215
CREATED:20260302T183110Z
LAST-MODIFIED:20260302T183136Z
UID:10002459-1773014400-1773100799@cglj.org
SUMMARY:Call for Input\, UN SR on the human rights of internally displaced persons
DESCRIPTION:The UN Special Rapporteur on the human rights of internally displaced persons has issued a call for input to inform a thematic report examining how international humanitarian law is applied in practice to protect internally displaced persons in armed conflict.
URL:https://cglj.org/event/call-for-input-un-wg-on-the-human-rights-of-internally-displaced-persons/
CATEGORIES:Deadline
END:VEVENT
BEGIN:VEVENT
DTSTART;VALUE=DATE:20260309
DTEND;VALUE=DATE:20260314
DTSTAMP:20260419T113215
CREATED:20260210T191101Z
LAST-MODIFIED:20260217T153829Z
UID:10002440-1773014400-1773446399@cglj.org
SUMMARY:Inter-American Commission on Human Rights (IACHR) 195
DESCRIPTION:The Inter-American Commission on Human Rights (IACHR) is holding its 195th Period of Sessions in Guatemala City\, Guatemala. \nThe 195th Period of Sessions will include thematic hearings on the following themes: \n\nSituation of judicial officers\nHuman rights of Roma peoples\nEffects of practices aimed at changing sexual orientation\, gender identity\, and gender expression\nImpact of illegal mining on economic\, social\, cultural\, and environmental rights\n\nThe full schedule of hearings for the session is available on the IACHR website. \nAdditionally\, the IACHR will hold an open dialogue with civil society organizations to hear about the human rights situation in the region and challenges facing the Inter-American system on March 9\, from 9:00 a.m. to 10:30 a.m. The meeting will be open to the public and held in person. Those interested in making a 3-minute intervention must register through the form available on the IACHR webpage by March 2. Participation in the open dialogue is in person only.
URL:https://cglj.org/event/inter-american-commission-on-human-rights-iachr-195/
LOCATION:Hotel Intercontinental\, 14 Calle 2-51\, Zona 10\, Guatemala City\, Guatemala
CATEGORIES:Mechanism Session (Public),Regional Human Rights Mechanisms
END:VEVENT
BEGIN:VEVENT
DTSTART;VALUE=DATE:20260309
DTEND;VALUE=DATE:20260314
DTSTAMP:20260419T113215
CREATED:20260302T182127Z
LAST-MODIFIED:20260302T182127Z
UID:10002456-1773014400-1773446399@cglj.org
SUMMARY:Inter-American Court of Human Rights (IACtHR) 186
DESCRIPTION:The Inter-American Court of Human Rights (IACtHR) will hold its 186th Ordinary Session.
URL:https://cglj.org/event/inter-american-court-of-human-rights-iacthr-186/
CATEGORIES:Mechanism Session (Public),Regional Human Rights Mechanisms
END:VEVENT
BEGIN:VEVENT
DTSTART;VALUE=DATE:20260309
DTEND;VALUE=DATE:20260320
DTSTAMP:20260419T113215
CREATED:20260126T224020Z
LAST-MODIFIED:20260302T142922Z
UID:10002379-1773014400-1773964799@cglj.org
SUMMARY:Committee on Enforced Disappearances (CED) 30
DESCRIPTION:The Committee on Enforced Disappearances (CED) is scheduled to hold its 30th session in Geneva\, Switzerland. During this session the CED will consider first reports from Malawi and Samoa; reports on additional information from Ecuador and Iraq; lists of issues for Cabo Verde\, Denmark\, and lists of themes on additional information for Colombia\, Kazakhstan\, and Lithuania. According to the Information Note for civil society organizations actors\, registration for in-person attendance will open on February 16. All public meetings of the Committee are also generally webcast live at http://webtv.un.org/. \nPlease note that several of the treaty body webpages currently warn that “due to the United Nations Regular Budget Liquidity Situation\,” the agenda\, dates and modality of treaty body sessions may be subject to change. More information may be available by checking the UN’s Indico calendar or by contacting ohchr-tbs@un.org via email.
URL:https://cglj.org/event/committee-on-enforced-disappearances-ced-30/
LOCATION:Palais Wilson\, Geneva\, Switzerland
CATEGORIES:Mechanism Session (Public),Review of State Reports
END:VEVENT
BEGIN:VEVENT
DTSTART;VALUE=DATE:20260309
DTEND;VALUE=DATE:20260320
DTSTAMP:20260419T113215
CREATED:20260302T145305Z
LAST-MODIFIED:20260302T145419Z
UID:10002452-1773014400-1773964799@cglj.org
SUMMARY:Session\, Commission on the Status of Women 70
DESCRIPTION:The 70th session of the Commission on the Status of Women will take place at the United Nations Headquarters in New York. The session will thematically focus on ensuring access to justice for women and girls and review the agreed upon conclusions of the 65th session regarding women’s full and effective participation and decision making in public life\, as well as the elimination of violence\, for achieving gender equality and the empowerment of all women and girls.
URL:https://cglj.org/event/session-commission-on-the-status-of-women-70/
LOCATION:UN Headquarters\, UN Headquarters\, New York\, NY\, United States
CATEGORIES:Conferences & Trainings,Deliberative Sessions
END:VEVENT
BEGIN:VEVENT
DTSTART;VALUE=DATE:20260309
DTEND;VALUE=DATE:20260321
DTSTAMP:20260419T113215
CREATED:20251020T170904Z
LAST-MODIFIED:20251020T170904Z
UID:10002297-1773014400-1774051199@cglj.org
SUMMARY:Visit to Mexico\, UN SR on toxics and human rights
DESCRIPTION:The UN Special Rapporteur on toxics and human rights is scheduled to visit to Mexico.
URL:https://cglj.org/event/visit-to-mexico-un-sr-on-toxics-and-human-rights/
LOCATION:Mexico\, Mexico
CATEGORIES:Country Visits
END:VEVENT
BEGIN:VEVENT
DTSTART;VALUE=DATE:20260309
DTEND;VALUE=DATE:20260328
DTSTAMP:20260419T113215
CREATED:20260211T165527Z
LAST-MODIFIED:20260211T165527Z
UID:10002441-1773014400-1774655999@cglj.org
SUMMARY:Committee on the Rights of Persons with Disabilities (CRPD) 34
DESCRIPTION:The Committee on the Rights of Persons with Disabilities (CRPD) is scheduled to hold its 34th session in Geneva\, Switzerland. During this session the CRPD will consider initial reports from Guinea-Bissau\, Lesotho\, Liberia\, Marshall Islands\, Pakistan\, Samoa; lists of issues for Colombia\, Iceland\, Ireland\, Panama\, and Trinidad and Tobago; and lists of issues prior to reporting for Cyprus\, and Luxembourg. Despite the UN’s liquidity situation\, these dates are confirmed. An information note for stakeholders\, and a Program of Work should soon be available on the session page. Registration for in-person attendance should open the week of February 16. All public meetings of the Committee are also generally webcast live at http://webtv.un.org/.
URL:https://cglj.org/event/committee-on-the-rights-of-persons-with-disabilities-crpd-34/
LOCATION:Palais Wilson\, Geneva\, Switzerland
CATEGORIES:Mechanism Session (Public),Review of State Reports
END:VEVENT
END:VCALENDAR