BEGIN:VCALENDAR
VERSION:2.0
PRODID:-//Center for Global Law and Justice | Resource Hub - ECPv6.15.17.1//NONSGML v1.0//EN
CALSCALE:GREGORIAN
METHOD:PUBLISH
X-WR-CALNAME:Center for Global Law and Justice | Resource Hub
X-ORIGINAL-URL:https://cglj.org
X-WR-CALDESC:Events for Center for Global Law and Justice | Resource Hub
REFRESH-INTERVAL;VALUE=DURATION:PT1H
X-Robots-Tag:noindex
X-PUBLISHED-TTL:PT1H
BEGIN:VTIMEZONE
TZID:America/Denver
BEGIN:DAYLIGHT
TZOFFSETFROM:-0700
TZOFFSETTO:-0600
TZNAME:MDT
DTSTART:20250309T090000
END:DAYLIGHT
BEGIN:STANDARD
TZOFFSETFROM:-0600
TZOFFSETTO:-0700
TZNAME:MST
DTSTART:20251102T080000
END:STANDARD
BEGIN:DAYLIGHT
TZOFFSETFROM:-0700
TZOFFSETTO:-0600
TZNAME:MDT
DTSTART:20260308T090000
END:DAYLIGHT
BEGIN:STANDARD
TZOFFSETFROM:-0600
TZOFFSETTO:-0700
TZNAME:MST
DTSTART:20261101T080000
END:STANDARD
BEGIN:DAYLIGHT
TZOFFSETFROM:-0700
TZOFFSETTO:-0600
TZNAME:MDT
DTSTART:20270314T090000
END:DAYLIGHT
BEGIN:STANDARD
TZOFFSETFROM:-0600
TZOFFSETTO:-0700
TZNAME:MST
DTSTART:20271107T080000
END:STANDARD
END:VTIMEZONE
BEGIN:VEVENT
DTSTART;VALUE=DATE:20260223
DTEND;VALUE=DATE:20260228
DTSTAMP:20260420T064806
CREATED:20260130T203535Z
LAST-MODIFIED:20260130T203646Z
UID:10002390-1771804800-1772236799@cglj.org
SUMMARY:Human Rights Committee (ICCPR) PSWG 145
DESCRIPTION:The Human Rights Committee is the body of independent experts that monitors implementation of the International Covenant on Civil and Political Rights (ICCPR) by its States parties. In preparation for its 145th session\, the Committee’s Pre-sessional Working Group is scheduled to convene.
URL:https://cglj.org/event/human-rights-committee-iccpr-pswg-145/
LOCATION:Geneva\, Geneva\, Switzerland
CATEGORIES:Deliberative Sessions,Review of State Reports
END:VEVENT
BEGIN:VEVENT
DTSTART;VALUE=DATE:20260223
DTEND;VALUE=DATE:20260304
DTSTAMP:20260420T064806
CREATED:20260211T173749Z
LAST-MODIFIED:20260211T182445Z
UID:10002442-1771804800-1772582399@cglj.org
SUMMARY:Voices\, Rights\, Action: Standing with Roma and Travellers
DESCRIPTION:On February 26\, UN independent experts\, the Council of Europe Commissioner for Human Rights\, and Romani human rights defenders from various parts of Europe and the Americas discuss human rights issues facing Roma and Travellers\, challenges in addressing antigypsyism\, and ways forward. Information about in-person attendance and online participation is available by scanning the QR code in the event flyer\, or by consulting the event webpage. \nFrom February 26 to March 3\, The Office of the UN High Commisssioner for Human Rights (OHCHR) and the Council of Europe Commissioner for Human Rights will also present a hybrid exhibition on the human rights of Roma and Travellers in Europe and the Americas. The exhibition features photographs from the travelling exhibition The Unheard 12 Million\, an initiative by the Council of Europe Commissioner for Human Rights\, Michael O’Flaherty\, as part of his priority work on the human rights of Roma and Travellers. The exhibition visually supports the Commissioner’s book The Unheard 12 Million – The Unstoppable Voices of Roma and Traveller Women\, published in October 2025. The exhibition also includes\, on an interactive screen\, the crowd-sourced initiative Romani Memory Map for the Americas. The Map is also available online in English\, Spanish and Portuguese.
URL:https://cglj.org/event/hybrid-exhibition-on-rights-of-roma-and-travellers-in-europe-and-the-americas/
LOCATION:Palais des Nations\, Geneva\, Switzerland
CATEGORIES:Social & Cultural Events
END:VEVENT
BEGIN:VEVENT
DTSTART;VALUE=DATE:20260223
DTEND;VALUE=DATE:20260401
DTSTAMP:20260420T064806
CREATED:20260130T204739Z
LAST-MODIFIED:20260401T134329Z
UID:10002392-1771804800-1775001599@cglj.org
SUMMARY:Human Rights Council 61
DESCRIPTION:The UN Human Rights Council\, an intergovernmental deliberative body\, is scheduled to hold its 61st regular session in Geneva\, Switzerland. According to the session agenda\, the Human Rights Council will appoint 17 special procedure mandate holders and hear the presentation of reports by the Office of the UN High Commissioner for Human Rights (OHCHR)\, the UN Secretary-General\, special procedures\, and other mechanisms on specific countries and topics. \nThe Council is also scheduled to hold panel discussions on (a.) the role of new and emerging digital technologies in preventing and eliminating female genital mutilation \, (b.) the Durban Programme of Action (to combat racism)\, (c.) human rights and a culture of peace\, (d.) sustainable development and human rights\, (e.) the rights of persons with disabilities\, and (f.) the rights of the child. \nFinally\, the Council will consider and adopt the outcomes of the Universal Periodic Review for Andorra\, Belarus\, Bulgaria\, Croatia\, Honduras\, Jamaica\, Liberia\, Libya\, Malawi\, Maldives\, Marshall Islands\, Mongolia\, and Panama. \nFor information on accreditation and ways to participate in the Human Rights Council’s sessions\, visit the Council’s page on NGO participation.
URL:https://cglj.org/event/human-rights-council-61/
LOCATION:Palais des Nations\, Geneva\, Switzerland
CATEGORIES:Mechanism Session (Public)
END:VEVENT
BEGIN:VEVENT
DTSTART;VALUE=DATE:20260227
DTEND;VALUE=DATE:20260228
DTSTAMP:20260420T064806
CREATED:20251217T201919Z
LAST-MODIFIED:20251217T202340Z
UID:10002368-1772150400-1772236799@cglj.org
SUMMARY:Deadline for Registering to Attend UNPFII
DESCRIPTION:The 25th annual session of the UN Permanent Forum on Indigenous Issues (UNPFII) will take place at UN Headquarters in New York starting April 20\, 2026. \nAll who wish to participate in the forum must both obtain accreditation and register. The deadlines are as follows: \n\nAccreditation must be requested via the UN’s iCSO system by January 30\, 2026.\nAccredited participants must register via the UN’s Indico system by February 27\, 2026.
URL:https://cglj.org/event/unpfii-deadline-for-registering-to-attend/
CATEGORIES:Deadline
END:VEVENT
BEGIN:VEVENT
DTSTART;VALUE=DATE:20260227
DTEND;VALUE=DATE:20260228
DTSTAMP:20260420T064806
CREATED:20260201T232404Z
LAST-MODIFIED:20260201T232404Z
UID:10002437-1772150400-1772236799@cglj.org
SUMMARY:Call for Input\, UN Secretary General (death penalty)
DESCRIPTION:The UN Secretary General has issued a call for input to inform a report to the UN Human Rights Council on “a yearly supplement to his quinquennial report on capital punishment and the implementation of the safeguards guaranteeing protection of the rights of those facing the death penalty\, paying special attention to the imposition of the death penalty on persons younger than 18 years of age at the time of the offence\, on pregnant women and on persons with mental or intellectual disabilities.”
URL:https://cglj.org/event/call-for-input-un-secretary-general-death-penalty/
CATEGORIES:Deadline
END:VEVENT
END:VCALENDAR