BEGIN:VCALENDAR
VERSION:2.0
PRODID:-//Center for Global Law and Justice | Resource Hub - ECPv6.15.17.1//NONSGML v1.0//EN
CALSCALE:GREGORIAN
METHOD:PUBLISH
X-WR-CALNAME:Center for Global Law and Justice | Resource Hub
X-ORIGINAL-URL:https://cglj.org
X-WR-CALDESC:Events for Center for Global Law and Justice | Resource Hub
REFRESH-INTERVAL;VALUE=DURATION:PT1H
X-Robots-Tag:noindex
X-PUBLISHED-TTL:PT1H
BEGIN:VTIMEZONE
TZID:America/Denver
BEGIN:DAYLIGHT
TZOFFSETFROM:-0700
TZOFFSETTO:-0600
TZNAME:MDT
DTSTART:20250309T090000
END:DAYLIGHT
BEGIN:STANDARD
TZOFFSETFROM:-0600
TZOFFSETTO:-0700
TZNAME:MST
DTSTART:20251102T080000
END:STANDARD
BEGIN:DAYLIGHT
TZOFFSETFROM:-0700
TZOFFSETTO:-0600
TZNAME:MDT
DTSTART:20260308T090000
END:DAYLIGHT
BEGIN:STANDARD
TZOFFSETFROM:-0600
TZOFFSETTO:-0700
TZNAME:MST
DTSTART:20261101T080000
END:STANDARD
BEGIN:DAYLIGHT
TZOFFSETFROM:-0700
TZOFFSETTO:-0600
TZNAME:MDT
DTSTART:20270314T090000
END:DAYLIGHT
BEGIN:STANDARD
TZOFFSETFROM:-0600
TZOFFSETTO:-0700
TZNAME:MST
DTSTART:20271107T080000
END:STANDARD
END:VTIMEZONE
BEGIN:VEVENT
DTSTART;VALUE=DATE:20260112
DTEND;VALUE=DATE:20260124
DTSTAMP:20260422T162545
CREATED:20251215T202334Z
LAST-MODIFIED:20251215T202516Z
UID:10002362-1768176000-1769212799@cglj.org
SUMMARY:Visit to Ghana\, UN SR on the right to adequate housing
DESCRIPTION:The UN Special Rapporteur on the right to adequate housing is scheduled to visit Ghana.
URL:https://cglj.org/event/visit-to-ghana-un-sr-on-the-right-to-adequate-housing/
LOCATION:Ghana\, Ghana
CATEGORIES:Country Visits
END:VEVENT
BEGIN:VEVENT
DTSTART;VALUE=DATE:20260112
DTEND;VALUE=DATE:20260131
DTSTAMP:20260422T162545
CREATED:20251215T174907Z
LAST-MODIFIED:20251215T174907Z
UID:10002352-1768176000-1769817599@cglj.org
SUMMARY:Committee on the Rights of the Child (CRC) 100
DESCRIPTION:The Committee on the Rights of the Child (CRC) is scheduled to hold its 100th session in Geneva\, Switzerland. According to the CRC’s handbook for engaging with its sessions\, any civil society organizations wanting to attend the Session must register via the UN’s Indico platform. All public meetings of the Committee are also generally webcast live at http://webtv.un.org/. During this session\, the Committee will consider reports from Colombia\, Ethiopia\, Ghana\, Malaysia\, Maldives\, Pakistan\, Spain\, and Uganda. A provisional programme of work is now available on the session page. \n  \nPlease note that several of the treaty body webpages currently warn that “due to the United Nations Regular Budget Liquidity Situation\,” the agenda\, dates and modality of treaty body sessions may be subject to change. More information may be available by checking the UN’s Indico calendar or by contacting ohchr-tbs@un.org via email.
URL:https://cglj.org/event/committee-on-the-rights-of-the-child-crc-100/
LOCATION:Palais Wilson\, Geneva\, Switzerland
CATEGORIES:Mechanism Session (Public),Review of State Reports
END:VEVENT
BEGIN:VEVENT
DTSTART;VALUE=DATE:20260119
DTEND;VALUE=DATE:20260124
DTSTAMP:20260422T162545
CREATED:20250815T213654Z
LAST-MODIFIED:20250930T194605Z
UID:10002202-1768780800-1769212799@cglj.org
SUMMARY:Session\, UN WG on discrimination against women and girls 43
DESCRIPTION:The UN Working Group on discrimination against women and girls is scheduled to hold its 43rd session in Geneva.
URL:https://cglj.org/event/session-un-wg-on-discrimination-against-women-and-girls-43/
LOCATION:Palais des Nations\, Geneva\, Switzerland
CATEGORIES:Mechanism Session (Public)
END:VEVENT
BEGIN:VEVENT
DTSTART;VALUE=DATE:20260119
DTEND;VALUE=DATE:20260124
DTSTAMP:20260422T162545
CREATED:20251222T150532Z
LAST-MODIFIED:20251222T150811Z
UID:10002372-1768780800-1769212799@cglj.org
SUMMARY:European Committee of Social Rights (ECSR) 353
DESCRIPTION:The European Committee of Social Rights (ECSR) will hold its 353rd Session. The agenda and synopsis of the session will be posted on the Committee’s webpage after the conclusion of the session.
URL:https://cglj.org/event/european-committee-of-social-rights-ecsr-352-2/
LOCATION:Strasbourg\, Strasbourg\, France
CATEGORIES:Mechanism Session (Public),Regional Human Rights Mechanisms
END:VEVENT
BEGIN:VEVENT
DTSTART;VALUE=DATE:20260119
DTEND;VALUE=DATE:20260129
DTSTAMP:20260422T162545
CREATED:20251020T173323Z
LAST-MODIFIED:20251020T173323Z
UID:10002301-1768780800-1769644799@cglj.org
SUMMARY:Visit to European Union\, UN SR on minority issues
DESCRIPTION:The UN Special Rapporteur on minority issues will visit the European Union.
URL:https://cglj.org/event/visit-to-european-union-un-sr-on-minority-issues/
CATEGORIES:Country Visits
END:VEVENT
BEGIN:VEVENT
DTSTART;VALUE=DATE:20260119
DTEND;VALUE=DATE:20260130
DTSTAMP:20260422T162545
CREATED:20250924T132954Z
LAST-MODIFIED:20250924T132954Z
UID:10002256-1768780800-1769731199@cglj.org
SUMMARY:Visit to Mongolia\, UN SR on freedom of assembly
DESCRIPTION:The UN Special Rapporteur on freedom of peaceful assembly and of association will visit Mongolia.
URL:https://cglj.org/event/visit-to-mongolia-un-sr-on-freedom-of-assembly/
LOCATION:Mongolia\, Mongolia
CATEGORIES:Country Visits
END:VEVENT
BEGIN:VEVENT
DTSTART;VALUE=DATE:20260119
DTEND;VALUE=DATE:20260131
DTSTAMP:20260422T162545
CREATED:20251215T204354Z
LAST-MODIFIED:20251215T204621Z
UID:10002363-1768780800-1769817599@cglj.org
SUMMARY:Universal Periodic Review 51
DESCRIPTION:The Working Group of the Universal Periodic Review (UPR) will hold its 51st session from January 19 to 30\, 2026 to conduct the fourth cycle reviews for Micronesia\, Lebanon\, Mauritania\, Nauru\, Rwanda\, Nepal\, Saint Lucia\, Oman\, Austria\, Australia\, Georgia\, Saint Kitts and Nevis\, and Sao Tome and Principe. The documentation for each State’s review and information on how to obtain accreditation to attend in person are available on the UPR section of the Human Rights Council’s website. All UPR meetings are generally webcast live at http://webtv.un.org/. \n 
URL:https://cglj.org/event/universal-periodic-review-51/
LOCATION:Palais des Nations\, Geneva\, Switzerland
CATEGORIES:Mechanism Session (Public),Review of State Reports
END:VEVENT
BEGIN:VEVENT
DTSTART;VALUE=DATE:20260121
DTEND;VALUE=DATE:20260122
DTSTAMP:20260422T162545
CREATED:20250926T165033Z
LAST-MODIFIED:20250926T165033Z
UID:10002270-1768953600-1769039999@cglj.org
SUMMARY:ECtHR Hrg: Kuijt v. the Netherlands
DESCRIPTION:The Grand Chamber of the European Court of Human Rights (ECHR) will hold a hearing in the case of Kuijt v. the Netherlands (no. 19365/19) at 9:15 am at the Human Rights Building in Strasbourg\, France.  Court hearings are public and may be viewed via webcast or in person. Pre-registration is required for in-person attendance.
URL:https://cglj.org/event/ecthr-hrg-kuijt-v-the-netherlands/
LOCATION:Human Rights Building\, Strasbourg\, France
CATEGORIES:Hearings,Regional Human Rights Mechanisms
END:VEVENT
END:VCALENDAR