BEGIN:VCALENDAR
VERSION:2.0
PRODID:-//Center for Global Law and Justice | Resource Hub - ECPv6.15.17.1//NONSGML v1.0//EN
CALSCALE:GREGORIAN
METHOD:PUBLISH
X-ORIGINAL-URL:https://cglj.org
X-WR-CALDESC:Events for Center for Global Law and Justice | Resource Hub
REFRESH-INTERVAL;VALUE=DURATION:PT1H
X-Robots-Tag:noindex
X-PUBLISHED-TTL:PT1H
BEGIN:VTIMEZONE
TZID:America/Denver
BEGIN:DAYLIGHT
TZOFFSETFROM:-0700
TZOFFSETTO:-0600
TZNAME:MDT
DTSTART:20250309T090000
END:DAYLIGHT
BEGIN:STANDARD
TZOFFSETFROM:-0600
TZOFFSETTO:-0700
TZNAME:MST
DTSTART:20251102T080000
END:STANDARD
BEGIN:DAYLIGHT
TZOFFSETFROM:-0700
TZOFFSETTO:-0600
TZNAME:MDT
DTSTART:20260308T090000
END:DAYLIGHT
BEGIN:STANDARD
TZOFFSETFROM:-0600
TZOFFSETTO:-0700
TZNAME:MST
DTSTART:20261101T080000
END:STANDARD
BEGIN:DAYLIGHT
TZOFFSETFROM:-0700
TZOFFSETTO:-0600
TZNAME:MDT
DTSTART:20270314T090000
END:DAYLIGHT
BEGIN:STANDARD
TZOFFSETFROM:-0600
TZOFFSETTO:-0700
TZNAME:MST
DTSTART:20271107T080000
END:STANDARD
END:VTIMEZONE
BEGIN:VEVENT
DTSTART;VALUE=DATE:20260112
DTEND;VALUE=DATE:20260124
DTSTAMP:20260422T144257
CREATED:20251215T202334Z
LAST-MODIFIED:20251215T202516Z
UID:10002362-1768176000-1769212799@cglj.org
SUMMARY:Visit to Ghana\, UN SR on the right to adequate housing
DESCRIPTION:The UN Special Rapporteur on the right to adequate housing is scheduled to visit Ghana.
URL:https://cglj.org/event/visit-to-ghana-un-sr-on-the-right-to-adequate-housing/
LOCATION:Ghana\, Ghana
CATEGORIES:Country Visits
END:VEVENT
BEGIN:VEVENT
DTSTART;VALUE=DATE:20260112
DTEND;VALUE=DATE:20260131
DTSTAMP:20260422T144257
CREATED:20251215T174907Z
LAST-MODIFIED:20251215T174907Z
UID:10002352-1768176000-1769817599@cglj.org
SUMMARY:Committee on the Rights of the Child (CRC) 100
DESCRIPTION:The Committee on the Rights of the Child (CRC) is scheduled to hold its 100th session in Geneva\, Switzerland. According to the CRC’s handbook for engaging with its sessions\, any civil society organizations wanting to attend the Session must register via the UN’s Indico platform. All public meetings of the Committee are also generally webcast live at http://webtv.un.org/. During this session\, the Committee will consider reports from Colombia\, Ethiopia\, Ghana\, Malaysia\, Maldives\, Pakistan\, Spain\, and Uganda. A provisional programme of work is now available on the session page. \n  \nPlease note that several of the treaty body webpages currently warn that “due to the United Nations Regular Budget Liquidity Situation\,” the agenda\, dates and modality of treaty body sessions may be subject to change. More information may be available by checking the UN’s Indico calendar or by contacting ohchr-tbs@un.org via email.
URL:https://cglj.org/event/committee-on-the-rights-of-the-child-crc-100/
LOCATION:Palais Wilson\, Geneva\, Switzerland
CATEGORIES:Mechanism Session (Public),Review of State Reports
END:VEVENT
BEGIN:VEVENT
DTSTART;VALUE=DATE:20260116
DTEND;VALUE=DATE:20260117
DTSTAMP:20260422T144257
CREATED:20251014T193639Z
LAST-MODIFIED:20251219T173938Z
UID:10002286-1768521600-1768607999@cglj.org
SUMMARY:Call for Input\, OHCHR (climate financing and human rights)
DESCRIPTION:The Office of the United Nations High Commissioner for Human Rights (OHCHR) has issued a call for input to inform a report on “actionable pathways in mobilizing sufficient climate financing and associated challenges and opportunities in the pursuit of the full realization of human rights for all people.” This report will be presented to the UN Human Rights Council in 2026.
URL:https://cglj.org/event/call-for-input-ohchr-climate-financing-and-human-rights/
CATEGORIES:Deadline
END:VEVENT
BEGIN:VEVENT
DTSTART;VALUE=DATE:20260116
DTEND;VALUE=DATE:20260117
DTSTAMP:20260422T144257
CREATED:20251201T164458Z
LAST-MODIFIED:20251201T164458Z
UID:10002335-1768521600-1768607999@cglj.org
SUMMARY:Call for Input\, UN SR on the promotion of truth\, justice\, reparation and guarantees of non-recurrence
DESCRIPTION:The UN Special Rapporteur on the promotion of truth\, justice\, reparation and guarantees of non-recurrence has issued a call for inputs to inform an upcoming thematic report on “the question of the challenges of denial\, negationism and revisionism of serious violations of human rights and humanitarian law in transitional justice contexts.” The call for input provides further detail on key questions and the type of information the rapporteur is seeking.
URL:https://cglj.org/event/call-for-input-un-sr-on-the-promotion-of-truth-justice-reparation-and-guarantees-of-non-recurrence-2/
CATEGORIES:Deadline
END:VEVENT
BEGIN:VEVENT
DTSTART;VALUE=DATE:20260116
DTEND;VALUE=DATE:20260117
DTSTAMP:20260422T144257
CREATED:20251215T185818Z
LAST-MODIFIED:20251219T174220Z
UID:10002355-1768521600-1768607999@cglj.org
SUMMARY:Call for Input\, UN SR on the independence of judges and lawyers
DESCRIPTION:The UN Special Rapporteur on the independence of judges and lawyers has issued a call for input to inform an upcoming thematic report that will examine principles\, standards\, and practices governing the selection and appointment of judges.
URL:https://cglj.org/event/call-for-input-un-sr-on-the-promotion-of-truth-justice-reparation-and-guarantees-of-non-recurrence-3/
CATEGORIES:Deadline
END:VEVENT
END:VCALENDAR