BEGIN:VCALENDAR
VERSION:2.0
PRODID:-//Center for Global Law and Justice | Resource Hub - ECPv6.15.17.1//NONSGML v1.0//EN
CALSCALE:GREGORIAN
METHOD:PUBLISH
X-ORIGINAL-URL:https://cglj.org
X-WR-CALDESC:Events for Center for Global Law and Justice | Resource Hub
REFRESH-INTERVAL;VALUE=DURATION:PT1H
X-Robots-Tag:noindex
X-PUBLISHED-TTL:PT1H
BEGIN:VTIMEZONE
TZID:America/Denver
BEGIN:DAYLIGHT
TZOFFSETFROM:-0700
TZOFFSETTO:-0600
TZNAME:MDT
DTSTART:20250309T090000
END:DAYLIGHT
BEGIN:STANDARD
TZOFFSETFROM:-0600
TZOFFSETTO:-0700
TZNAME:MST
DTSTART:20251102T080000
END:STANDARD
BEGIN:DAYLIGHT
TZOFFSETFROM:-0700
TZOFFSETTO:-0600
TZNAME:MDT
DTSTART:20260308T090000
END:DAYLIGHT
BEGIN:STANDARD
TZOFFSETFROM:-0600
TZOFFSETTO:-0700
TZNAME:MST
DTSTART:20261101T080000
END:STANDARD
BEGIN:DAYLIGHT
TZOFFSETFROM:-0700
TZOFFSETTO:-0600
TZNAME:MDT
DTSTART:20270314T090000
END:DAYLIGHT
BEGIN:STANDARD
TZOFFSETFROM:-0600
TZOFFSETTO:-0700
TZNAME:MST
DTSTART:20271107T080000
END:STANDARD
END:VTIMEZONE
BEGIN:VEVENT
DTSTART;VALUE=DATE:20260112
DTEND;VALUE=DATE:20260124
DTSTAMP:20260422T194523
CREATED:20251215T202334Z
LAST-MODIFIED:20251215T202516Z
UID:10002362-1768176000-1769212799@cglj.org
SUMMARY:Visit to Ghana\, UN SR on the right to adequate housing
DESCRIPTION:The UN Special Rapporteur on the right to adequate housing is scheduled to visit Ghana.
URL:https://cglj.org/event/visit-to-ghana-un-sr-on-the-right-to-adequate-housing/
LOCATION:Ghana\, Ghana
CATEGORIES:Country Visits
END:VEVENT
BEGIN:VEVENT
DTSTART;VALUE=DATE:20260112
DTEND;VALUE=DATE:20260131
DTSTAMP:20260422T194523
CREATED:20251215T174907Z
LAST-MODIFIED:20251215T174907Z
UID:10002352-1768176000-1769817599@cglj.org
SUMMARY:Committee on the Rights of the Child (CRC) 100
DESCRIPTION:The Committee on the Rights of the Child (CRC) is scheduled to hold its 100th session in Geneva\, Switzerland. According to the CRC’s handbook for engaging with its sessions\, any civil society organizations wanting to attend the Session must register via the UN’s Indico platform. All public meetings of the Committee are also generally webcast live at http://webtv.un.org/. During this session\, the Committee will consider reports from Colombia\, Ethiopia\, Ghana\, Malaysia\, Maldives\, Pakistan\, Spain\, and Uganda. A provisional programme of work is now available on the session page. \n  \nPlease note that several of the treaty body webpages currently warn that “due to the United Nations Regular Budget Liquidity Situation\,” the agenda\, dates and modality of treaty body sessions may be subject to change. More information may be available by checking the UN’s Indico calendar or by contacting ohchr-tbs@un.org via email.
URL:https://cglj.org/event/committee-on-the-rights-of-the-child-crc-100/
LOCATION:Palais Wilson\, Geneva\, Switzerland
CATEGORIES:Mechanism Session (Public),Review of State Reports
END:VEVENT
BEGIN:VEVENT
DTSTART;VALUE=DATE:20260115
DTEND;VALUE=DATE:20260116
DTSTAMP:20260422T194523
CREATED:20251020T161659Z
LAST-MODIFIED:20251219T171554Z
UID:10002292-1768435200-1768521599@cglj.org
SUMMARY:Call for Input\, OHCHR (conscientious objection to military service)
DESCRIPTION:The Office of the United Nations High Commissioner for Human Rights (OHCHR) has issued a call for input to inform a report on conscientious objection to military service to be presented to the Human Rights Council at its 62nd session in June 2026.
URL:https://cglj.org/event/call-for-input-ohchr-conscientious-objection-to-military-service/
CATEGORIES:Deadline
END:VEVENT
BEGIN:VEVENT
DTSTART;VALUE=DATE:20260115
DTEND;VALUE=DATE:20260116
DTSTAMP:20260422T194523
CREATED:20251020T161921Z
LAST-MODIFIED:20251219T171657Z
UID:10002293-1768435200-1768521599@cglj.org
SUMMARY:Call for Input\, OHCHR (anti-personnel mines)
DESCRIPTION:The Office of the United Nations High Commissioner for Human Rights (OHCHR) has issued a call for input to inform a report on the impact of anti-personnel mines on the full enjoyment of all human rights. This report will be presented to the Human Rights Council at its 62nd session in June 2026.
URL:https://cglj.org/event/call-for-input-ohchr-anti-personnel-mines/
CATEGORIES:Deadline
END:VEVENT
BEGIN:VEVENT
DTSTART;VALUE=DATE:20260115
DTEND;VALUE=DATE:20260116
DTSTAMP:20260422T194523
CREATED:20251201T164249Z
LAST-MODIFIED:20251201T164249Z
UID:10002333-1768435200-1768521599@cglj.org
SUMMARY:Call for Input\, UN SR on protection against violence and discrimination based on sexual orientation and gender identity
DESCRIPTION:The UN Independent Expert on protection against violence and discrimination based on sexual orientation and gender identity has issued a call for input to inform a thematic report on violence and discrimination experienced by lesbian\, bisexual\, and queer (LBQ) women. The call for input provides further detail on key questions the rapporteur seeks to address.
URL:https://cglj.org/event/call-for-input-un-sr-on-protection-against-violence-and-discrimination-based-on-sexual-orientation-and-gender-identity/
CATEGORIES:Deadline
END:VEVENT
BEGIN:VEVENT
DTSTART;VALUE=DATE:20260115
DTEND;VALUE=DATE:20260116
DTSTAMP:20260422T194523
CREATED:20251201T164351Z
LAST-MODIFIED:20251201T164351Z
UID:10002334-1768435200-1768521599@cglj.org
SUMMARY:Call for Input\, UN SR on the right to health
DESCRIPTION:The UN Special Rapporteur on the right to health has issued a call for input to inform an upcoming thematic report on “Health as an enabler of dignity.” The call for input provides further detail on key questions the rapporteur is seeking to explore.
URL:https://cglj.org/event/call-for-input-un-sr-on-the-right-to-health/
CATEGORIES:Deadline
END:VEVENT
BEGIN:VEVENT
DTSTART;VALUE=DATE:20260115
DTEND;VALUE=DATE:20260116
DTSTAMP:20260422T194523
CREATED:20251222T190646Z
LAST-MODIFIED:20251222T190817Z
UID:10002375-1768435200-1768521599@cglj.org
SUMMARY:Call for Submissions\, UN Independent International Fact-Finding Mission for the Sudan (FFM Sudan)
DESCRIPTION:The Independent International Fact-Finding Mission for the Sudan (FFM Sudan) has issued an urgent call for submissions of information regarding violations and abuses allegedly committed in an around El Fasher\, North Darfur\, “particularly since the beginning of the siege in May 2024 until today.” The call for submissions includes detailed guidelines on how to submit this information and documentation.
URL:https://cglj.org/event/call-for-submissions-un-independent-international-fact-finding-mission-for-the-sudan-ffm-sudan/
CATEGORIES:Deadline
END:VEVENT
END:VCALENDAR