BEGIN:VCALENDAR
VERSION:2.0
PRODID:-//Center for Global Law and Justice | Resource Hub - ECPv6.15.17.1//NONSGML v1.0//EN
CALSCALE:GREGORIAN
METHOD:PUBLISH
X-WR-CALNAME:Center for Global Law and Justice | Resource Hub
X-ORIGINAL-URL:https://cglj.org
X-WR-CALDESC:Events for Center for Global Law and Justice | Resource Hub
REFRESH-INTERVAL;VALUE=DURATION:PT1H
X-Robots-Tag:noindex
X-PUBLISHED-TTL:PT1H
BEGIN:VTIMEZONE
TZID:America/Denver
BEGIN:DAYLIGHT
TZOFFSETFROM:-0700
TZOFFSETTO:-0600
TZNAME:MDT
DTSTART:20250309T090000
END:DAYLIGHT
BEGIN:STANDARD
TZOFFSETFROM:-0600
TZOFFSETTO:-0700
TZNAME:MST
DTSTART:20251102T080000
END:STANDARD
BEGIN:DAYLIGHT
TZOFFSETFROM:-0700
TZOFFSETTO:-0600
TZNAME:MDT
DTSTART:20260308T090000
END:DAYLIGHT
BEGIN:STANDARD
TZOFFSETFROM:-0600
TZOFFSETTO:-0700
TZNAME:MST
DTSTART:20261101T080000
END:STANDARD
BEGIN:DAYLIGHT
TZOFFSETFROM:-0700
TZOFFSETTO:-0600
TZNAME:MDT
DTSTART:20270314T090000
END:DAYLIGHT
BEGIN:STANDARD
TZOFFSETFROM:-0600
TZOFFSETTO:-0700
TZNAME:MST
DTSTART:20271107T080000
END:STANDARD
END:VTIMEZONE
BEGIN:VEVENT
DTSTART;VALUE=DATE:20260109
DTEND;VALUE=DATE:20260110
DTSTAMP:20260422T194513
CREATED:20251201T163504Z
LAST-MODIFIED:20251201T163504Z
UID:10002329-1767916800-1768003199@cglj.org
SUMMARY:Call for Input\, UN SR on the promotion of truth\, justice\, reparation and guarantees of non-recurrence
DESCRIPTION:The UN Special Rapporteur on the promotion of truth\, justice\, reparation and guarantees of non-recurrence has issued a call for inputs to inform an upcoming thematic report that “will seek to examine both opportunities and challenges presented by emerging technologies in the context of transitional justice\, across its five pillars\, namely\, truth\, justice\, reparation\, memorialization\, and guarantees of non-recurrence.”
URL:https://cglj.org/event/call-for-input-un-sr-on-the-promotion-of-truth-justice-reparation-and-guarantees-of-non-recurrence/
CATEGORIES:Deadline
END:VEVENT
BEGIN:VEVENT
DTSTART;VALUE=DATE:20260109
DTEND;VALUE=DATE:20260110
DTSTAMP:20260422T194513
CREATED:20251201T163641Z
LAST-MODIFIED:20251201T163924Z
UID:10002330-1767916800-1768003199@cglj.org
SUMMARY:Call for Input\, UN SR on freedom of opinion and expression
DESCRIPTION:The UN Special Rapporteur on freedom of opinion and expression has issued a call for input to inform her upcoming visit to Germany in January 2026.
URL:https://cglj.org/event/call-for-input-un-sr-on-freedom-of-opinion-and-expression/
CATEGORIES:Deadline
END:VEVENT
BEGIN:VEVENT
DTSTART;VALUE=DATE:20260109
DTEND;VALUE=DATE:20260110
DTSTAMP:20260422T194513
CREATED:20251201T164006Z
LAST-MODIFIED:20251201T164006Z
UID:10002331-1767916800-1768003199@cglj.org
SUMMARY:Call for Input\, UN SR on the situation of human rights in Afghanistan
DESCRIPTION:The UN Special Rapporteur on the situation of human rights in Afghanistan has issued a call for input to inform an upcoming report on the right to health for women and girls in Afghanistan. Further details on key questions and on how to submit information to the rapporteur securely are included in the call for input.
URL:https://cglj.org/event/call-for-input-un-sr-on-the-situation-of-human-rights-in-afghanistan/
CATEGORIES:Deadline
END:VEVENT
BEGIN:VEVENT
DTSTART;VALUE=DATE:20260109
DTEND;VALUE=DATE:20260110
DTSTAMP:20260422T194513
CREATED:20251201T164126Z
LAST-MODIFIED:20251201T164126Z
UID:10002332-1767916800-1768003199@cglj.org
SUMMARY:Call for Input\, UN SR on toxics and human rights
DESCRIPTION:The UN Special Rapporteur on toxics and human rights has issued a call for input to inform a thematic report on forever chemicals (PFAS) and human rights. The call for input outlines the chief objectives of the report and identifies key questions the rapporteur would like to address.
URL:https://cglj.org/event/call-for-input-un-sr-on-toxics-and-human-rights-4/
CATEGORIES:Deadline
END:VEVENT
END:VCALENDAR