BEGIN:VCALENDAR
VERSION:2.0
PRODID:-//Center for Global Law and Justice | Resource Hub - ECPv6.15.17.1//NONSGML v1.0//EN
CALSCALE:GREGORIAN
METHOD:PUBLISH
X-WR-CALNAME:Center for Global Law and Justice | Resource Hub
X-ORIGINAL-URL:https://cglj.org
X-WR-CALDESC:Events for Center for Global Law and Justice | Resource Hub
REFRESH-INTERVAL;VALUE=DURATION:PT1H
X-Robots-Tag:noindex
X-PUBLISHED-TTL:PT1H
BEGIN:VTIMEZONE
TZID:America/Denver
BEGIN:DAYLIGHT
TZOFFSETFROM:-0700
TZOFFSETTO:-0600
TZNAME:MDT
DTSTART:20240310T090000
END:DAYLIGHT
BEGIN:STANDARD
TZOFFSETFROM:-0600
TZOFFSETTO:-0700
TZNAME:MST
DTSTART:20241103T080000
END:STANDARD
BEGIN:DAYLIGHT
TZOFFSETFROM:-0700
TZOFFSETTO:-0600
TZNAME:MDT
DTSTART:20250309T090000
END:DAYLIGHT
BEGIN:STANDARD
TZOFFSETFROM:-0600
TZOFFSETTO:-0700
TZNAME:MST
DTSTART:20251102T080000
END:STANDARD
BEGIN:DAYLIGHT
TZOFFSETFROM:-0700
TZOFFSETTO:-0600
TZNAME:MDT
DTSTART:20260308T090000
END:DAYLIGHT
BEGIN:STANDARD
TZOFFSETFROM:-0600
TZOFFSETTO:-0700
TZNAME:MST
DTSTART:20261101T080000
END:STANDARD
END:VTIMEZONE
BEGIN:VEVENT
DTSTART;VALUE=DATE:20250916
DTEND;VALUE=DATE:20251018
DTSTAMP:20260420T064806
CREATED:20250827T164059Z
LAST-MODIFIED:20250908T140339Z
UID:10002224-1757980800-1760745599@cglj.org
SUMMARY:Committee on the Rights of the Child (CRC) PSWG 101
DESCRIPTION:The Committee on the Rights of the Child (CRC) is scheduled to hold its 101st Pre-sessional Working Group\, during which it will begin reviewing State reports from Kazakhstan\, Lesotho\, Serbia\, Slovenia\, Tajikistan\, Timor-Leste and the United Republic of Tanzania to assess their compliance with the Convention on the Rights of the Child. Additionally\, the Working Group will begin considering reports it has received from the United States of America regarding its compliance with the Optional Protocol to the Convention relating to the sale of children\, child prostitution and child pornography (OP-CRC-SC)\, and the Optional Protocol to the Convention relating to involvement of children in armed conflict (OP-CRC-AC). \nThis session appears to have been originally scheduled to be held in May 2025\, but was cancelled\, most likely due to the current liquidity crisis at the UN.
URL:https://cglj.org/event/committee-on-the-rights-of-the-child-crc-pswg-101/
CATEGORIES:Deliberative Sessions,Review of State Reports
END:VEVENT
BEGIN:VEVENT
DTSTART;VALUE=DATE:20250929
DTEND;VALUE=DATE:20251011
DTSTAMP:20260420T064806
CREATED:20250924T000503Z
LAST-MODIFIED:20250925T210034Z
UID:10002245-1759104000-1760140799@cglj.org
SUMMARY:Visit to Lebanon\, UN SR on extrajudicial\, summary or arbitrary executions
DESCRIPTION:The UN Special Rapporteur on extrajudicial\, summary or arbitrary executions is scheduled to visit Lebanon.
URL:https://cglj.org/event/visit-to-lebanon-un-sr-on-extrajudicial-summary-or-arbitrary-executions/
LOCATION:Lebanon\, Lebanon
CATEGORIES:Country Visits
END:VEVENT
BEGIN:VEVENT
DTSTART;VALUE=DATE:20251006
DTEND;VALUE=DATE:20251016
DTSTAMP:20260420T064806
CREATED:20250924T001848Z
LAST-MODIFIED:20250924T001848Z
UID:10002248-1759708800-1760572799@cglj.org
SUMMARY:Visit to Serbia\, UN WG on business and human rights
DESCRIPTION:The UN Working Group on business and human rights is scheduled to visit Serbia.
URL:https://cglj.org/event/visit-to-serbia-un-wg-on-business-and-human-rights/
LOCATION:Serbia\, Serbia
CATEGORIES:Country Visits
END:VEVENT
BEGIN:VEVENT
DTSTART;VALUE=DATE:20251006
DTEND;VALUE=DATE:20251018
DTSTAMP:20260420T064806
CREATED:20250924T001502Z
LAST-MODIFIED:20250930T172432Z
UID:10002247-1759708800-1760745599@cglj.org
SUMMARY:**POSTPONED** Visit to Nepal\, UN SR on minority issues
DESCRIPTION:The UN Special Rapporteur on minority issues was scheduled to visit Nepal\, but this visit has been postponed.
URL:https://cglj.org/event/visit-to-nepal-un-sr-on-minority-issues/
LOCATION:Nepal\, Nepal
CATEGORIES:Country Visits
END:VEVENT
BEGIN:VEVENT
DTSTART;VALUE=DATE:20251007
DTEND;VALUE=DATE:20251031
DTSTAMP:20260420T064806
CREATED:20250825T191049Z
LAST-MODIFIED:20250925T211835Z
UID:10002212-1759795200-1761868799@cglj.org
SUMMARY:ACHPR\, Ordinary Session 85
DESCRIPTION:The African Commission on Human and Peoples’ Rights (ACHPR) will hold its 85th Ordinary Session: \n(a)    Private Session: 7 – 17 October 2025 (virtual & closed to the public) \n(b)    Public Session (In-person & Open to the public): 21 – 30 October 2025 \nThose wishing to make a statement or intervention must register by September 30. \nThe ordinary session will be live streamed on the ACHPR’s YouTube channel.
URL:https://cglj.org/event/achpr-85th-ordinary-session/
LOCATION:Sir Dawda Kairaba Jawara International Conference Centre\, Banjul\, Gambia
CATEGORIES:Regional Human Rights Mechanisms
END:VEVENT
BEGIN:VEVENT
DTSTART;VALUE=DATE:20251010
DTEND;VALUE=DATE:20251011
DTSTAMP:20260420T064806
CREATED:20250527T155554Z
LAST-MODIFIED:20250723T013303Z
UID:10000556-1760054400-1760140799@cglj.org
SUMMARY:World Mental Health Day
DESCRIPTION:World Mental Health Day is observed on October 10.
URL:https://cglj.org/event/world-mental-health-day/2025-10-10/
CATEGORIES:Social & Cultural Events
END:VEVENT
BEGIN:VEVENT
DTSTART;VALUE=DATE:20251010
DTEND;VALUE=DATE:20251011
DTSTAMP:20260420T064806
CREATED:20250724T150753Z
LAST-MODIFIED:20250729T153138Z
UID:10001645-1760054400-1760140799@cglj.org
SUMMARY:UPR\, Civil Society Submissions Due
DESCRIPTION:Written submissions from civil society due regarding the April 2026 Universal Periodic Review (UPR) of Namibia\, Niger\, Mozambique\, Estonia\, Paraguay\, Belgium\, Denmark\, Palau\, Somalia\, Seychelles\, Solomon Islands\, Latvia\, Sierra Leone\, and Singapore.
URL:https://cglj.org/event/upr-civil-society-submissions-due/
CATEGORIES:Deadline
END:VEVENT
BEGIN:VEVENT
DTSTART;VALUE=DATE:20251010
DTEND;VALUE=DATE:20251011
DTSTAMP:20260420T064806
CREATED:20250923T173944Z
LAST-MODIFIED:20250923T173944Z
UID:10002238-1760054400-1760140799@cglj.org
SUMMARY:Call for Input\, OHCHR (Guidance on prevention of child\, early and forced marriage)
DESCRIPTION:The Office of the United Nations High Commissioner for Human Rights (OHCHR) has issued a call for input to inform the preparation of guidelines for States on the effective application of a human rights-based approach to the development and implementation of laws\, policies and programmes to prevent and eliminate child\, early and forced marriage.
URL:https://cglj.org/event/call-for-input-ohchr-guidance-on-prevention-of-child-early-and-forced-marriage/
CATEGORIES:Deadline
END:VEVENT
END:VCALENDAR