BEGIN:VCALENDAR
VERSION:2.0
PRODID:-//Center for Global Law and Justice | Resource Hub - ECPv6.15.17.1//NONSGML v1.0//EN
CALSCALE:GREGORIAN
METHOD:PUBLISH
X-ORIGINAL-URL:https://cglj.org
X-WR-CALDESC:Events for Center for Global Law and Justice | Resource Hub
REFRESH-INTERVAL;VALUE=DURATION:PT1H
X-Robots-Tag:noindex
X-PUBLISHED-TTL:PT1H
BEGIN:VTIMEZONE
TZID:America/Denver
BEGIN:DAYLIGHT
TZOFFSETFROM:-0700
TZOFFSETTO:-0600
TZNAME:MDT
DTSTART:20240310T090000
END:DAYLIGHT
BEGIN:STANDARD
TZOFFSETFROM:-0600
TZOFFSETTO:-0700
TZNAME:MST
DTSTART:20241103T080000
END:STANDARD
BEGIN:DAYLIGHT
TZOFFSETFROM:-0700
TZOFFSETTO:-0600
TZNAME:MDT
DTSTART:20250309T090000
END:DAYLIGHT
BEGIN:STANDARD
TZOFFSETFROM:-0600
TZOFFSETTO:-0700
TZNAME:MST
DTSTART:20251102T080000
END:STANDARD
BEGIN:DAYLIGHT
TZOFFSETFROM:-0700
TZOFFSETTO:-0600
TZNAME:MDT
DTSTART:20260308T090000
END:DAYLIGHT
BEGIN:STANDARD
TZOFFSETFROM:-0600
TZOFFSETTO:-0700
TZNAME:MST
DTSTART:20261101T080000
END:STANDARD
END:VTIMEZONE
BEGIN:VEVENT
DTSTART;VALUE=DATE:20250908
DTEND;VALUE=DATE:20251009
DTSTAMP:20260420T034324
CREATED:20250724T151941Z
LAST-MODIFIED:20250814T180628Z
UID:10001643-1757289600-1759967999@cglj.org
SUMMARY:Human Rights Council 60
DESCRIPTION:The UN Human Rights Council is holding its 60th regular session in Geneva\, Switzerland.
URL:https://cglj.org/event/human-rights-council-60/
CATEGORIES:Mechanism Session (Public)
END:VEVENT
BEGIN:VEVENT
DTSTART;VALUE=DATE:20250916
DTEND;VALUE=DATE:20251018
DTSTAMP:20260420T034324
CREATED:20250827T164059Z
LAST-MODIFIED:20250908T140339Z
UID:10002224-1757980800-1760745599@cglj.org
SUMMARY:Committee on the Rights of the Child (CRC) PSWG 101
DESCRIPTION:The Committee on the Rights of the Child (CRC) is scheduled to hold its 101st Pre-sessional Working Group\, during which it will begin reviewing State reports from Kazakhstan\, Lesotho\, Serbia\, Slovenia\, Tajikistan\, Timor-Leste and the United Republic of Tanzania to assess their compliance with the Convention on the Rights of the Child. Additionally\, the Working Group will begin considering reports it has received from the United States of America regarding its compliance with the Optional Protocol to the Convention relating to the sale of children\, child prostitution and child pornography (OP-CRC-SC)\, and the Optional Protocol to the Convention relating to involvement of children in armed conflict (OP-CRC-AC). \nThis session appears to have been originally scheduled to be held in May 2025\, but was cancelled\, most likely due to the current liquidity crisis at the UN.
URL:https://cglj.org/event/committee-on-the-rights-of-the-child-crc-pswg-101/
CATEGORIES:Deliberative Sessions,Review of State Reports
END:VEVENT
BEGIN:VEVENT
DTSTART;VALUE=DATE:20250922
DTEND;VALUE=DATE:20251003
DTSTAMP:20260420T034324
CREATED:20250724T145649Z
LAST-MODIFIED:20250902T135553Z
UID:10001672-1758499200-1759449599@cglj.org
SUMMARY:Committee on Enforced Disappearances (CED) 29
DESCRIPTION:The Committee on Enforced Disappearances (CED) is scheduled to hold its 29th session in Geneva\, Switzerland. According to the Information Note for victims and civil society organizations\, registration for in-person attendance will open on September 1. All public meetings of the Committee are also generally webcast live at http://webtv.un.org/. During this session\, the Committee will consider initial reports from Benin and Sri Lanka; a report on additional information from Montenegro; lists of issues for Finland\, Oman and Slovenia; and lists of priority themes for Ecuador and Iraq. \nAlso during the session\, on September 29\, the Committee will hold its annual meeting with civil society actors\, intergovernmental organizations and National Human Rights Institutions to facilitate the sharing of information and ideas for strengthening and furthering the work of the Committee. For further guidelines specific to the 29th session\, see the Information Note referenced above. For more general guidelines on civil society engagement with the Committee\, please see the Committee’s webpage. \nPlease note that several of the treaty body webpages currently warn that “due to the United Nations Regular Budget Liquidity Situation\,” the agenda\, dates and modality of treaty body sessions may be subject to change. More information may be available by checking the UN’s Indico calendar or by contacting ohchr-tbs@un.org via email.
URL:https://cglj.org/event/committee-on-enforced-disappearances-ced-29/
LOCATION:Palais Wilson\, Geneva\, Switzerland
CATEGORIES:Mechanism Session (Public),Review of State Reports
END:VEVENT
BEGIN:VEVENT
DTSTART;VALUE=DATE:20250922
DTEND;VALUE=DATE:20251004
DTSTAMP:20260420T034324
CREATED:20250904T143742Z
LAST-MODIFIED:20250926T170849Z
UID:10002234-1758499200-1759535999@cglj.org
SUMMARY:Inter-American Court of Human Rights (IACtHR) 180
DESCRIPTION:The Inter-American Court of Human Rights (IACtHR) will hold its 180th Ordinary Session. The Court will hold the public portion of this session in Paraguay from September 22 to 26. Then from September 29 to October 3 the Court will meet virtually for closed deliberations.
URL:https://cglj.org/event/inter-american-court-of-human-rights-iacthr-180/
LOCATION:Paraguay\, Paraguay
CATEGORIES:Mechanism Session (Public),Regional Human Rights Mechanisms
END:VEVENT
BEGIN:VEVENT
DTSTART;VALUE=DATE:20250929
DTEND;VALUE=DATE:20251004
DTSTAMP:20260420T034324
CREATED:20250811T210222Z
LAST-MODIFIED:20250825T153301Z
UID:10002151-1759104000-1759535999@cglj.org
SUMMARY:Session\, UN WG Business & Human Rights 42
DESCRIPTION:The UN Working Group on Business and Human Rights is scheduled to hold its 42nd session in Geneva.
URL:https://cglj.org/event/session-un-wg-business-human-rights-42/
LOCATION:Palais des Nations\, Geneva\, Switzerland
CATEGORIES:Mechanism Session (Public)
END:VEVENT
BEGIN:VEVENT
DTSTART;VALUE=DATE:20250929
DTEND;VALUE=DATE:20251011
DTSTAMP:20260420T034324
CREATED:20250924T000503Z
LAST-MODIFIED:20250925T210034Z
UID:10002245-1759104000-1760140799@cglj.org
SUMMARY:Visit to Lebanon\, UN SR on extrajudicial\, summary or arbitrary executions
DESCRIPTION:The UN Special Rapporteur on extrajudicial\, summary or arbitrary executions is scheduled to visit Lebanon.
URL:https://cglj.org/event/visit-to-lebanon-un-sr-on-extrajudicial-summary-or-arbitrary-executions/
LOCATION:Lebanon\, Lebanon
CATEGORIES:Country Visits
END:VEVENT
BEGIN:VEVENT
DTSTART;VALUE=DATE:20250930
DTEND;VALUE=DATE:20251001
DTSTAMP:20260420T034324
CREATED:20250825T191634Z
LAST-MODIFIED:20250825T204429Z
UID:10002213-1759190400-1759276799@cglj.org
SUMMARY:ACHPR\, Deadline to register to make statement / intervention at Ordinary Session 85
DESCRIPTION:The African Commission on Human and Peoples’ Rights will hold its 85th Ordinary Session as follows: \n(a)    Private Session: 7 – 17 October 2025 (virtual & closed to the public) \n(b)    Public Session (In-person & Open to the public): 21 – 30 October 2025 \nThose wishing to make a statement or intervention must register by September 30.
URL:https://cglj.org/event/achpr-deadline-to-register-to-make-statement-intervention-at-ordinary-session-85/
CATEGORIES:Deadline,Regional Human Rights Mechanisms
END:VEVENT
BEGIN:VEVENT
DTSTART;VALUE=DATE:20250930
DTEND;VALUE=DATE:20251001
DTSTAMP:20260420T034324
CREATED:20250826T151648Z
LAST-MODIFIED:20250826T151738Z
UID:10002219-1759190400-1759276799@cglj.org
SUMMARY:Cultural Rights in the Digital Age: Inclusive Access\, Fair Participation\, and Rights-Based Governance
DESCRIPTION:Cultural Rights in the Digital Age: Inclusive Access\, Fair Participation\, and Rights-Based Governance is a MONDIACULT 2025 side event co-organized by UNESCO\, ICESCO\, ILO\, OHCHR and UN Women. One of the expected outcomes of this event is to generate recommendations that can inform MONDIACULT 2025 outcome documents by highlighting themes like the centrality of cultural rights in the digital transformation era\, the cultural dimensions of digital divides\, and tools and initiatives in promoting inclusive access to cultural technologies.
URL:https://cglj.org/event/cultural-rights-in-the-digital-age-inclusive-access-fair-participation-and-rights-based-governance/
LOCATION:Barcelona\, Barcelona\, Spain
CATEGORIES:Conferences & Trainings
END:VEVENT
BEGIN:VEVENT
DTSTART;VALUE=DATE:20250930
DTEND;VALUE=DATE:20251001
DTSTAMP:20260420T034324
CREATED:20250902T142959Z
LAST-MODIFIED:20250902T143123Z
UID:10002231-1759190400-1759276799@cglj.org
SUMMARY:Call for Input\, UN SR on human rights defenders
DESCRIPTION:The UN Special Rapporteur on human rights defenders has issued a call for input “from human rights defenders on how they view their human rights work\, the environment in which that work takes place and changes they would like to see for the greater support of their work.”
URL:https://cglj.org/event/call-for-input-un-sr-on-human-rights-defenders/
CATEGORIES:Deadline
END:VEVENT
END:VCALENDAR