BEGIN:VCALENDAR
VERSION:2.0
PRODID:-//Center for Global Law and Justice | Resource Hub - ECPv6.15.17.1//NONSGML v1.0//EN
CALSCALE:GREGORIAN
METHOD:PUBLISH
X-ORIGINAL-URL:https://cglj.org
X-WR-CALDESC:Events for Center for Global Law and Justice | Resource Hub
REFRESH-INTERVAL;VALUE=DURATION:PT1H
X-Robots-Tag:noindex
X-PUBLISHED-TTL:PT1H
BEGIN:VTIMEZONE
TZID:America/Denver
BEGIN:DAYLIGHT
TZOFFSETFROM:-0700
TZOFFSETTO:-0600
TZNAME:MDT
DTSTART:20240310T090000
END:DAYLIGHT
BEGIN:STANDARD
TZOFFSETFROM:-0600
TZOFFSETTO:-0700
TZNAME:MST
DTSTART:20241103T080000
END:STANDARD
BEGIN:DAYLIGHT
TZOFFSETFROM:-0700
TZOFFSETTO:-0600
TZNAME:MDT
DTSTART:20250309T090000
END:DAYLIGHT
BEGIN:STANDARD
TZOFFSETFROM:-0600
TZOFFSETTO:-0700
TZNAME:MST
DTSTART:20251102T080000
END:STANDARD
BEGIN:DAYLIGHT
TZOFFSETFROM:-0700
TZOFFSETTO:-0600
TZNAME:MDT
DTSTART:20260308T090000
END:DAYLIGHT
BEGIN:STANDARD
TZOFFSETFROM:-0600
TZOFFSETTO:-0700
TZNAME:MST
DTSTART:20261101T080000
END:STANDARD
END:VTIMEZONE
BEGIN:VEVENT
DTSTART;VALUE=DATE:20250901
DTEND;VALUE=DATE:20250911
DTSTAMP:20260423T101118
CREATED:20250925T154756Z
LAST-MODIFIED:20250925T154756Z
UID:10002264-1756684800-1757548799@cglj.org
SUMMARY:Visit to Botswana\, UN SR on the rights of Indigenous Peoples
DESCRIPTION:The UN Special Rapporteur on the rights of indigenous peoples is scheduled to visit Botswana from September 1 to 10.
URL:https://cglj.org/event/visit-to-botswana-un-sr-on-the-rights-of-indigenous-peoples/
LOCATION:Botswana\, Botswana
CATEGORIES:Country Visits
END:VEVENT
BEGIN:VEVENT
DTSTART;VALUE=DATE:20250901
DTEND;VALUE=DATE:20250927
DTSTAMP:20260423T101118
CREATED:20250724T145307Z
LAST-MODIFIED:20250825T154354Z
UID:10001962-1756684800-1758931199@cglj.org
SUMMARY:African Court on Human and Peoples' Rights (AfCHPR) 78
DESCRIPTION:The African Court on Human & Peoples’ Rights (AfCHPR) will convene for its 78th Ordinary Session.
URL:https://cglj.org/event/african-court-on-human-and-peoples-rights-afchpr-78/
CATEGORIES:Mechanism Session (Public),Regional Human Rights Mechanisms
END:VEVENT
BEGIN:VEVENT
DTSTART;VALUE=DATE:20250902
DTEND;VALUE=DATE:20250910
DTSTAMP:20260423T101118
CREATED:20250724T150649Z
LAST-MODIFIED:20250818T144724Z
UID:10001652-1756771200-1757462399@cglj.org
SUMMARY:Visit to Kuwait\, UN SR on violence against women and girls
DESCRIPTION:The UN Special Rapporteur on violence against women and girls (SR VAWG) will visit Kuwait.
URL:https://cglj.org/event/visit-to-brazil-un-sr-on-slavery/
LOCATION:Kuwait\, Kuwait
CATEGORIES:Country Visits
END:VEVENT
BEGIN:VEVENT
DTSTART;VALUE=DATE:20250902
DTEND;VALUE=DATE:20250916
DTSTAMP:20260423T101118
CREATED:20250818T145851Z
LAST-MODIFIED:20250818T145851Z
UID:10002204-1756771200-1757980799@cglj.org
SUMMARY:Visit to Mauritania\, UN SR on migrants
DESCRIPTION:The UN Special Rapporteur on the human rights of migrants is scheduled to visit Mauritania from September 2 to 15.
URL:https://cglj.org/event/visit-to-mauritania-un-sr-on-migrants/
LOCATION:Mauritania\, Mauritania
CATEGORIES:Country Visits
END:VEVENT
BEGIN:VEVENT
DTSTART;VALUE=DATE:20250908
DTEND;VALUE=DATE:20250927
DTSTAMP:20260423T101118
CREATED:20250724T145515Z
LAST-MODIFIED:20250807T154511Z
UID:10001646-1757289600-1758931199@cglj.org
SUMMARY:Committee on Economic\, Social and Cultural Rights (CESCR) 78
DESCRIPTION:The Committee on Economic\, Social and Cultural Rights (CESCR) is scheduled to hold its 78th session September 8 to 26\, in Geneva\, Switzerland.  The Committee will consider reports from Chile\, Colombia\, Lao People’s Democratic Republic\, Netherlands\, Russian Federation and Zimbabwe; lists of issues prior to reporting for Eswatini\, Germany\, Guinea-Bissau\, Mauritius\, Republic of Korea\, Republic of Moldova and Tunisia; and follow-up to concluding observations (CoBs) made to El Salvador and Luxembourg. More information is available on the session page. \nAll public meetings of the Committee are generally webcast live at https://webtv.un.org/. \nPlease note that several of the treaty body webpages currently warn that “due to the United Nations Regular Budget Liquidity Situation\,” the agenda\, dates and modality of treaty body sessions may be subject to change. More information may be available by checking the UN’s Indico calendar or by contacting ohchr-tbs@un.org via email.
URL:https://cglj.org/event/committee-on-economic-social-and-cultural-rights-cescr-78/
LOCATION:Palais Wilson\, Geneva\, Switzerland
CATEGORIES:Mechanism Session (Public),Review of State Reports
END:VEVENT
BEGIN:VEVENT
DTSTART;VALUE=DATE:20250908
DTEND;VALUE=DATE:20251009
DTSTAMP:20260423T101118
CREATED:20250724T151941Z
LAST-MODIFIED:20250814T180628Z
UID:10001643-1757289600-1759967999@cglj.org
SUMMARY:Human Rights Council 60
DESCRIPTION:The UN Human Rights Council is holding its 60th regular session in Geneva\, Switzerland.
URL:https://cglj.org/event/human-rights-council-60/
CATEGORIES:Mechanism Session (Public)
END:VEVENT
END:VCALENDAR