BEGIN:VCALENDAR
VERSION:2.0
PRODID:-//Center for Global Law and Justice | Resource Hub - ECPv6.15.17.1//NONSGML v1.0//EN
CALSCALE:GREGORIAN
METHOD:PUBLISH
X-ORIGINAL-URL:https://cglj.org
X-WR-CALDESC:Events for Center for Global Law and Justice | Resource Hub
REFRESH-INTERVAL;VALUE=DURATION:PT1H
X-Robots-Tag:noindex
X-PUBLISHED-TTL:PT1H
BEGIN:VTIMEZONE
TZID:America/Denver
BEGIN:DAYLIGHT
TZOFFSETFROM:-0700
TZOFFSETTO:-0600
TZNAME:MDT
DTSTART:20240310T090000
END:DAYLIGHT
BEGIN:STANDARD
TZOFFSETFROM:-0600
TZOFFSETTO:-0700
TZNAME:MST
DTSTART:20241103T080000
END:STANDARD
BEGIN:DAYLIGHT
TZOFFSETFROM:-0700
TZOFFSETTO:-0600
TZNAME:MDT
DTSTART:20250309T090000
END:DAYLIGHT
BEGIN:STANDARD
TZOFFSETFROM:-0600
TZOFFSETTO:-0700
TZNAME:MST
DTSTART:20251102T080000
END:STANDARD
BEGIN:DAYLIGHT
TZOFFSETFROM:-0700
TZOFFSETTO:-0600
TZNAME:MDT
DTSTART:20260308T090000
END:DAYLIGHT
BEGIN:STANDARD
TZOFFSETFROM:-0600
TZOFFSETTO:-0700
TZNAME:MST
DTSTART:20261101T080000
END:STANDARD
END:VTIMEZONE
BEGIN:VEVENT
DTSTART;VALUE=DATE:20250818
DTEND;VALUE=DATE:20250904
DTSTAMP:20260423T022153
CREATED:20250724T144920Z
LAST-MODIFIED:20250904T143116Z
UID:10001965-1755475200-1756943999@cglj.org
SUMMARY:Inter-American Court of Human Rights (IACtHR) 179
DESCRIPTION:The Inter-American Court of Human Rights (IACtHR) will hold its 179th Ordinary Session.
URL:https://cglj.org/event/inter-american-court-of-human-rights-iacthr-179/
CATEGORIES:Mechanism Session (Public),Regional Human Rights Mechanisms
END:VEVENT
BEGIN:VEVENT
DTSTART;VALUE=DATE:20250831
DTEND;VALUE=DATE:20250901
DTSTAMP:20260423T022153
CREATED:20250724T150331Z
LAST-MODIFIED:20250724T150331Z
UID:10001659-1756598400-1756684799@cglj.org
SUMMARY:Independent International Commission of Inquiry on Ukraine\, Preferred Submission Deadline
DESCRIPTION:The Independent International Commission of Inquiry on Ukraine has issued a call for submission of information and documentation relevant to its mandate.
URL:https://cglj.org/event/independent-international-commission-of-inquiry-on-ukraine-preferred-submission-deadline/
CATEGORIES:Deadline
END:VEVENT
BEGIN:VEVENT
DTSTART;VALUE=DATE:20250831
DTEND;VALUE=DATE:20250901
DTSTAMP:20260423T022153
CREATED:20250724T150350Z
LAST-MODIFIED:20250724T150350Z
UID:10001657-1756598400-1756684799@cglj.org
SUMMARY:Call for Input\, UN SR on the right to development
DESCRIPTION:The UN Special Rapporteur on the right to development has issued a call for input to inform an upcoming country visit to Germany.
URL:https://cglj.org/event/call-for-input-un-sr-on-the-right-to-development/
CATEGORIES:Deadline
END:VEVENT
END:VCALENDAR