BEGIN:VCALENDAR
VERSION:2.0
PRODID:-//Center for Global Law and Justice | Resource Hub - ECPv6.15.17.1//NONSGML v1.0//EN
CALSCALE:GREGORIAN
METHOD:PUBLISH
X-ORIGINAL-URL:https://cglj.org
X-WR-CALDESC:Events for Center for Global Law and Justice | Resource Hub
REFRESH-INTERVAL;VALUE=DURATION:PT1H
X-Robots-Tag:noindex
X-PUBLISHED-TTL:PT1H
BEGIN:VTIMEZONE
TZID:America/Denver
BEGIN:DAYLIGHT
TZOFFSETFROM:-0700
TZOFFSETTO:-0600
TZNAME:MDT
DTSTART:20240310T090000
END:DAYLIGHT
BEGIN:STANDARD
TZOFFSETFROM:-0600
TZOFFSETTO:-0700
TZNAME:MST
DTSTART:20241103T080000
END:STANDARD
BEGIN:DAYLIGHT
TZOFFSETFROM:-0700
TZOFFSETTO:-0600
TZNAME:MDT
DTSTART:20250309T090000
END:DAYLIGHT
BEGIN:STANDARD
TZOFFSETFROM:-0600
TZOFFSETTO:-0700
TZNAME:MST
DTSTART:20251102T080000
END:STANDARD
BEGIN:DAYLIGHT
TZOFFSETFROM:-0700
TZOFFSETTO:-0600
TZNAME:MDT
DTSTART:20260308T090000
END:DAYLIGHT
BEGIN:STANDARD
TZOFFSETFROM:-0600
TZOFFSETTO:-0700
TZNAME:MST
DTSTART:20261101T080000
END:STANDARD
END:VTIMEZONE
BEGIN:VEVENT
DTSTART;VALUE=DATE:20250728
DTEND;VALUE=DATE:20250809
DTSTAMP:20260422T232047
CREATED:20250724T150817Z
LAST-MODIFIED:20250815T214148Z
UID:10001651-1753660800-1754697599@cglj.org
SUMMARY:Visit to Zimbabwe\, UN WG on discrimination against women and girls
DESCRIPTION:The UN Working Group on discrimination against women and girls will visit Zimbabwe. The Working Group will present a full report of its findings to the Human Rights Council in June 2026.
URL:https://cglj.org/event/visit-to-zimbabwe-un-wg-on-discrimination-against-women-and-girls/
LOCATION:Zimbabwe
CATEGORIES:Country Visits
END:VEVENT
BEGIN:VEVENT
DTSTART;VALUE=DATE:20250801
DTEND;VALUE=DATE:20250802
DTSTAMP:20260422T232047
CREATED:20250724T150405Z
LAST-MODIFIED:20250724T150405Z
UID:10001655-1754006400-1754092799@cglj.org
SUMMARY:Call for Input\, UN SR on the Rights of Indigenous Peoples
DESCRIPTION:The UN Special Rapporteur on the Rights of Indigenous Peoples has issued a call for input to inform an upcoming country visit to Botswana.
URL:https://cglj.org/event/call-for-input-un-sr-on-the-rights-of-indigenous-peoples/
CATEGORIES:Deadline
END:VEVENT
BEGIN:VEVENT
DTSTART;VALUE=DATE:20250801
DTEND;VALUE=DATE:20250802
DTSTAMP:20260422T232047
CREATED:20250724T150425Z
LAST-MODIFIED:20250724T150425Z
UID:10001654-1754006400-1754092799@cglj.org
SUMMARY:Call for Input\, UN SR on Afghanistan
DESCRIPTION:The UN Special Rapporteur on Afghanistan has issued a call for input to inform his upcoming reports on the human rights situation in Afghanistan\, in particular with regard to the impact of funding cuts on the work of local civil society organizations\, grassroots networks\, and national and international non-governmental organizations.
URL:https://cglj.org/event/call-for-input-un-sr-on-afghanistan/
CATEGORIES:Deadline
END:VEVENT
BEGIN:VEVENT
DTSTART;VALUE=DATE:20250801
DTEND;VALUE=DATE:20250802
DTSTAMP:20260422T232047
CREATED:20250811T193103Z
LAST-MODIFIED:20250811T193103Z
UID:10002146-1754006400-1754092799@cglj.org
SUMMARY:Call for Input\, UN SR on Iran
DESCRIPTION:The UN Special Rapporteur on Special Rapporteur on the situation of human rights in the Islamic Republic of Iran has issued a call for input to inform her upcoming report to the UN General Assembly focusing on (1) a human rights update since January 2025\, and (2) the human rights situation in the Islamic Republic of Iran since 13 June 2025.
URL:https://cglj.org/event/call-for-input-un-sr-on-iran/
CATEGORIES:Deadline
END:VEVENT
END:VCALENDAR