BEGIN:VCALENDAR
VERSION:2.0
PRODID:-//Center for Global Law and Justice | Resource Hub - ECPv6.15.17.1//NONSGML v1.0//EN
CALSCALE:GREGORIAN
METHOD:PUBLISH
X-WR-CALNAME:Center for Global Law and Justice | Resource Hub
X-ORIGINAL-URL:https://cglj.org
X-WR-CALDESC:Events for Center for Global Law and Justice | Resource Hub
REFRESH-INTERVAL;VALUE=DURATION:PT1H
X-Robots-Tag:noindex
X-PUBLISHED-TTL:PT1H
BEGIN:VTIMEZONE
TZID:America/Denver
BEGIN:DAYLIGHT
TZOFFSETFROM:-0700
TZOFFSETTO:-0600
TZNAME:MDT
DTSTART:20240310T090000
END:DAYLIGHT
BEGIN:STANDARD
TZOFFSETFROM:-0600
TZOFFSETTO:-0700
TZNAME:MST
DTSTART:20241103T080000
END:STANDARD
BEGIN:DAYLIGHT
TZOFFSETFROM:-0700
TZOFFSETTO:-0600
TZNAME:MDT
DTSTART:20250309T090000
END:DAYLIGHT
BEGIN:STANDARD
TZOFFSETFROM:-0600
TZOFFSETTO:-0700
TZNAME:MST
DTSTART:20251102T080000
END:STANDARD
BEGIN:DAYLIGHT
TZOFFSETFROM:-0700
TZOFFSETTO:-0600
TZNAME:MDT
DTSTART:20260308T090000
END:DAYLIGHT
BEGIN:STANDARD
TZOFFSETFROM:-0600
TZOFFSETTO:-0700
TZNAME:MST
DTSTART:20261101T080000
END:STANDARD
END:VTIMEZONE
BEGIN:VEVENT
DTSTART;VALUE=DATE:20250602
DTEND;VALUE=DATE:20250612
DTSTAMP:20260422T213252
CREATED:20250926T153133Z
LAST-MODIFIED:20250926T153133Z
UID:10002268-1748822400-1749686399@cglj.org
SUMMARY:**POSTPONED** Visit to Republic of Korea\, UN WG on enforced or involuntary disappearances
DESCRIPTION:The UN Working Group on enforced or involuntary disappearances was scheduled to visit the Republic of Korea from June 2 to 11\, but due to the current budget liquidity crisis at the UN\, this visit has been postponed.
URL:https://cglj.org/event/postponed-visit-to-republic-of-korea-un-wg-on-enforced-or-involuntary-disappearances/
LOCATION:Republic of Korea\, Korea\, Republic of
CATEGORIES:Country Visits
END:VEVENT
BEGIN:VEVENT
DTSTART;VALUE=DATE:20250603
DTEND;VALUE=DATE:20250604
DTSTAMP:20260422T213252
CREATED:20250814T203146Z
LAST-MODIFIED:20250814T203146Z
UID:10002183-1748908800-1748995199@cglj.org
SUMMARY:Call for Input\, UN SR on the sale\, and sexual exploitation and abuse of children
DESCRIPTION:The UN Special Rapporteur on the sale\, sexual exploitation and sexual abuse of children has issued a call for input to inform the Special Rapporteur’s thematic report focused on responding to the issue of sexual exploitation of children in street situations\, to be presented to the 80th session of the UN General Assembly.
URL:https://cglj.org/event/call-for-input-un-sr-on-the-sale-and-sexual-exploitation-and-abuse-of-children/
CATEGORIES:Deadline
END:VEVENT
END:VCALENDAR