BEGIN:VCALENDAR
VERSION:2.0
PRODID:-//Center for Global Law and Justice | Resource Hub - ECPv6.15.17.1//NONSGML v1.0//EN
CALSCALE:GREGORIAN
METHOD:PUBLISH
X-ORIGINAL-URL:https://cglj.org
X-WR-CALDESC:Events for Center for Global Law and Justice | Resource Hub
REFRESH-INTERVAL;VALUE=DURATION:PT1H
X-Robots-Tag:noindex
X-PUBLISHED-TTL:PT1H
BEGIN:VTIMEZONE
TZID:America/Denver
BEGIN:DAYLIGHT
TZOFFSETFROM:-0700
TZOFFSETTO:-0600
TZNAME:MDT
DTSTART:20190310T090000
END:DAYLIGHT
BEGIN:STANDARD
TZOFFSETFROM:-0600
TZOFFSETTO:-0700
TZNAME:MST
DTSTART:20191103T080000
END:STANDARD
BEGIN:DAYLIGHT
TZOFFSETFROM:-0700
TZOFFSETTO:-0600
TZNAME:MDT
DTSTART:20200308T090000
END:DAYLIGHT
BEGIN:STANDARD
TZOFFSETFROM:-0600
TZOFFSETTO:-0700
TZNAME:MST
DTSTART:20201101T080000
END:STANDARD
BEGIN:DAYLIGHT
TZOFFSETFROM:-0700
TZOFFSETTO:-0600
TZNAME:MDT
DTSTART:20210314T090000
END:DAYLIGHT
BEGIN:STANDARD
TZOFFSETFROM:-0600
TZOFFSETTO:-0700
TZNAME:MST
DTSTART:20211107T080000
END:STANDARD
END:VTIMEZONE
BEGIN:VEVENT
DTSTART;VALUE=DATE:20200217
DTEND;VALUE=DATE:20200307
DTSTAMP:20260422T162644
CREATED:20250527T155740Z
LAST-MODIFIED:20250619T201837Z
UID:10001214-1581897600-1583539199@cglj.org
SUMMARY:CESCR 67th Session
DESCRIPTION:The Committee on Economic\, Social and Cultural Rights (CESCR) will hold its 67th Session from February 17 to March 6\, 2020.
URL:https://cglj.org/event/cescr-67th-session/
CATEGORIES:Review of State Reports
END:VEVENT
BEGIN:VEVENT
DTSTART;VALUE=DATE:20200219
DTEND;VALUE=DATE:20200305
DTSTAMP:20260422T162645
CREATED:20250527T155738Z
LAST-MODIFIED:20250619T201832Z
UID:10001213-1582070400-1583366399@cglj.org
SUMMARY:ACHPR 27th Extraordinary Sess
DESCRIPTION:The African Commission on Human and Peoples’ Rights will hold its 27th Extraordinary Session from February 19 to March 4\, 2020 in Banjul\, The Gambia.
URL:https://cglj.org/event/achpr-27th-extraordinary-sess/
CATEGORIES:Deliberative Sessions
END:VEVENT
BEGIN:VEVENT
DTSTART;VALUE=DATE:20200224
DTEND;VALUE=DATE:20200321
DTSTAMP:20260422T162645
CREATED:20250527T155740Z
LAST-MODIFIED:20250619T201820Z
UID:10001210-1582502400-1584748799@cglj.org
SUMMARY:Human Rights Council 43rd Sess
DESCRIPTION:The Human Rights Council\, an intergovernmental deliberative body\, will hold its 43rd Session from February 24 to March 20\, 2020\, in Geneva\, Switzerland.
URL:https://cglj.org/event/human-rights-council-43rd-sess/
CATEGORIES:Deliberative Sessions
END:VEVENT
BEGIN:VEVENT
DTSTART;VALUE=DATE:20200224
DTEND;VALUE=DATE:20200307
DTSTAMP:20260422T162645
CREATED:20250527T155740Z
LAST-MODIFIED:20250619T201824Z
UID:10001211-1582502400-1583539199@cglj.org
SUMMARY:UN WG women discrimination
DESCRIPTION:The UN Working Group on discrimination against women and girls agreed to visit Romania from February 24 to March 6\, 2020.
URL:https://cglj.org/event/un-wg-women-discrimination/
CATEGORIES:Country Visits
END:VEVENT
BEGIN:VEVENT
DTSTART;VALUE=DATE:20200225
DTEND;VALUE=DATE:20200305
DTSTAMP:20260422T162645
CREATED:20250527T155740Z
LAST-MODIFIED:20250619T201815Z
UID:10001209-1582588800-1583366399@cglj.org
SUMMARY:UN WG African descent (Peru)
DESCRIPTION:The UN Working Group of experts on people of African descent agreed to visit Peru from February 25 to March 4\, 2020.
URL:https://cglj.org/event/un-wg-african-descent-peru/
CATEGORIES:Country Visits
END:VEVENT
BEGIN:VEVENT
DTSTART;VALUE=DATE:20200301
DTEND;VALUE=DATE:20200311
DTSTAMP:20260422T162645
CREATED:20250527T155738Z
LAST-MODIFIED:20250619T201624Z
UID:10001206-1583020800-1583884799@cglj.org
SUMMARY:IACHR 175th Period of Sessions
DESCRIPTION:The Inter-American Commission on Human Rights will hold its 175th Period of Sessions from March 1 to 10\, 2020 in Port-au-Prince\, Haiti.
URL:https://cglj.org/event/iachr-175th-period-of-sessions/
CATEGORIES:Deliberative Sessions
END:VEVENT
BEGIN:VEVENT
DTSTART;VALUE=DATE:20200301
DTEND;VALUE=DATE:20200309
DTSTAMP:20260422T162645
CREATED:20250527T155742Z
LAST-MODIFIED:20250619T201628Z
UID:10001207-1583020800-1583711999@cglj.org
SUMMARY:Postponed: UN SR expression
DESCRIPTION:The UN Special Rapporteur on the promotion and protection of the right to freedom of opinion and expression agreed to visit the Maldives from March 1 to 8\, 2020.
URL:https://cglj.org/event/postponed-un-sr-expression/
CATEGORIES:Country Visits
END:VEVENT
BEGIN:VEVENT
DTSTART;VALUE=DATE:20200301
DTEND;VALUE=DATE:20200302
DTSTAMP:20260422T162645
CREATED:20250527T155559Z
LAST-MODIFIED:20250723T014504Z
UID:10000931-1583020800-1583107199@cglj.org
SUMMARY:Zero Discrimination Day
DESCRIPTION:Zero Discrimination Day is observed on March 1.
URL:https://cglj.org/event/zero-discrimination-day/2020-03-01/
CATEGORIES:Social & Cultural Events
END:VEVENT
END:VCALENDAR