BEGIN:VCALENDAR
VERSION:2.0
PRODID:-//Center for Global Law and Justice | Resource Hub - ECPv6.15.17.1//NONSGML v1.0//EN
CALSCALE:GREGORIAN
METHOD:PUBLISH
X-ORIGINAL-URL:https://cglj.org
X-WR-CALDESC:Events for Center for Global Law and Justice | Resource Hub
REFRESH-INTERVAL;VALUE=DURATION:PT1H
X-Robots-Tag:noindex
X-PUBLISHED-TTL:PT1H
BEGIN:VTIMEZONE
TZID:America/Denver
BEGIN:DAYLIGHT
TZOFFSETFROM:-0700
TZOFFSETTO:-0600
TZNAME:MDT
DTSTART:20190310T090000
END:DAYLIGHT
BEGIN:STANDARD
TZOFFSETFROM:-0600
TZOFFSETTO:-0700
TZNAME:MST
DTSTART:20191103T080000
END:STANDARD
BEGIN:DAYLIGHT
TZOFFSETFROM:-0700
TZOFFSETTO:-0600
TZNAME:MDT
DTSTART:20200308T090000
END:DAYLIGHT
BEGIN:STANDARD
TZOFFSETFROM:-0600
TZOFFSETTO:-0700
TZNAME:MST
DTSTART:20201101T080000
END:STANDARD
BEGIN:DAYLIGHT
TZOFFSETFROM:-0700
TZOFFSETTO:-0600
TZNAME:MDT
DTSTART:20210314T090000
END:DAYLIGHT
BEGIN:STANDARD
TZOFFSETFROM:-0600
TZOFFSETTO:-0700
TZNAME:MST
DTSTART:20211107T080000
END:STANDARD
END:VTIMEZONE
BEGIN:VEVENT
DTSTART;VALUE=DATE:20200210
DTEND;VALUE=DATE:20200229
DTSTAMP:20260422T162648
CREATED:20250527T155740Z
LAST-MODIFIED:20250619T201919Z
UID:10001218-1581292800-1582934399@cglj.org
SUMMARY:CEDAW Committee 75th Session
DESCRIPTION:The Committee on the Elimination of All Forms of Discrimination against Women (CEDAW Committee) will hold its 75th Session from February 10 to 28\, 2020\, in Geneva\, Switzerland.
URL:https://cglj.org/event/cedaw-committee-75th-session/
CATEGORIES:Review of State Reports
END:VEVENT
BEGIN:VEVENT
DTSTART;VALUE=DATE:20200210
DTEND;VALUE=DATE:20200221
DTSTAMP:20260422T162648
CREATED:20250527T155740Z
LAST-MODIFIED:20250619T201923Z
UID:10001219-1581292800-1582243199@cglj.org
SUMMARY:UN SR housing (New Zealand)
DESCRIPTION:The UN Special Rapporteur on adequate housing as a component of the right to an adequate standard of living\, and on the right to non-discrimination in this context agreed to visit New Zealand from February 10 to 20\, 2020.
URL:https://cglj.org/event/un-sr-housing-new-zealand/
CATEGORIES:Country Visits
END:VEVENT
BEGIN:VEVENT
DTSTART;VALUE=DATE:20200212
DTEND;VALUE=DATE:20200220
DTSTAMP:20260422T162648
CREATED:20250527T155740Z
LAST-MODIFIED:20250619T201902Z
UID:10001216-1581465600-1582156799@cglj.org
SUMMARY:UN SR leprosy (Japan)
DESCRIPTION:The UN Special Rapporteur on the elimination of discrimination against persons affected by leprosy and their family members agreed to visit Japan from February 12 to 19\, 2020.
URL:https://cglj.org/event/un-sr-leprosy-japan/
CATEGORIES:Country Visits
END:VEVENT
BEGIN:VEVENT
DTSTART;VALUE=DATE:20200215
DTEND;VALUE=DATE:20200224
DTSTAMP:20260422T162648
CREATED:20250527T155740Z
LAST-MODIFIED:20250619T201841Z
UID:10001215-1581724800-1582502399@cglj.org
SUMMARY:UN SR displaced persons (Iraq)
DESCRIPTION:The UN Special Rapporteur on the human rights of internally displaced persons agreed to visit Iraq from February 15 to 23\, 2020.
URL:https://cglj.org/event/un-sr-displaced-persons-iraq/
CATEGORIES:Country Visits
END:VEVENT
END:VCALENDAR