BEGIN:VCALENDAR
VERSION:2.0
PRODID:-//Center for Global Law and Justice | Resource Hub - ECPv6.15.17.1//NONSGML v1.0//EN
CALSCALE:GREGORIAN
METHOD:PUBLISH
X-ORIGINAL-URL:https://cglj.org
X-WR-CALDESC:Events for Center for Global Law and Justice | Resource Hub
REFRESH-INTERVAL;VALUE=DURATION:PT1H
X-Robots-Tag:noindex
X-PUBLISHED-TTL:PT1H
BEGIN:VTIMEZONE
TZID:America/Denver
BEGIN:DAYLIGHT
TZOFFSETFROM:-0700
TZOFFSETTO:-0600
TZNAME:MDT
DTSTART:20190310T090000
END:DAYLIGHT
BEGIN:STANDARD
TZOFFSETFROM:-0600
TZOFFSETTO:-0700
TZNAME:MST
DTSTART:20191103T080000
END:STANDARD
BEGIN:DAYLIGHT
TZOFFSETFROM:-0700
TZOFFSETTO:-0600
TZNAME:MDT
DTSTART:20200308T090000
END:DAYLIGHT
BEGIN:STANDARD
TZOFFSETFROM:-0600
TZOFFSETTO:-0700
TZNAME:MST
DTSTART:20201101T080000
END:STANDARD
BEGIN:DAYLIGHT
TZOFFSETFROM:-0700
TZOFFSETTO:-0600
TZNAME:MDT
DTSTART:20210314T090000
END:DAYLIGHT
BEGIN:STANDARD
TZOFFSETFROM:-0600
TZOFFSETTO:-0700
TZNAME:MST
DTSTART:20211107T080000
END:STANDARD
END:VTIMEZONE
BEGIN:VEVENT
DTSTART;VALUE=DATE:20200120
DTEND;VALUE=DATE:20200201
DTSTAMP:20260422T162635
CREATED:20250527T155735Z
LAST-MODIFIED:20250619T202447Z
UID:10001234-1579478400-1580515199@cglj.org
SUMMARY:UPR WG 35th Session
DESCRIPTION:The Human Rights Council‚Äôs UPR Working Group will hold its 35th Session from January 20 to January 31\, 2020\, in Geneva\, Switzerland.
URL:https://cglj.org/event/upr-wg-35th-session/
CATEGORIES:Review of State Reports
END:VEVENT
BEGIN:VEVENT
DTSTART;VALUE=DATE:20200120
DTEND;VALUE=DATE:20200208
DTSTAMP:20260422T162635
CREATED:20250527T155738Z
LAST-MODIFIED:20250619T202439Z
UID:10001232-1579478400-1581119999@cglj.org
SUMMARY:CRC 83rd Session
DESCRIPTION:The Committee on the Rights of the Child will hold its 83rd Session in Geneva\, Switzerland from January 20 to February 7\, 2020.
URL:https://cglj.org/event/crc-83rd-session/
CATEGORIES:Review of State Reports
END:VEVENT
BEGIN:VEVENT
DTSTART;VALUE=DATE:20200120
DTEND;VALUE=DATE:20200201
DTSTAMP:20260422T162635
CREATED:20250527T155738Z
LAST-MODIFIED:20250619T202442Z
UID:10001233-1579478400-1580515199@cglj.org
SUMMARY:UN SR food (Italy)
DESCRIPTION:The UN Special Rapporteur on the right to food agreed to visit Italy from January 20 to January 31\, 2020.
URL:https://cglj.org/event/un-sr-food-italy/
CATEGORIES:Country Visits
END:VEVENT
BEGIN:VEVENT
DTSTART;VALUE=DATE:20200121
DTEND;VALUE=DATE:20200204
DTSTAMP:20260422T162635
CREATED:20250527T155738Z
LAST-MODIFIED:20250619T202432Z
UID:10001231-1579564800-1580774399@cglj.org
SUMMARY:UN SR human rights defenders
DESCRIPTION:The UN Special Rapporteur on the situation of human rights defenders agreed to visit Peru from January 21 to February 3\, 2020.
URL:https://cglj.org/event/un-sr-human-rights-defenders/
CATEGORIES:Country Visits
END:VEVENT
BEGIN:VEVENT
DTSTART;VALUE=DATE:20200125
DTEND;VALUE=DATE:20200202
DTSTAMP:20260422T162635
CREATED:20250527T155738Z
LAST-MODIFIED:20250619T202428Z
UID:10001230-1579910400-1580601599@cglj.org
SUMMARY:IACHR in loco visit (Chile)
DESCRIPTION:IACHR will make a visit in loco to Chile from January 25 to February 1.
URL:https://cglj.org/event/iachr-in-loco-visit-chile/
CATEGORIES:Country Visits
END:VEVENT
BEGIN:VEVENT
DTSTART;VALUE=DATE:20200127
DTEND;VALUE=DATE:20200208
DTSTAMP:20260422T162635
CREATED:20250527T155738Z
LAST-MODIFIED:20250619T201947Z
UID:10001226-1580083200-1581119999@cglj.org
SUMMARY:UN SR poverty (Spain)
DESCRIPTION:The UN Special Rapporteur on extreme poverty and human rights agreed to visit Spain from January 27 to February 7\, 2020.
URL:https://cglj.org/event/un-sr-poverty-spain/
CATEGORIES:Country Visits
END:VEVENT
BEGIN:VEVENT
DTSTART;VALUE=DATE:20200127
DTEND;VALUE=DATE:20200208
DTSTAMP:20260422T162635
CREATED:20250527T155738Z
LAST-MODIFIED:20250619T202405Z
UID:10001227-1580083200-1581119999@cglj.org
SUMMARY:IACtHR 133rd Session
DESCRIPTION:The Inter-American Court of Human Rights (IACtHR) will hold its 133rd Regular Session from January 27 to February 7\, 2020\, in San Jos√©\, Costa Rica.
URL:https://cglj.org/event/iacthr-133rd-session/
CATEGORIES:Hearings
END:VEVENT
BEGIN:VEVENT
DTSTART;VALUE=DATE:20200127
DTEND;VALUE=DATE:20200207
DTSTAMP:20260422T162635
CREATED:20250527T155738Z
LAST-MODIFIED:20250619T202418Z
UID:10001228-1580083200-1581033599@cglj.org
SUMMARY:UN IE foreign debt (Mauritius)
DESCRIPTION:The UN Independent Expert on the effects of foreign debt and other related international financial obligations of States on the full enjoyment of all human rights\, particularly economic\, social and cultural rights agreed to visit Mauritius from January 27 to February 6\, 2020.
URL:https://cglj.org/event/un-ie-foreign-debt-mauritius/
CATEGORIES:Country Visits
END:VEVENT
BEGIN:VEVENT
DTSTART;VALUE=DATE:20200127
DTEND;VALUE=DATE:20200201
DTSTAMP:20260422T162635
CREATED:20250527T155738Z
LAST-MODIFIED:20250619T202424Z
UID:10001229-1580083200-1580515199@cglj.org
SUMMARY:ECSR 311th Session
DESCRIPTION:The European Committee of Social Rights (ECSR) of the Council of Europe will hold its 311th Session from January 27 to January 31\, 2020\, in Strasbourg\, France.
URL:https://cglj.org/event/ecsr-311th-session/
CATEGORIES:Review of State Reports
END:VEVENT
END:VCALENDAR