BEGIN:VCALENDAR
VERSION:2.0
PRODID:-//Center for Global Law and Justice | Resource Hub - ECPv6.15.17.1//NONSGML v1.0//EN
CALSCALE:GREGORIAN
METHOD:PUBLISH
X-WR-CALNAME:Center for Global Law and Justice | Resource Hub
X-ORIGINAL-URL:https://cglj.org
X-WR-CALDESC:Events for Center for Global Law and Justice | Resource Hub
REFRESH-INTERVAL;VALUE=DURATION:PT1H
X-Robots-Tag:noindex
X-PUBLISHED-TTL:PT1H
BEGIN:VTIMEZONE
TZID:America/Denver
BEGIN:DAYLIGHT
TZOFFSETFROM:-0700
TZOFFSETTO:-0600
TZNAME:MDT
DTSTART:20180311T090000
END:DAYLIGHT
BEGIN:STANDARD
TZOFFSETFROM:-0600
TZOFFSETTO:-0700
TZNAME:MST
DTSTART:20181104T080000
END:STANDARD
BEGIN:DAYLIGHT
TZOFFSETFROM:-0700
TZOFFSETTO:-0600
TZNAME:MDT
DTSTART:20190310T090000
END:DAYLIGHT
BEGIN:STANDARD
TZOFFSETFROM:-0600
TZOFFSETTO:-0700
TZNAME:MST
DTSTART:20191103T080000
END:STANDARD
BEGIN:DAYLIGHT
TZOFFSETFROM:-0700
TZOFFSETTO:-0600
TZNAME:MDT
DTSTART:20200308T090000
END:DAYLIGHT
BEGIN:STANDARD
TZOFFSETFROM:-0600
TZOFFSETTO:-0700
TZNAME:MST
DTSTART:20201101T080000
END:STANDARD
END:VTIMEZONE
BEGIN:VEVENT
DTSTART;VALUE=DATE:20191111
DTEND;VALUE=DATE:20191207
DTSTAMP:20260422T180744
CREATED:20250527T155733Z
LAST-MODIFIED:20250619T202648Z
UID:10001261-1573430400-1575676799@cglj.org
SUMMARY:CAT 68th Session
DESCRIPTION:The Committee against Torture will hold its 68th Session from November 11 to December 6\, 2019 in Geneva\, Switzerland.
URL:https://cglj.org/event/cat-68th-session/
CATEGORIES:Review of State Reports
END:VEVENT
BEGIN:VEVENT
DTSTART;VALUE=DATE:20191124
DTEND;VALUE=DATE:20191202
DTSTAMP:20260422T180744
CREATED:20250527T155735Z
LAST-MODIFIED:20250619T202623Z
UID:10001254-1574553600-1575244799@cglj.org
SUMMARY:SR on racism (Qatar)
DESCRIPTION:The Special Rapporteur on contemporary forms of racism\, racial discrimination\, xenophobia and related intolerance agreed to visit Qatar from November 24 to December 1\, 2019.
URL:https://cglj.org/event/sr-on-racism-qatar/
CATEGORIES:Country Visits
END:VEVENT
BEGIN:VEVENT
DTSTART;VALUE=DATE:20191125
DTEND;VALUE=DATE:20191214
DTSTAMP:20260422T180744
CREATED:20250527T155733Z
LAST-MODIFIED:20250619T202612Z
UID:10001251-1574640000-1576281599@cglj.org
SUMMARY:CERD Committee 100th Sess
DESCRIPTION:The Committee on the Elimination of Racial Discrimination will hold its 100th Session from November 25 to December 13\, 2019.
URL:https://cglj.org/event/cerd-committee-100th-sess/
CATEGORIES:Review of State Reports
END:VEVENT
BEGIN:VEVENT
DTSTART;VALUE=DATE:20191125
DTEND;VALUE=DATE:20191204
DTSTAMP:20260422T180744
CREATED:20250527T155735Z
LAST-MODIFIED:20250619T202614Z
UID:10001252-1574640000-1575417599@cglj.org
SUMMARY:IE on older persons (China)
DESCRIPTION:The Independent Expert on the enjoyment of all human rights by older persons agreed to visit China from November 25 to December 3\, 2019.
URL:https://cglj.org/event/ie-on-older-persons-china/
CATEGORIES:Country Visits
END:VEVENT
BEGIN:VEVENT
DTSTART;VALUE=DATE:20191128
DTEND;VALUE=DATE:20191207
DTSTAMP:20260422T180744
CREATED:20250527T155735Z
LAST-MODIFIED:20250619T202602Z
UID:10001249-1574899200-1575676799@cglj.org
SUMMARY:SR on health (Fiji)
DESCRIPTION:The Special Rapporteur on the right of everyone to the enjoyment of the highest attainable standard of physical and mental health agreed to visit Fiji from November 28 to December 6\, 2019.
URL:https://cglj.org/event/sr-on-health-fiji/
CATEGORIES:Country Visits
END:VEVENT
BEGIN:VEVENT
DTSTART;VALUE=DATE:20191129
DTEND;VALUE=DATE:20191213
DTSTAMP:20260422T180744
CREATED:20250527T155735Z
LAST-MODIFIED:20250619T202558Z
UID:10001247-1574985600-1576195199@cglj.org
SUMMARY:SR safe drinking water (Benin)
DESCRIPTION:The UN Special Rapporteur on the human rights to safe drinking water and sanitation agreed to visit Benin from November 29 to December 12\, 2019
URL:https://cglj.org/event/sr-safe-drinking-water-benin/
CATEGORIES:Country Visits
END:VEVENT
BEGIN:VEVENT
DTSTART;VALUE=DATE:20191129
DTEND;VALUE=DATE:20191210
DTSTAMP:20260422T180744
CREATED:20250527T155735Z
LAST-MODIFIED:20250619T202600Z
UID:10001248-1574985600-1575935999@cglj.org
SUMMARY:UN SR violence against women
DESCRIPTION:The UN Special Rapporteur on violence against women\, its causes and consequences agreed to visit Ecuador from November 29 to December 9\, 2019.
URL:https://cglj.org/event/un-sr-violence-against-women/
CATEGORIES:Country Visits
END:VEVENT
BEGIN:VEVENT
DTSTART;VALUE=DATE:20191201
DTEND;VALUE=DATE:20191202
DTSTAMP:20260422T180744
CREATED:20250527T155556Z
LAST-MODIFIED:20250723T012851Z
UID:10000758-1575158400-1575244799@cglj.org
SUMMARY:World AIDS Day
DESCRIPTION:World AIDS Day is observed on December 1.
URL:https://cglj.org/event/world-aids-day/2019-12-01/
CATEGORIES:Social & Cultural Events
END:VEVENT
END:VCALENDAR