BEGIN:VCALENDAR
VERSION:2.0
PRODID:-//Center for Global Law and Justice | Resource Hub - ECPv6.15.17.1//NONSGML v1.0//EN
CALSCALE:GREGORIAN
METHOD:PUBLISH
X-WR-CALNAME:Center for Global Law and Justice | Resource Hub
X-ORIGINAL-URL:https://cglj.org
X-WR-CALDESC:Events for Center for Global Law and Justice | Resource Hub
REFRESH-INTERVAL;VALUE=DURATION:PT1H
X-Robots-Tag:noindex
X-PUBLISHED-TTL:PT1H
BEGIN:VTIMEZONE
TZID:America/Denver
BEGIN:DAYLIGHT
TZOFFSETFROM:-0700
TZOFFSETTO:-0600
TZNAME:MDT
DTSTART:20180311T090000
END:DAYLIGHT
BEGIN:STANDARD
TZOFFSETFROM:-0600
TZOFFSETTO:-0700
TZNAME:MST
DTSTART:20181104T080000
END:STANDARD
BEGIN:DAYLIGHT
TZOFFSETFROM:-0700
TZOFFSETTO:-0600
TZNAME:MDT
DTSTART:20190310T090000
END:DAYLIGHT
BEGIN:STANDARD
TZOFFSETFROM:-0600
TZOFFSETTO:-0700
TZNAME:MST
DTSTART:20191103T080000
END:STANDARD
BEGIN:DAYLIGHT
TZOFFSETFROM:-0700
TZOFFSETTO:-0600
TZNAME:MDT
DTSTART:20200308T090000
END:DAYLIGHT
BEGIN:STANDARD
TZOFFSETFROM:-0600
TZOFFSETTO:-0700
TZNAME:MST
DTSTART:20201101T080000
END:STANDARD
END:VTIMEZONE
BEGIN:VEVENT
DTSTART;VALUE=DATE:20191021
DTEND;VALUE=DATE:20191111
DTSTAMP:20260422T213258
CREATED:20250527T155733Z
LAST-MODIFIED:20250619T202721Z
UID:10001270-1571616000-1573430399@cglj.org
SUMMARY:ACHPR 65th Ordinary Session
DESCRIPTION:The African Commission on Human and Peoples‚Äô Rights will hold its 65th Ordinary Session from October 21 to November 10\, 2019 in Banjul\, The Gambia.
URL:https://cglj.org/event/achpr-65th-ordinary-session/
CATEGORIES:Deliberative Sessions
END:VEVENT
BEGIN:VEVENT
DTSTART;VALUE=DATE:20191103
DTEND;VALUE=DATE:20191115
DTSTAMP:20260422T213258
CREATED:20250527T155733Z
LAST-MODIFIED:20250619T202710Z
UID:10001267-1572739200-1573775999@cglj.org
SUMMARY:WG arbitrary detention
DESCRIPTION:The Working Group on arbitrary detention agreed to visit Qatar from November 3 to 14\, 2019.
URL:https://cglj.org/event/wg-arbitrary-detention-6/
CATEGORIES:Country Visits
END:VEVENT
BEGIN:VEVENT
DTSTART;VALUE=DATE:20191104
DTEND;VALUE=DATE:20191130
DTSTAMP:20260422T213258
CREATED:20250527T155733Z
LAST-MODIFIED:20250619T202703Z
UID:10001265-1572825600-1575071999@cglj.org
SUMMARY:AfCHPR 55th Ordinary Session
DESCRIPTION:The African Court of Human and Peoples’ Rights will hold its 55th Ordinary Session from November 4 to 29\, 2019 in Zanzibar\, Tanzania.
URL:https://cglj.org/event/afchpr-55th-ordinary-session/
CATEGORIES:Deliberative Sessions
END:VEVENT
BEGIN:VEVENT
DTSTART;VALUE=DATE:20191104
DTEND;VALUE=DATE:20191112
DTSTAMP:20260422T213258
CREATED:20250527T155733Z
LAST-MODIFIED:20250619T202707Z
UID:10001266-1572825600-1573516799@cglj.org
SUMMARY:WG on UPR 34th Session
DESCRIPTION:The Working Group on the Universal Periodic Review will hold its 34th Session from November 4 – 11\, 2019 in Geneva\, Switzerland.
URL:https://cglj.org/event/wg-on-upr-34th-session/
CATEGORIES:Deliberative Sessions
END:VEVENT
BEGIN:VEVENT
DTSTART;VALUE=DATE:20191108
DTEND;VALUE=DATE:20191115
DTSTAMP:20260422T213258
CREATED:20250527T155735Z
LAST-MODIFIED:20250619T202656Z
UID:10001263-1573171200-1573775999@cglj.org
SUMMARY:IACHR 174th Period of Sessions
DESCRIPTION:The Inter-American Commission on Human Rights will hold its 174th Period of Session in Quito\, Ecuador from November 8 to 14\, 2019.
URL:https://cglj.org/event/iachr-174th-period-of-sessions/
CATEGORIES:Deliberative Sessions
END:VEVENT
END:VCALENDAR