BEGIN:VCALENDAR
VERSION:2.0
PRODID:-//Center for Global Law and Justice | Resource Hub - ECPv6.15.17.1//NONSGML v1.0//EN
CALSCALE:GREGORIAN
METHOD:PUBLISH
X-ORIGINAL-URL:https://cglj.org
X-WR-CALDESC:Events for Center for Global Law and Justice | Resource Hub
REFRESH-INTERVAL;VALUE=DURATION:PT1H
X-Robots-Tag:noindex
X-PUBLISHED-TTL:PT1H
BEGIN:VTIMEZONE
TZID:America/Denver
BEGIN:DAYLIGHT
TZOFFSETFROM:-0700
TZOFFSETTO:-0600
TZNAME:MDT
DTSTART:20180311T090000
END:DAYLIGHT
BEGIN:STANDARD
TZOFFSETFROM:-0600
TZOFFSETTO:-0700
TZNAME:MST
DTSTART:20181104T080000
END:STANDARD
BEGIN:DAYLIGHT
TZOFFSETFROM:-0700
TZOFFSETTO:-0600
TZNAME:MDT
DTSTART:20190310T090000
END:DAYLIGHT
BEGIN:STANDARD
TZOFFSETFROM:-0600
TZOFFSETTO:-0700
TZNAME:MST
DTSTART:20191103T080000
END:STANDARD
BEGIN:DAYLIGHT
TZOFFSETFROM:-0700
TZOFFSETTO:-0600
TZNAME:MDT
DTSTART:20200308T090000
END:DAYLIGHT
BEGIN:STANDARD
TZOFFSETFROM:-0600
TZOFFSETTO:-0700
TZNAME:MST
DTSTART:20201101T080000
END:STANDARD
END:VTIMEZONE
BEGIN:VEVENT
DTSTART;VALUE=DATE:20191014
DTEND;VALUE=DATE:20191109
DTSTAMP:20260423T015147
CREATED:20250527T155731Z
LAST-MODIFIED:20250619T202747Z
UID:10001276-1571011200-1573257599@cglj.org
SUMMARY:Human Rights Committee
DESCRIPTION:The Human Rights Committee will hold its 127th Session from October 14 to November 8\, 2019 in Geneva\, Switzerland to review Belgium\, Cabo Verde\, Central African Republic\, Czech Republic\, Mexico\, Senegal\, Afghanistan\, Croatia\, and Spain.
URL:https://cglj.org/event/human-rights-committee/
CATEGORIES:Review of State Reports
END:VEVENT
BEGIN:VEVENT
DTSTART;VALUE=DATE:20191021
DTEND;VALUE=DATE:20191109
DTSTAMP:20260423T015147
CREATED:20250527T155731Z
LAST-MODIFIED:20250619T202723Z
UID:10001271-1571616000-1573257599@cglj.org
SUMMARY:CEDAW Committee 74th Session
DESCRIPTION:The Committee on the Elimination of Discrimination against Women will hold its 74th Session from October 21 to November 8\, 2019 in Geneva\, Switzerland to review Andorra\, Bosnia and Herzegovina\, Cambodia\, Iraq\, Kazakhstan\, Lithuania\, and Seychelles.
URL:https://cglj.org/event/cedaw-committee-74th-session/
CATEGORIES:Review of State Reports
END:VEVENT
BEGIN:VEVENT
DTSTART;VALUE=DATE:20191021
DTEND;VALUE=DATE:20191030
DTSTAMP:20260423T015147
CREATED:20250527T155731Z
LAST-MODIFIED:20250619T202732Z
UID:10001273-1571616000-1572393599@cglj.org
SUMMARY:SR sale of children (Gambia)
DESCRIPTION:The UN Special Rapporteur on the sale and sexual exploitation of children agreed to visit the Gambia from October 21 to October 29\, 2019.
URL:https://cglj.org/event/sr-sale-of-children-gambia/
CATEGORIES:Country Visits
END:VEVENT
BEGIN:VEVENT
DTSTART;VALUE=DATE:20191021
DTEND;VALUE=DATE:20191026
DTSTAMP:20260423T015147
CREATED:20250527T155731Z
LAST-MODIFIED:20250619T202740Z
UID:10001275-1571616000-1572047999@cglj.org
SUMMARY:CESCR Pre-Sess WG 65th Session
DESCRIPTION:The Committee on Economic\, Social and Cultural Rights Pre-sessional Working Group will hold its 65th Session from October 21 to October 25\, 2019 in Geneva\, Switzerland.
URL:https://cglj.org/event/cescr-pre-sess-wg-65th-session/
CATEGORIES:Review of State Reports
END:VEVENT
BEGIN:VEVENT
DTSTART;VALUE=DATE:20191021
DTEND;VALUE=DATE:20191111
DTSTAMP:20260423T015147
CREATED:20250527T155733Z
LAST-MODIFIED:20250619T202721Z
UID:10001270-1571616000-1573430399@cglj.org
SUMMARY:ACHPR 65th Ordinary Session
DESCRIPTION:The African Commission on Human and Peoples‚Äô Rights will hold its 65th Ordinary Session from October 21 to November 10\, 2019 in Banjul\, The Gambia.
URL:https://cglj.org/event/achpr-65th-ordinary-session/
CATEGORIES:Deliberative Sessions
END:VEVENT
BEGIN:VEVENT
DTSTART;VALUE=DATE:20191021
DTEND;VALUE=DATE:20191102
DTSTAMP:20260423T015147
CREATED:20250527T155733Z
LAST-MODIFIED:20250619T202727Z
UID:10001272-1571616000-1572652799@cglj.org
SUMMARY:WG Durban Declaration 17 Sess
DESCRIPTION:Intergovernmental Working Group on the effective implementation of the Durban Declaration and Programme of Action will hold its 17th Session from October 21 to November 1\, 2019 in Geneva\, Switzerland.
URL:https://cglj.org/event/wg-durban-declaration-17-sess/
CATEGORIES:Deliberative Sessions
END:VEVENT
BEGIN:VEVENT
DTSTART;VALUE=DATE:20191021
DTEND;VALUE=DATE:20191026
DTSTAMP:20260423T015147
CREATED:20250527T155733Z
LAST-MODIFIED:20250619T202736Z
UID:10001274-1571616000-1572047999@cglj.org
SUMMARY:WG women discrimination
DESCRIPTION:Working Group on discrimination against women and girls will hold its 26th Session from October 21 to October 25\, 2019 in Geneva\, Switzerland.
URL:https://cglj.org/event/wg-women-discrimination/
CATEGORIES:Deliberative Sessions
END:VEVENT
END:VCALENDAR