BEGIN:VCALENDAR
VERSION:2.0
PRODID:-//Center for Global Law and Justice | Resource Hub - ECPv6.15.17.1//NONSGML v1.0//EN
CALSCALE:GREGORIAN
METHOD:PUBLISH
X-ORIGINAL-URL:https://cglj.org
X-WR-CALDESC:Events for Center for Global Law and Justice | Resource Hub
REFRESH-INTERVAL;VALUE=DURATION:PT1H
X-Robots-Tag:noindex
X-PUBLISHED-TTL:PT1H
BEGIN:VTIMEZONE
TZID:America/Denver
BEGIN:DAYLIGHT
TZOFFSETFROM:-0700
TZOFFSETTO:-0600
TZNAME:MDT
DTSTART:20180311T090000
END:DAYLIGHT
BEGIN:STANDARD
TZOFFSETFROM:-0600
TZOFFSETTO:-0700
TZNAME:MST
DTSTART:20181104T080000
END:STANDARD
BEGIN:DAYLIGHT
TZOFFSETFROM:-0700
TZOFFSETTO:-0600
TZNAME:MDT
DTSTART:20190310T090000
END:DAYLIGHT
BEGIN:STANDARD
TZOFFSETFROM:-0600
TZOFFSETTO:-0700
TZNAME:MST
DTSTART:20191103T080000
END:STANDARD
BEGIN:DAYLIGHT
TZOFFSETFROM:-0700
TZOFFSETTO:-0600
TZNAME:MDT
DTSTART:20200308T090000
END:DAYLIGHT
BEGIN:STANDARD
TZOFFSETFROM:-0600
TZOFFSETTO:-0700
TZNAME:MST
DTSTART:20201101T080000
END:STANDARD
END:VTIMEZONE
BEGIN:VEVENT
DTSTART;VALUE=DATE:20191014
DTEND;VALUE=DATE:20191109
DTSTAMP:20260423T015149
CREATED:20250527T155731Z
LAST-MODIFIED:20250619T202747Z
UID:10001276-1571011200-1573257599@cglj.org
SUMMARY:Human Rights Committee
DESCRIPTION:The Human Rights Committee will hold its 127th Session from October 14 to November 8\, 2019 in Geneva\, Switzerland to review Belgium\, Cabo Verde\, Central African Republic\, Czech Republic\, Mexico\, Senegal\, Afghanistan\, Croatia\, and Spain.
URL:https://cglj.org/event/human-rights-committee/
CATEGORIES:Review of State Reports
END:VEVENT
BEGIN:VEVENT
DTSTART;VALUE=DATE:20191014
DTEND;VALUE=DATE:20191025
DTSTAMP:20260423T015149
CREATED:20250527T155731Z
LAST-MODIFIED:20250619T202749Z
UID:10001277-1571011200-1571961599@cglj.org
SUMMARY:SR indigenous peoples (Congo)
DESCRIPTION:The UN Special Rapporteur on the rights of indigenous peoples agreed to visit the Congo from October 14 to October 24\, 2019.
URL:https://cglj.org/event/sr-indigenous-peoples-congo/
CATEGORIES:Country Visits
END:VEVENT
BEGIN:VEVENT
DTSTART;VALUE=DATE:20191014
DTEND;VALUE=DATE:20191022
DTSTAMP:20260423T015149
CREATED:20250527T155731Z
LAST-MODIFIED:20250619T202753Z
UID:10001278-1571011200-1571702399@cglj.org
SUMMARY:SR violence against women
DESCRIPTION:The UN Special Rapporteur on violence against women\, its causes and consequences agreed to visit Bulgaria from October 14 to October 21\, 2019.
URL:https://cglj.org/event/sr-violence-against-women-3/
CATEGORIES:Country Visits
END:VEVENT
END:VCALENDAR