BEGIN:VCALENDAR
VERSION:2.0
PRODID:-//Center for Global Law and Justice | Resource Hub - ECPv6.15.17.1//NONSGML v1.0//EN
CALSCALE:GREGORIAN
METHOD:PUBLISH
X-ORIGINAL-URL:https://cglj.org
X-WR-CALDESC:Events for Center for Global Law and Justice | Resource Hub
REFRESH-INTERVAL;VALUE=DURATION:PT1H
X-Robots-Tag:noindex
X-PUBLISHED-TTL:PT1H
BEGIN:VTIMEZONE
TZID:America/Denver
BEGIN:DAYLIGHT
TZOFFSETFROM:-0700
TZOFFSETTO:-0600
TZNAME:MDT
DTSTART:20180311T090000
END:DAYLIGHT
BEGIN:STANDARD
TZOFFSETFROM:-0600
TZOFFSETTO:-0700
TZNAME:MST
DTSTART:20181104T080000
END:STANDARD
BEGIN:DAYLIGHT
TZOFFSETFROM:-0700
TZOFFSETTO:-0600
TZNAME:MDT
DTSTART:20190310T090000
END:DAYLIGHT
BEGIN:STANDARD
TZOFFSETFROM:-0600
TZOFFSETTO:-0700
TZNAME:MST
DTSTART:20191103T080000
END:STANDARD
BEGIN:DAYLIGHT
TZOFFSETFROM:-0700
TZOFFSETTO:-0600
TZNAME:MDT
DTSTART:20200308T090000
END:DAYLIGHT
BEGIN:STANDARD
TZOFFSETFROM:-0600
TZOFFSETTO:-0700
TZNAME:MST
DTSTART:20201101T080000
END:STANDARD
END:VTIMEZONE
BEGIN:VEVENT
DTSTART;VALUE=DATE:20190930
DTEND;VALUE=DATE:20191019
DTSTAMP:20260423T015143
CREATED:20250527T155728Z
LAST-MODIFIED:20250619T202824Z
UID:10001284-1569801600-1571443199@cglj.org
SUMMARY:CESCR 66th Session
DESCRIPTION:The Committee on Economic\, Social\, and Cultural Rights will hold its 66th Session from September 30 – October 18\, 2019 in Geneva\, Switzerland to review Denmark\, Ecuador\, Guinea\, Israel\, Senegal\, Slovakia\, and Switzerland.
URL:https://cglj.org/event/cescr-66th-session/
CATEGORIES:Review of State Reports
END:VEVENT
BEGIN:VEVENT
DTSTART;VALUE=DATE:20191007
DTEND;VALUE=DATE:20191019
DTSTAMP:20260423T015143
CREATED:20250527T155733Z
LAST-MODIFIED:20250619T202809Z
UID:10001281-1570406400-1571443199@cglj.org
SUMMARY:IACtHR 131st Session
DESCRIPTION:The Inter-American Court of Human Rights (IACtHR) will hold its 131st Regular Session from October 7 to October 18\, 2019 at its seat in San Jos√©\, Costa Rica.
URL:https://cglj.org/event/iacthr-131st-session/
CATEGORIES:Deliberative Sessions
END:VEVENT
BEGIN:VEVENT
DTSTART;VALUE=DATE:20191013
DTEND;VALUE=DATE:20191014
DTSTAMP:20260423T015143
CREATED:20250527T155554Z
LAST-MODIFIED:20250723T013250Z
UID:10000582-1570924800-1571011199@cglj.org
SUMMARY:Disaster Reduction Day
DESCRIPTION:International Day for Disaster Reduction is observed on October 13.
URL:https://cglj.org/event/disaster-reduction-day/2019-10-13/
CATEGORIES:Social & Cultural Events
END:VEVENT
END:VCALENDAR