BEGIN:VCALENDAR
VERSION:2.0
PRODID:-//Center for Global Law and Justice | Resource Hub - ECPv6.15.17.1//NONSGML v1.0//EN
CALSCALE:GREGORIAN
METHOD:PUBLISH
X-WR-CALNAME:Center for Global Law and Justice | Resource Hub
X-ORIGINAL-URL:https://cglj.org
X-WR-CALDESC:Events for Center for Global Law and Justice | Resource Hub
REFRESH-INTERVAL;VALUE=DURATION:PT1H
X-Robots-Tag:noindex
X-PUBLISHED-TTL:PT1H
BEGIN:VTIMEZONE
TZID:America/Denver
BEGIN:DAYLIGHT
TZOFFSETFROM:-0700
TZOFFSETTO:-0600
TZNAME:MDT
DTSTART:20180311T090000
END:DAYLIGHT
BEGIN:STANDARD
TZOFFSETFROM:-0600
TZOFFSETTO:-0700
TZNAME:MST
DTSTART:20181104T080000
END:STANDARD
BEGIN:DAYLIGHT
TZOFFSETFROM:-0700
TZOFFSETTO:-0600
TZNAME:MDT
DTSTART:20190310T090000
END:DAYLIGHT
BEGIN:STANDARD
TZOFFSETFROM:-0600
TZOFFSETTO:-0700
TZNAME:MST
DTSTART:20191103T080000
END:STANDARD
BEGIN:DAYLIGHT
TZOFFSETFROM:-0700
TZOFFSETTO:-0600
TZNAME:MDT
DTSTART:20200308T090000
END:DAYLIGHT
BEGIN:STANDARD
TZOFFSETFROM:-0600
TZOFFSETTO:-0700
TZNAME:MST
DTSTART:20201101T080000
END:STANDARD
END:VTIMEZONE
BEGIN:VEVENT
DTSTART;VALUE=DATE:20190930
DTEND;VALUE=DATE:20191019
DTSTAMP:20260423T022145
CREATED:20250527T155728Z
LAST-MODIFIED:20250619T202824Z
UID:10001284-1569801600-1571443199@cglj.org
SUMMARY:CESCR 66th Session
DESCRIPTION:The Committee on Economic\, Social\, and Cultural Rights will hold its 66th Session from September 30 – October 18\, 2019 in Geneva\, Switzerland to review Denmark\, Ecuador\, Guinea\, Israel\, Senegal\, Slovakia\, and Switzerland.
URL:https://cglj.org/event/cescr-66th-session/
CATEGORIES:Review of State Reports
END:VEVENT
BEGIN:VEVENT
DTSTART;VALUE=DATE:20190930
DTEND;VALUE=DATE:20191012
DTSTAMP:20260423T022145
CREATED:20250527T155728Z
LAST-MODIFIED:20250619T202828Z
UID:10001285-1569801600-1570838399@cglj.org
SUMMARY:CED 17th Session
DESCRIPTION:The Committee on Enforced Disappearances will hold its 17th Session from September 30 to October 11\, 2019 in Geneva\, Switzerland to review Bolivia\, Slovakia\, Nigeria\, Mongolia\, and Switzerland.
URL:https://cglj.org/event/ced-17th-session/
CATEGORIES:Review of State Reports
END:VEVENT
BEGIN:VEVENT
DTSTART;VALUE=DATE:20190930
DTEND;VALUE=DATE:20191005
DTSTAMP:20260423T022145
CREATED:20250527T155728Z
LAST-MODIFIED:20250625T175841Z
UID:10001287-1569801600-1570233599@cglj.org
SUMMARY:WG trans corps 24th session
DESCRIPTION:The Working Group on the issue of human rights transnational corporations and other business enterprises will hold its 24th Session from September 30 to October 4\, 2019 in Geneva\, Switzerland.
URL:https://cglj.org/event/wg-trans-corps-24th-session/
CATEGORIES:Deliberative Sessions
END:VEVENT
BEGIN:VEVENT
DTSTART;VALUE=DATE:20190930
DTEND;VALUE=DATE:20191005
DTSTAMP:20260423T022145
CREATED:20250527T155728Z
LAST-MODIFIED:20250625T175843Z
UID:10001288-1569801600-1570233599@cglj.org
SUMMARY:CRC Pre Sess WG 84th Session
DESCRIPTION:The Committee on the Rights of the Child Pre-Sessional Working Group will hold its 84th Session from 30 September to October 4\, 2019 in Geneva\, Switzerland to review Afghanistan\, Cambodia\, Cyprus\, Czech Republic\, Eswatini\, Tunisia\, the Netherlands\, and Switzerland.
URL:https://cglj.org/event/crc-pre-sess-wg-84th-session/
CATEGORIES:Review of State Reports
END:VEVENT
BEGIN:VEVENT
DTSTART;VALUE=DATE:20190930
DTEND;VALUE=DATE:20191005
DTSTAMP:20260423T022145
CREATED:20250527T155733Z
LAST-MODIFIED:20250619T202834Z
UID:10001286-1569801600-1570233599@cglj.org
SUMMARY:WG business 24th Session
DESCRIPTION:Working Group on the issue of human rights and transnational corporations and other business enterprises will hold its 24th Session from September 30 to October 4\, 2019 in Geneva\, Switzerland.
URL:https://cglj.org/event/wg-business-24th-session/
CATEGORIES:Deliberative Sessions
END:VEVENT
BEGIN:VEVENT
DTSTART;VALUE=DATE:20191001
DTEND;VALUE=DATE:20191012
DTSTAMP:20260423T022145
CREATED:20250527T155731Z
LAST-MODIFIED:20250619T202820Z
UID:10001283-1569888000-1570838399@cglj.org
SUMMARY:SR food (Azerbaijan)
DESCRIPTION:The UN Special Rapporteur on the right to food agreed to visit Azerbaijan from October 1 to October 11\, 2019.
URL:https://cglj.org/event/sr-food-azerbaijan/
CATEGORIES:Country Visits
END:VEVENT
BEGIN:VEVENT
DTSTART;VALUE=DATE:20191002
DTEND;VALUE=DATE:20191012
DTSTAMP:20260423T022145
CREATED:20250527T155731Z
LAST-MODIFIED:20250619T202816Z
UID:10001282-1569974400-1570838399@cglj.org
SUMMARY:SR disability rights (Norway)
DESCRIPTION:The UN Special Rapporteur on the rights of persons with disabilities agreed to visit Norway from October 2 to October 11\, 2019.
URL:https://cglj.org/event/sr-disability-rights-norway/
CATEGORIES:Country Visits
END:VEVENT
END:VCALENDAR