BEGIN:VCALENDAR
VERSION:2.0
PRODID:-//Center for Global Law and Justice | Resource Hub - ECPv6.15.17.1//NONSGML v1.0//EN
CALSCALE:GREGORIAN
METHOD:PUBLISH
X-ORIGINAL-URL:https://cglj.org
X-WR-CALDESC:Events for Center for Global Law and Justice | Resource Hub
REFRESH-INTERVAL;VALUE=DURATION:PT1H
X-Robots-Tag:noindex
X-PUBLISHED-TTL:PT1H
BEGIN:VTIMEZONE
TZID:America/Denver
BEGIN:DAYLIGHT
TZOFFSETFROM:-0700
TZOFFSETTO:-0600
TZNAME:MDT
DTSTART:20180311T090000
END:DAYLIGHT
BEGIN:STANDARD
TZOFFSETFROM:-0600
TZOFFSETTO:-0700
TZNAME:MST
DTSTART:20181104T080000
END:STANDARD
BEGIN:DAYLIGHT
TZOFFSETFROM:-0700
TZOFFSETTO:-0600
TZNAME:MDT
DTSTART:20190310T090000
END:DAYLIGHT
BEGIN:STANDARD
TZOFFSETFROM:-0600
TZOFFSETTO:-0700
TZNAME:MST
DTSTART:20191103T080000
END:STANDARD
BEGIN:DAYLIGHT
TZOFFSETFROM:-0700
TZOFFSETTO:-0600
TZNAME:MDT
DTSTART:20200308T090000
END:DAYLIGHT
BEGIN:STANDARD
TZOFFSETFROM:-0600
TZOFFSETTO:-0700
TZNAME:MST
DTSTART:20201101T080000
END:STANDARD
END:VTIMEZONE
BEGIN:VEVENT
DTSTART;VALUE=DATE:20190923
DTEND;VALUE=DATE:20191003
DTSTAMP:20260423T104846
CREATED:20250527T155728Z
LAST-MODIFIED:20250625T175859Z
UID:10001293-1569196800-1570060799@cglj.org
SUMMARY:IACHR 173rd Period of Sessions
DESCRIPTION:The Inter-American Commission on Human Rights will hold its 173rd Period of Sessions from September 23 to October 2\, 2019 in Washington\, DC.
URL:https://cglj.org/event/iachr-173rd-period-of-sessions/
CATEGORIES:Deliberative Sessions
END:VEVENT
BEGIN:VEVENT
DTSTART;VALUE=DATE:20190923
DTEND;VALUE=DATE:20191003
DTSTAMP:20260423T104846
CREATED:20250527T155731Z
LAST-MODIFIED:20250625T175851Z
UID:10001291-1569196800-1570060799@cglj.org
SUMMARY:SR development (Switzerland)
DESCRIPTION:The UN Special Rapporteur on the right to development agreed to visit Switzerland from September 23 to October 2\, 2019.
URL:https://cglj.org/event/sr-development-switzerland/
CATEGORIES:Country Visits
END:VEVENT
BEGIN:VEVENT
DTSTART;VALUE=DATE:20190923
DTEND;VALUE=DATE:20191003
DTSTAMP:20260423T104846
CREATED:20250527T155731Z
LAST-MODIFIED:20250625T180008Z
UID:10001292-1569196800-1570060799@cglj.org
SUMMARY:SR racism (The Netherlands)
DESCRIPTION:The UN Special Rapporteur on contemporary forms of racism\, racial discrimination\, xenophobia and related intolerance agreed to visit The Netherlands from September 30 to October 7\, 2019.
URL:https://cglj.org/event/sr-racism-the-netherlands/
CATEGORIES:Country Visits
END:VEVENT
BEGIN:VEVENT
DTSTART;VALUE=DATE:20190924
DTEND;VALUE=DATE:20191002
DTSTAMP:20260423T104846
CREATED:20250527T155731Z
LAST-MODIFIED:20250625T175850Z
UID:10001290-1569283200-1569974399@cglj.org
SUMMARY:SR migrants-Bosnia&Herzegovina
DESCRIPTION:The Special Rapporteur on the human rights of migrants will visit Bosnia and Herzegovina from September 24 to October 1\, 2019.
URL:https://cglj.org/event/sr-migrants-bosniaherzegovina/
CATEGORIES:Country Visits
END:VEVENT
END:VCALENDAR