BEGIN:VCALENDAR
VERSION:2.0
PRODID:-//Center for Global Law and Justice | Resource Hub - ECPv6.15.17.1//NONSGML v1.0//EN
CALSCALE:GREGORIAN
METHOD:PUBLISH
X-WR-CALNAME:Center for Global Law and Justice | Resource Hub
X-ORIGINAL-URL:https://cglj.org
X-WR-CALDESC:Events for Center for Global Law and Justice | Resource Hub
REFRESH-INTERVAL;VALUE=DURATION:PT1H
X-Robots-Tag:noindex
X-PUBLISHED-TTL:PT1H
BEGIN:VTIMEZONE
TZID:America/Denver
BEGIN:DAYLIGHT
TZOFFSETFROM:-0700
TZOFFSETTO:-0600
TZNAME:MDT
DTSTART:20180311T090000
END:DAYLIGHT
BEGIN:STANDARD
TZOFFSETFROM:-0600
TZOFFSETTO:-0700
TZNAME:MST
DTSTART:20181104T080000
END:STANDARD
BEGIN:DAYLIGHT
TZOFFSETFROM:-0700
TZOFFSETTO:-0600
TZNAME:MDT
DTSTART:20190310T090000
END:DAYLIGHT
BEGIN:STANDARD
TZOFFSETFROM:-0600
TZOFFSETTO:-0700
TZNAME:MST
DTSTART:20191103T080000
END:STANDARD
BEGIN:DAYLIGHT
TZOFFSETFROM:-0700
TZOFFSETTO:-0600
TZNAME:MDT
DTSTART:20200308T090000
END:DAYLIGHT
BEGIN:STANDARD
TZOFFSETFROM:-0600
TZOFFSETTO:-0700
TZNAME:MST
DTSTART:20201101T080000
END:STANDARD
END:VTIMEZONE
BEGIN:VEVENT
DTSTART;VALUE=DATE:20190902
DTEND;VALUE=DATE:20190928
DTSTAMP:20260423T022141
CREATED:20250527T155728Z
LAST-MODIFIED:20250626T002628Z
UID:10001309-1567382400-1569628799@cglj.org
SUMMARY:AfCHPR 54th Ordinary Session
DESCRIPTION:The African Court on Human and Peoples’ Rights will hold its 54th Ordinary Session from September 2 to September 27\, 2019 in Arusha\, Tanzania.
URL:https://cglj.org/event/afchpr-54th-ordinary-session/
CATEGORIES:Deliberative Sessions
END:VEVENT
BEGIN:VEVENT
DTSTART;VALUE=DATE:20190909
DTEND;VALUE=DATE:20190928
DTSTAMP:20260423T022141
CREATED:20250527T155728Z
LAST-MODIFIED:20250625T175951Z
UID:10001306-1567987200-1569628799@cglj.org
SUMMARY:CRC 82nd Session
DESCRIPTION:The Committee on the Rights of the Child will hold its 82nd Session from September 9 to September 27\, 2019 in Geneva\, Switzerland to review Australia\, Bosnia and Herzegovina\, Mozambique\, Portugal\, Republic of Korea\, Georgia\, and Panama.
URL:https://cglj.org/event/crc-82nd-session/
CATEGORIES:Review of State Reports
END:VEVENT
BEGIN:VEVENT
DTSTART;VALUE=DATE:20190909
DTEND;VALUE=DATE:20190928
DTSTAMP:20260423T022141
CREATED:20250527T155728Z
LAST-MODIFIED:20250626T002620Z
UID:10001307-1567987200-1569628799@cglj.org
SUMMARY:Human Rights Council 42nd
DESCRIPTION:The Human Rights Council will hold its 42nd Session from September 9 to September 27\, 2019 in Geneva\, Switzerland where it will  present human rights reports\, conduct interactive discussions and panels on issue areas\, and review UPR reports.
URL:https://cglj.org/event/human-rights-council-42nd/
CATEGORIES:Deliberative Sessions
END:VEVENT
BEGIN:VEVENT
DTSTART;VALUE=DATE:20190912
DTEND;VALUE=DATE:20190924
DTSTAMP:20260423T022141
CREATED:20250527T155731Z
LAST-MODIFIED:20250625T175942Z
UID:10001304-1568246400-1569283199@cglj.org
SUMMARY:SR environment (Norway)
DESCRIPTION:The Special Rapporteur on human rights and the environment will visit Norway from September 12 to September 23\, 2019.
URL:https://cglj.org/event/sr-environment-norway/
CATEGORIES:Country Visits
END:VEVENT
BEGIN:VEVENT
DTSTART;VALUE=DATE:20190913
DTEND;VALUE=DATE:20190924
DTSTAMP:20260423T022141
CREATED:20250527T155731Z
LAST-MODIFIED:20250625T175940Z
UID:10001303-1568332800-1569283199@cglj.org
SUMMARY:SR housing (Nigeria)
DESCRIPTION:The Special Rapporteur on adequate housing as a component of the right to an adequate standard of living\, and on the right to non-discrimination in this context will visit Nigeria from September 13 to September 23\, 2019.
URL:https://cglj.org/event/sr-housing-nigeria/
CATEGORIES:Country Visits
END:VEVENT
BEGIN:VEVENT
DTSTART;VALUE=DATE:20190915
DTEND;VALUE=DATE:20190916
DTSTAMP:20260423T022141
CREATED:20250527T155554Z
LAST-MODIFIED:20250723T013334Z
UID:10000470-1568505600-1568591999@cglj.org
SUMMARY:International Democracy Day
DESCRIPTION:International Democracy Day is observed on September 15.
URL:https://cglj.org/event/international-democracy-day/2019-09-15/
CATEGORIES:Social & Cultural Events
END:VEVENT
END:VCALENDAR