BEGIN:VCALENDAR
VERSION:2.0
PRODID:-//Center for Global Law and Justice | Resource Hub - ECPv6.15.17.1//NONSGML v1.0//EN
CALSCALE:GREGORIAN
METHOD:PUBLISH
X-ORIGINAL-URL:https://cglj.org
X-WR-CALDESC:Events for Center for Global Law and Justice | Resource Hub
REFRESH-INTERVAL;VALUE=DURATION:PT1H
X-Robots-Tag:noindex
X-PUBLISHED-TTL:PT1H
BEGIN:VTIMEZONE
TZID:America/Denver
BEGIN:DAYLIGHT
TZOFFSETFROM:-0700
TZOFFSETTO:-0600
TZNAME:MDT
DTSTART:20180311T090000
END:DAYLIGHT
BEGIN:STANDARD
TZOFFSETFROM:-0600
TZOFFSETTO:-0700
TZNAME:MST
DTSTART:20181104T080000
END:STANDARD
BEGIN:DAYLIGHT
TZOFFSETFROM:-0700
TZOFFSETTO:-0600
TZNAME:MDT
DTSTART:20190310T090000
END:DAYLIGHT
BEGIN:STANDARD
TZOFFSETFROM:-0600
TZOFFSETTO:-0700
TZNAME:MST
DTSTART:20191103T080000
END:STANDARD
BEGIN:DAYLIGHT
TZOFFSETFROM:-0700
TZOFFSETTO:-0600
TZNAME:MDT
DTSTART:20200308T090000
END:DAYLIGHT
BEGIN:STANDARD
TZOFFSETFROM:-0600
TZOFFSETTO:-0700
TZNAME:MST
DTSTART:20201101T080000
END:STANDARD
END:VTIMEZONE
BEGIN:VEVENT
DTSTART;VALUE=DATE:20190701
DTEND;VALUE=DATE:20190720
DTSTAMP:20260423T104849
CREATED:20250626T003248Z
LAST-MODIFIED:20250626T003948Z
UID:10001335-1561939200-1563580799@cglj.org
SUMMARY:CEDAW Comm 73rd Session
DESCRIPTION:The Committee on the Elimination of Discrimination Against Women will hold its 73rd Session from July 1 to 19\, 2019 in Geneva\, Switzerland to review Austria\, Cabo Verde\, C√¥te d’Ivoire\, DRC\, Guyana\, Mozambique\, and Qatar.
URL:https://cglj.org/event/cedaw-comm-73rd-session/
CATEGORIES:Review of State Reports
END:VEVENT
BEGIN:VEVENT
DTSTART;VALUE=DATE:20190701
DTEND;VALUE=DATE:20190727
DTSTAMP:20260423T104849
CREATED:20250626T003248Z
LAST-MODIFIED:20250626T003946Z
UID:10001336-1561939200-1564185599@cglj.org
SUMMARY:Human Rights Comm 126 Session
DESCRIPTION:The Human Rights Committee will hold its 126th Session from July 1 to 26\, 2019 in Geneva\, Switzerland to review Mauritania\, Netherlands\, Paraguay\, Tajikistan\, Equatorial Guinea\, Nigeria\, Portugal\, Uzbekistan\, Chile\, Cyprus\, India\, and the Republic of Korea.
URL:https://cglj.org/event/human-rights-comm-126-session/
CATEGORIES:Review of State Reports
END:VEVENT
BEGIN:VEVENT
DTSTART;VALUE=DATE:20190710
DTEND;VALUE=DATE:20190718
DTSTAMP:20260423T104849
CREATED:20250626T003248Z
LAST-MODIFIED:20250626T003934Z
UID:10001331-1562716800-1563407999@cglj.org
SUMMARY:SR migrants' rights (Hungary)
DESCRIPTION:The Special Rapporteur on the human rights of migrants agreed to visit Hungary from July 10 to 17\, 2019.
URL:https://cglj.org/event/sr-migrants-rights-hungary/
CATEGORIES:Country Visits
END:VEVENT
BEGIN:VEVENT
DTSTART;VALUE=DATE:20190715
DTEND;VALUE=DATE:20190727
DTSTAMP:20260423T104849
CREATED:20250626T003247Z
LAST-MODIFIED:20250626T003627Z
UID:10001326-1563148800-1564185599@cglj.org
SUMMARY:SR assembly (Sri Lanka)
DESCRIPTION:The Special Rapporteur on the rights to freedom of peaceful assembly and of association agreed to visit Sri Lanka from July 15 to 26\, 2019.
URL:https://cglj.org/event/sr-assembly-sri-lanka/
CATEGORIES:Country Visits
END:VEVENT
BEGIN:VEVENT
DTSTART;VALUE=DATE:20190715
DTEND;VALUE=DATE:20190720
DTSTAMP:20260423T104849
CREATED:20250626T003247Z
LAST-MODIFIED:20250626T003923Z
UID:10001327-1563148800-1563580799@cglj.org
SUMMARY:Expert Mech Indigenous Peoples
DESCRIPTION:The Expert Mechanism on the Rights of Indigenous Peoples will hold its 12th Session from July 15 to 19\, 2019 in Geneva\, Switzerland.
URL:https://cglj.org/event/expert-mech-indigenous-peoples-2/
CATEGORIES:Deliberative Sessions
END:VEVENT
BEGIN:VEVENT
DTSTART;VALUE=DATE:20190715
DTEND;VALUE=DATE:20190720
DTSTAMP:20260423T104849
CREATED:20250626T003247Z
LAST-MODIFIED:20250626T003926Z
UID:10001328-1563148800-1563580799@cglj.org
SUMMARY:WG Mercenaries 37th Session
DESCRIPTION:The Working Group on the use of mercenaries as a means of violating human rights and impeding the exercise of the right of peoples to self-determination will hold its 37th Session from July 15 to 19\, 2019 in Geneva\, Switzerland.
URL:https://cglj.org/event/wg-mercenaries-37th-session/
CATEGORIES:Deliberative Sessions
END:VEVENT
END:VCALENDAR