BEGIN:VCALENDAR
VERSION:2.0
PRODID:-//Center for Global Law and Justice | Resource Hub - ECPv6.15.17.1//NONSGML v1.0//EN
CALSCALE:GREGORIAN
METHOD:PUBLISH
X-WR-CALNAME:Center for Global Law and Justice | Resource Hub
X-ORIGINAL-URL:https://cglj.org
X-WR-CALDESC:Events for Center for Global Law and Justice | Resource Hub
REFRESH-INTERVAL;VALUE=DURATION:PT1H
X-Robots-Tag:noindex
X-PUBLISHED-TTL:PT1H
BEGIN:VTIMEZONE
TZID:America/Denver
BEGIN:DAYLIGHT
TZOFFSETFROM:-0700
TZOFFSETTO:-0600
TZNAME:MDT
DTSTART:20180311T090000
END:DAYLIGHT
BEGIN:STANDARD
TZOFFSETFROM:-0600
TZOFFSETTO:-0700
TZNAME:MST
DTSTART:20181104T080000
END:STANDARD
BEGIN:DAYLIGHT
TZOFFSETFROM:-0700
TZOFFSETTO:-0600
TZNAME:MDT
DTSTART:20190310T090000
END:DAYLIGHT
BEGIN:STANDARD
TZOFFSETFROM:-0600
TZOFFSETTO:-0700
TZNAME:MST
DTSTART:20191103T080000
END:STANDARD
BEGIN:DAYLIGHT
TZOFFSETFROM:-0700
TZOFFSETTO:-0600
TZNAME:MDT
DTSTART:20200308T090000
END:DAYLIGHT
BEGIN:STANDARD
TZOFFSETFROM:-0600
TZOFFSETTO:-0700
TZNAME:MST
DTSTART:20201101T080000
END:STANDARD
END:VTIMEZONE
BEGIN:VEVENT
DTSTART;VALUE=DATE:20190610
DTEND;VALUE=DATE:20190706
DTSTAMP:20260424T002940
CREATED:20250527T155724Z
LAST-MODIFIED:20250626T004230Z
UID:10001352-1560124800-1562371199@cglj.org
SUMMARY:AfCHPR 53rd Ordinary Sess
DESCRIPTION:The African Court on Human and Peoples’ Rights will hold its 53rd Ordinary Session from June 10 to July 5\, 2019.
URL:https://cglj.org/event/afchpr-53rd-ordinary-sess/
CATEGORIES:Deliberative Sessions
END:VEVENT
BEGIN:VEVENT
DTSTART;VALUE=DATE:20190624
DTEND;VALUE=DATE:20190713
DTSTAMP:20260424T002940
CREATED:20250626T003250Z
LAST-MODIFIED:20250626T004025Z
UID:10001343-1561334400-1562975999@cglj.org
SUMMARY:HRC 41st Session
DESCRIPTION:The Human Rights Council will hold its 41st Session from June 24 to July 12\, 2019 in Geneva\, Switzerland.
URL:https://cglj.org/event/hrc-41st-session/
CATEGORIES:Deliberative Sessions
END:VEVENT
BEGIN:VEVENT
DTSTART;VALUE=DATE:20190630
DTEND;VALUE=DATE:20190701
DTSTAMP:20260424T002940
CREATED:20250626T003249Z
LAST-MODIFIED:20250626T003952Z
UID:10001338-1561852800-1561939199@cglj.org
SUMMARY:UN Asteroid Day
DESCRIPTION:The UN International Asteroid Day is observed on June 30\, 2019.
URL:https://cglj.org/event/un-asteroid-day/
CATEGORIES:Mechanism Session (Public)
END:VEVENT
END:VCALENDAR